Workbook
Name Catégorie: CaracVehicules!$A$5:$A$29
Name Chimie: FE_Specifiques!$I$3:$M$3
Name MateriauxAssise: Listes!$K$3:$K$86
Name MateriauxChassis: Listes!$G$3:$G$86
Name MateriauxJantes: Listes!$I$3:$I$86
Name Matière: Listes!$F$3:$F$86
Name Matière: #REF!
Name model_data: #REF!
Name ModesTransport: FE_Specifiques!$A$6:$A$22
Name Pays: FE_Specifiques!$D$6:$D$35
Name Roue: #REF!
Name ZonesAcier: FE_Specifiques!$D$6:$D$38

Sheet Notice
B4: Cet outil vise à calculer les émissions de GES des véhicules intermédiaires
B6: case en jaune : à compléter par le constructeur
B7: case en bleu : paramètres du calculateur
B9: Procédure d'utilisation simplifiée :
B10: Seul l'onglet "Tableau de bord est à compléter par les constructeurs.
B11: 1) Compléter la partie "Caractéristiques du véhicule" (+/- à gauche du tableur pour afficher/masquer cette partie)
B12: 2) Détailler les principaux matériaux composant le véhicule, et leurs origine
B13: 3) Si besoin, paramétrer les distances parcourues et durées de vie (+/- en haut du tableur pour afficher/masquer cette partie)
B14: 4) Consulter et analyser les résultats
B16: Détail des procédures, paramètres et hypothèses
B17: 1) Compléter la partie "Caractéristiques du véhicule" (+/- à gauche du tableur pour afficher/masquer cette partie)
B18: Les caractéristiques du cycle WMTC sont indiquée dans un onglet dédiée
... B21: 2) Détailler les principaux matériaux composant le véhicule, et leurs origine
B22: Composants | C22: Précisions sur les données collectées | E22: Précisions sur les données collectées
B23: Chassis, cadre, carosserie | C23: Y compris essieux. Origine = lieux de fabrication du matériau | E23: Y compris essieux. Origine = lieux de fabrication du matériau
B24: Batterie | C24: Y compris BMS. Origine = lieux d'assemblage des cellules en pack batterie. | E24: Y compris BMS. Origine = lieux d'assemblage des cellules en pack batterie.
B25: Moteur (+ génératrice) | C25: Origine = lieux d'assemblage du moteur | E25: Origine = lieux d'assemblage du moteur
B26: Moyeux | C26: Hors moyeux moteurs. Origine = lieux de fabrication du moyeu | E26: Hors moyeux moteurs. Origine = lieux de fabrication du moyeu
B27: Jantes | C27: Origine = lieux de fabrication de la jante | E27: Origine = lieux de fabrication de la jante
B28: Pneumatique + Chambre | C28: Origine = lieux de fabrication du pneumatique | E28: Origine = lieux de fabrication du pneumatique
B29: Assise | C29: Origine = lieux de fabrication de l'assise | E29: Origine = lieux de fabrication de l'assise
B30: Composants non détaillés | C30: électronique, freins, guidons, éclairages, … Calculé automatiquement | E30: électronique, freins, guidons, éclairages, … Calculé automatiquement
B32: 3) Si besoin, paramétrer les distances parcourues et durées de vie (+/- en haut du tableur pour afficher/masquer cette partie)
B33: Les distances et durées de vie par défaut ne permettent pas de comparer entre eux des véhicules de classe différente
B34: De plus, il est pêrtinent de pouvoir modéliser des cas d'usage spécifique.
B35: Il est donc possible de paramétrer le kilométrage total du véhicule sur sa vie
B36: Il est également possible de modifier la durée de vie de chaque composant, pour anticiper des besoins de remplacement
B37: Pour ce faire, il faut définir l'approche "Personnalisée" au lieu de "par défaut", et modifier les paramètres
B39: 4) Consulter et analyser les résultats
B40: Les résultats sont présentés avec plusieurs unités et périmètres
B41: A) Emissions à la fabrication
B42: Calcul des émissions à la fabrication du véhicule, en prenant également en compte le remplacement à venir des pneumatiques.
B43: Cette analyse permet de comparer 2 véhicules sans cas d'usage précis.
B44: Avec l'approche "Personnalisée", il est possible de prendre en compte ici le remplacement d'autres composants
... B54: Paramètres spécifiques du modèle :
B56: Durée de vie par défaut | C56: 30
B57: Kilométrage annuel X : | C57: selon catégorie de véhicule
B58: Hypothèses sur l'emport du véhicule (selon la capacité du véhicule)
B59: Taux de remplissage passagers | C59: 0.1 | D59: (hors conducteur)
B60: Taux de remplissage marchandises | C60: 0.3
B62: Le facteur d'émission des batteries est défini en fonction de la capacité en kWh. Un facteur d'émission par kg est calculé en fonction de la densité
B63: Le facteur d'émission des panneaux PV est défini en fonction de la puissance en Wc. Un facteur d'émission par kg est calculé en fonction de la densité
B65: Hypothèses de calcul des distances en fret routier
B66: Distance en fret routier Pays Origine | C66: 1000
B67: Distance en fret routier France | C67: 500
B69: Hypothèses de calcul de la consommation d'électricité
B70: Hypothèse sur l'énergie apportée par le pédalage : | C70: 100 | D70: W durant les phases de maintien de vitesse et d'accélération (WMTC)
B71: La réduction de consommation permise par les panneaux solaires PV est calculée sur la base d'une méthode approuvée par la Comission Européenne pour les technologies innovantes permettant de réduire les émissions de CO2 des voitures particulières, conformément au règlement (CE) no 443/2009
B73: Sources des facteurs d'émission :
B74: Batteries, Acier, Aluminium : Méthodologie ADEME pour le bonus écologique des voitures électriques - basé sur des données Ecoinvent
B75: Les facteurs d'émissions des batteries en kgCO2e/kg sont calculé à partir des émissions par kWh, du poids de la batterie et de sa capacité
B76: Transport des véhicules : Méthodologie ADEME pour le bonus écologique des voitures électriques - basé sur des données Base Empreinte
B77: Mix électrique pays : Méthodologie ADEME de l‘évaluation carbone simplifiée, AO CRE PPE2 - Ecoinvent 3.5, Méthode : IPCC2021GWP100ans, Sima Pro 9.3
B78: Autres facteurs d'émission : voir onglet FE_Autres
B80: Credits et droits d'utilisation
B81: Cet outil a été créé par Nicolas Planchenault (Kandeel), pour le compte de l'ADEME.
B82: Il est libre d'utilisation.
B86: Versions
B87: Numéro, date | C87: Notes de version
B88: v1.0, 13/09/2024 | C88: Première version, incluant les émissions à la fabrication et à l'utilisation du véhicule.
B89: v2.0, 28/10/2024 | C89: Correction du calcul de la production PV, améliorations mineures de forme.
B90: v3.0, 18/11/2024 | C90: - Intégration du coefficient de durabilité, - Séparation du renouvellement des pneumatiques dans la partie usage, - Séparation de la partie système PV de la carosserie, - Modification de la base de données de matériaux sur les fibres et matériaux composites, - Ajout de notes sur la quantité à renseigner pour les batteries et système PV.

Sheet CaracVehicules
A1: 1 | B1: =A1+1 -> 2 | C1: =B1+1 -> 3 | D1: =C1+1 -> 4 | E1: =D1+1 -> 5 | F1: =E1+1 -> 6 | G1: =F1+1 -> 7 | H1: =G1+1 -> 8 | I1: =H1+1 -> 9
A2: Classification | C2: Vie du véhicule | F2: Performance (WMTC) | J2: Caractéristiques réglementaires (à titre indicatif)
A3: Catégories | B3: Nom | C3: Kilométrage annuel | D3: Durée de vie par défaut | E3: Durée de vie par défaut | F3: Classe WMTC | G3: Vitesse moyenne | H3: % maintien de vitesse ou accélération | I3: Energie par pédalage | J3: Nb roues | K3: Puissance | L3: vitesse maximale | M3: Masse OM | N3: Places max | O3: Longueur max | P3: Largeur max
C4: km/an | D4: années | E4: km | F4: années | G4: km/h | H4: % | I4: Wh/km | K4: kW | L4: km/h | M4: kg | O4: mm | P4: mm
A5: VAE | C5: 2000 | D5: =Notice!$C$56 -> 30 | E5: =$C5*D5 -> 60000 | F5: Class1-25 | G5: =HLOOKUP(F5,WMTC!$C$1:$J$8,5,FALSE) -> 17.647667 | H5: =HLOOKUP(F5,WMTC!$C$1:$J$8,8,FALSE) -> 0.69782972 | I5: =Notice!$C$70*CaracVehicules!H5/CaracVehicules!G5 -> 3.9542322 | L5: 25
A6: L1e | B6: Deux-roues motorisé léger | C6: =MAX(C7:C8) -> 5000 | D6: =Notice!$C$56 -> 30 | E6: =$C6*D6 -> 150000 | F6: Class1-45 | G6: =HLOOKUP(F6,WMTC!$C$1:$J$8,5,FALSE) -> 22.800667 | H6: =HLOOKUP(F6,WMTC!$C$1:$J$8,8,FALSE) -> 0.50417362 | I6: =Notice!$C$70*CaracVehicules!H6/CaracVehicules!G6 -> 2.2112232 | J6: 2 | K6: 1 | L6: 45 | O6: 4000 | P6: 1000
A7: L1e-A | B7: Vélo à moteur | C7: 2000 | D7: =Notice!$C$56 -> 30 | E7: =$C7*D7 -> 60000 | F7: Class1-25 | G7: =HLOOKUP(F7,WMTC!$C$1:$J$8,5,FALSE) -> 17.647667 | H7: =HLOOKUP(F7,WMTC!$C$1:$J$8,8,FALSE) -> 0.69782972 | I7: =Notice!$C$70*CaracVehicules!H7/CaracVehicules!G7 -> 3.9542322 | K7: 4 | L7: 25 | O7: 4000 | P7: 2000
A8: L1e-B | B8: Cyclomoteur à deux roues | C8: 5000 | D8: =Notice!$C$56 -> 30 | E8: =$C8*D8 -> 150000 | F8: Class1-45 | G8: =HLOOKUP(F8,WMTC!$C$1:$J$8,5,FALSE) -> 22.800667 | H8: =HLOOKUP(F8,WMTC!$C$1:$J$8,8,FALSE) -> 0.50417362 | I8: =Notice!$C$70*CaracVehicules!H8/CaracVehicules!G8 -> 2.2112232 | L8: 45
A9: L2e | B9: Cyclomoteur à trois roues | C9: =MAX(C10:C11) -> 5000 | D9: =Notice!$C$56 -> 30 | E9: =$C9*D9 -> 150000 | F9: Class1-45 | G9: =HLOOKUP(F9,WMTC!$C$1:$J$8,5,FALSE) -> 22.800667 | H9: =HLOOKUP(F9,WMTC!$C$1:$J$8,8,FALSE) -> 0.50417362 | I9: =Notice!$C$70*CaracVehicules!H9/CaracVehicules!G9 -> 2.2112232 | J9: 3 | K9: 4 | L9: 45 | M9: 270 | N9: 270 | O9: 4000 | P9: 2000
A10: L2e-P | B10: Cyclomoteur à trois roues conçus pour le transport de voyageurs | C10: 5000 | D10: =Notice!$C$56 -> 30 | E10: =$C10*D10 -> 150000 | F10: Class1-45 | G10: =HLOOKUP(F10,WMTC!$C$1:$J$8,5,FALSE) -> 22.800667 | H10: =HLOOKUP(F10,WMTC!$C$1:$J$8,8,FALSE) -> 0.50417362 | I10: =Notice!$C$70*CaracVehicules!H10/CaracVehicules!G10 -> 2.2112232 | L10: 45 | O10: 4000 | P10: 2000
A11: L2e-U | B11: Cyclomoteur à trois roues conçus à des fins utilitaires | C11: 5000 | D11: =Notice!$C$56 -> 30 | E11: =$C11*D11 -> 150000 | F11: Class1-45 | G11: =HLOOKUP(F11,WMTC!$C$1:$J$8,5,FALSE) -> 22.800667 | H11: =HLOOKUP(F11,WMTC!$C$1:$J$8,8,FALSE) -> 0.50417362 | I11: =Notice!$C$70*CaracVehicules!H11/CaracVehicules!G11 -> 2.2112232 | L11: 45 | O11: 4000 | P11: 2000
A12: L3e | B12: Motocycle à deux roues | C12: =MAX(C13:C14) -> 5000 | D12: =Notice!$C$56 -> 30 | E12: =$C12*D12 -> 150000 | F12: class3-2 | G12: =HLOOKUP(F12,WMTC!$C$1:$J$8,5,FALSE) -> 57.830778 | H12: =HLOOKUP(F12,WMTC!$C$1:$J$8,8,FALSE) -> 0.53529739 | I12: =Notice!$C$70*CaracVehicules!H12/CaracVehicules!G12 -> 0.92562716 | J12: 2 | K12: 11 | O12: 4000 | P12: 2000
A13: L3e-A1 | B13: Motocycle à performances réduites | C13: 5000 | D13: =Notice!$C$56 -> 30 | E13: =$C13*D13 -> 150000 | F13: class3-2 | G13: =HLOOKUP(F13,WMTC!$C$1:$J$8,5,FALSE) -> 57.830778 | H13: =HLOOKUP(F13,WMTC!$C$1:$J$8,8,FALSE) -> 0.53529739 | I13: =Notice!$C$70*CaracVehicules!H13/CaracVehicules!G13 -> 0.92562716 | J13: 2 | K13: 11 | O13: 4000 | P13: 2000
A14: L3e-A2 | B14: Motocycle à performances moyennes | C14: 5000 | D14: =Notice!$C$56 -> 30 | E14: =$C14*D14 -> 150000 | F14: class3-2 | G14: =HLOOKUP(F14,WMTC!$C$1:$J$8,5,FALSE) -> 57.830778 | H14: =HLOOKUP(F14,WMTC!$C$1:$J$8,8,FALSE) -> 0.53529739 | I14: =Notice!$C$70*CaracVehicules!H14/CaracVehicules!G14 -> 0.92562716 | K14: 35 | O14: 4000 | P14: 2000
A15: L3e-A3 | B15: Motocycle à performances élevées | C15: 5000 | D15: =Notice!$C$56 -> 30 | E15: =$C15*D15 -> 150000 | F15: class3-2 | G15: =HLOOKUP(F15,WMTC!$C$1:$J$8,5,FALSE) -> 57.830778 | H15: =HLOOKUP(F15,WMTC!$C$1:$J$8,8,FALSE) -> 0.53529739 | I15: =Notice!$C$70*CaracVehicules!H15/CaracVehicules!G15 -> 0.92562716 | O15: 4000 | P15: 2000
A16: L4e | B16: Motocycles à deux roues avec side-car | C16: 5000 | D16: =Notice!$C$56 -> 30 | E16: =$C16*D16 -> 150000 | F16: class3-2 | G16: =HLOOKUP(F16,WMTC!$C$1:$J$8,5,FALSE) -> 57.830778 | H16: =HLOOKUP(F16,WMTC!$C$1:$J$8,8,FALSE) -> 0.53529739 | I16: =Notice!$C$70*CaracVehicules!H16/CaracVehicules!G16 -> 0.92562716 | J16: 2+1 | O16: 4000 | P16: 2000
A17: L5e | B17: Tricycle motorisé | C17: =MAX(C18:C19) -> 5000 | D17: =Notice!$C$56 -> 30 | E17: =$C17*D17 -> 150000 | F17: class3-2 | G17: =HLOOKUP(F17,WMTC!$C$1:$J$8,5,FALSE) -> 57.830778 | H17: =HLOOKUP(F17,WMTC!$C$1:$J$8,8,FALSE) -> 0.53529739 | I17: =Notice!$C$70*CaracVehicules!H17/CaracVehicules!G17 -> 0.92562716 | J17: 3 | M17: 1000 | O17: 4000 | P17: 2000
A18: L5e-A | B18: Tricycle | C18: 5000 | D18: =Notice!$C$56 -> 30 | E18: =$C18*D18 -> 150000 | F18: class3-2 | G18: =HLOOKUP(F18,WMTC!$C$1:$J$8,5,FALSE) -> 57.830778 | H18: =HLOOKUP(F18,WMTC!$C$1:$J$8,8,FALSE) -> 0.53529739 | I18: =Notice!$C$70*CaracVehicules!H18/CaracVehicules!G18 -> 0.92562716 | J18: 3 | M18: 1000 | N18: 5 | O18: 4000 | P18: 2000
A19: L5e-B | B19: Tricycle utilitaire | C19: 5000 | D19: =Notice!$C$56 -> 30 | E19: =$C19*D19 -> 150000 | F19: class3-2 | G19: =HLOOKUP(F19,WMTC!$C$1:$J$8,5,FALSE) -> 57.830778 | H19: =HLOOKUP(F19,WMTC!$C$1:$J$8,8,FALSE) -> 0.53529739 | I19: =Notice!$C$70*CaracVehicules!H19/CaracVehicules!G19 -> 0.92562716 | J19: 3 | M19: 1000 | N19: 2 | O19: 4000 | P19: 2000
A20: L6e | B20: Quadricycle léger | C20: =MAX(C21:C24) -> 5000 | D20: =Notice!$C$56 -> 30 | E20: =$C20*D20 -> 150000 | F20: Class1-45 | G20: =HLOOKUP(F20,WMTC!$C$1:$J$8,5,FALSE) -> 22.800667 | H20: =HLOOKUP(F20,WMTC!$C$1:$J$8,8,FALSE) -> 0.50417362 | I20: =Notice!$C$70*CaracVehicules!H20/CaracVehicules!G20 -> 2.2112232 | J20: 4 | L20: 45 | M20: 425 | O20: 4000 | P20: 2000
A21: L6e-A | B21: Quad routier léger | C21: 5000 | D21: =Notice!$C$56 -> 30 | E21: =$C21*D21 -> 150000 | F21: Class1-45 | G21: =HLOOKUP(F21,WMTC!$C$1:$J$8,5,FALSE) -> 22.800667 | H21: =HLOOKUP(F21,WMTC!$C$1:$J$8,8,FALSE) -> 0.50417362 | I21: =Notice!$C$70*CaracVehicules!H21/CaracVehicules!G21 -> 2.2112232 | J21: 4 | K21: 4 | L21: 45 | M21: 425 | O21: 4000 | P21: 2000
A22: L6e-B | B22: Quadricycle léger | C22: 5000 | D22: =Notice!$C$56 -> 30 | E22: =$C22*D22 -> 150000 | F22: Class1-45 | G22: =HLOOKUP(F22,WMTC!$C$1:$J$8,5,FALSE) -> 22.800667 | H22: =HLOOKUP(F22,WMTC!$C$1:$J$8,8,FALSE) -> 0.50417362 | I22: =Notice!$C$70*CaracVehicules!H22/CaracVehicules!G22 -> 2.2112232 | J22: 4 | K22: 6 | L22: 45 | M22: 425 | O22: 3000 | P22: 1500
A23: L6e-BP | B23: Quadrimobile léger pour le transport de personnes | C23: 5000 | D23: =Notice!$C$56 -> 30 | E23: =$C23*D23 -> 150000 | F23: Class1-45 | G23: =HLOOKUP(F23,WMTC!$C$1:$J$8,5,FALSE) -> 22.800667 | H23: =HLOOKUP(F23,WMTC!$C$1:$J$8,8,FALSE) -> 0.50417362 | I23: =Notice!$C$70*CaracVehicules!H23/CaracVehicules!G23 -> 2.2112232 | J23: 4 | K23: 6 | L23: 45 | M23: 425 | O23: 3000 | P23: 1500
A24: L6e-BU | B24: Quadrimobile léger pour le transport de marchandises | C24: 5000 | D24: =Notice!$C$56 -> 30 | E24: =$C24*D24 -> 150000 | F24: Class1-45 | G24: =HLOOKUP(F24,WMTC!$C$1:$J$8,5,FALSE) -> 22.800667 | H24: =HLOOKUP(F24,WMTC!$C$1:$J$8,8,FALSE) -> 0.50417362 | I24: =Notice!$C$70*CaracVehicules!H24/CaracVehicules!G24 -> 2.2112232 | J24: 4 | K24: 6 | L24: 45 | M24: 425 | O24: 3000 | P24: 1500
A25: L7e | B25: Quadricycle lourd | C25: =MAX(C26:C28) -> 10000 | D25: =Notice!$C$56 -> 30 | E25: =$C25*D25 -> 300000 | F25: Class2-2-90 | G25: =HLOOKUP(F25,WMTC!$C$1:$J$8,5,FALSE) -> 39.39425 | H25: =HLOOKUP(F25,WMTC!$C$1:$J$8,8,FALSE) -> 0.50458716 | I25: =Notice!$C$70*CaracVehicules!H25/CaracVehicules!G25 -> 1.280865 | J25: 4 | K25: 15 | L25: 90 | M25: 450 | O25: 4000 | P25: 2000
A26: L7e-C | B26: Quadrimobile lourd | C26: 10000 | D26: =Notice!$C$56 -> 30 | E26: =$C26*D26 -> 300000 | F26: Class2-2-90 | G26: =HLOOKUP(F26,WMTC!$C$1:$J$8,5,FALSE) -> 39.39425 | H26: =HLOOKUP(F26,WMTC!$C$1:$J$8,8,FALSE) -> 0.50458716 | I26: =Notice!$C$70*CaracVehicules!H26/CaracVehicules!G26 -> 1.280865 | K26: 15 | L26: 90 | O26: 3700 | P26: 1500
A27: L7e-CP | B27: Quadrimobile lourd pour le transport de personnes | C27: 10000 | D27: =Notice!$C$56 -> 30 | E27: =$C27*D27 -> 300000 | F27: Class2-2-90 | G27: =HLOOKUP(F27,WMTC!$C$1:$J$8,5,FALSE) -> 39.39425 | H27: =HLOOKUP(F27,WMTC!$C$1:$J$8,8,FALSE) -> 0.50458716 | I27: =Notice!$C$70*CaracVehicules!H27/CaracVehicules!G27 -> 1.280865 | J27: 4 | K27: 15 | L27: 90 | M27: 425 | O27: 3000 | P27: 1500
A28: L7e-CU | B28: Quadrimobile lourd pour le transport de marchandises | C28: 10000 | D28: =Notice!$C$56 -> 30 | E28: =$C28*D28 -> 300000 | F28: Class2-2-90 | G28: =HLOOKUP(F28,WMTC!$C$1:$J$8,5,FALSE) -> 39.39425 | H28: =HLOOKUP(F28,WMTC!$C$1:$J$8,8,FALSE) -> 0.50458716 | I28: =Notice!$C$70*CaracVehicules!H28/CaracVehicules!G28 -> 1.280865 | J28: 4 | K28: 15 | L28: 90 | M28: 425 | O28: 3000 | P28: 1500
A29: Autre | C29: 5000 | D29: =Notice!$C$56 -> 30 | E29: =$C29*D29 -> 150000 | G29: =HLOOKUP(F29,WMTC!$C$1:$J$8,5,FALSE) -> #N/A | H29: =HLOOKUP(F29,WMTC!$C$1:$J$8,8,FALSE) -> #N/A | I29: =Notice!$C$70*CaracVehicules!H29/CaracVehicules!G29 -> #N/A
B31: Nb de pneus utilisés par roue sur la vie du véhicule | C31: 8

Sheet Tableau de bord
B2: Caractéristiques du véhicule
B3: Nom du constructeur | C3: MOTION ENGINEERING | D3: Poids total véhicule (kg) | E3: 95
B4: Nom du véhicule | C4: Plateforme compacte modulaire | D4: Consommation WMTC (Wh/km)
B5: Catégorie | C5: VAE | D5: Vitesse maximale (km/h)
B6: Pays de fabrication | C6: France | D6: Autonomie (km)
B7: Génération pédalage | D7: Capacité batterie (kWh) | J7: Choix de la durée de vie | M7: Par défaut
B8: Puissance PV (Wc) | D8: Inclinaison PV (0°=à plat) | J8: Durée de vie véhicule (par défaut), en km : | M8: =VLOOKUP($C$5,CaracVehicules!$A$5:$P$29,CaracVehicules!$E$1,FALSE) -> 60000
B9: Type de véhicule | C9: Transport de marchandises | J9: Durée de vie véhicule (personnalisé), en km : | M9: 300000
B10: Nb places adultes | D10: Volume de stockage (L) | J10: ="Capacité de référence, en "&VLOOKUP($C$9,Listes!$A$2:$C$4,2,FALSE)&" :" -> Capacité de référence, en tonnes : | M10: =IF($C$9=Listes!$A$3,$E$11*Notice!$C$60/1000,1+($C$10+$C$11-1)*Notice!C59) -> 0.15
B11: Nb places enfants | D11: Capacité d'emport (kg) | E11: 500 | J11: Unité fonctionnelle (UF) 2 : | L11: =VLOOKUP($C$9,Listes!$A$2:$C$4,3,FALSE) -> Transporter 1 tonne sur 1km
F13: Unité de référence | G13: Transport des composants | J13: Durée de vie (km) | L13: Quantité | M13: Facteur d'émission | N13: Emissions vie du véhicule | Q13: Emissions par km | R13: Emissions selon capacité
B14: Poste | C14: Matériaux | D14: Origine | E14: Quantité | G14: Maritime | H14: Routier Europe | I14: Routier Monde | J14: Par défaut | K14: Personnalisé | S14: %
E15: unité de ref | G15: t.km | H15: t.km | I15: t.km | J15: km | K15: km | L15: unité de ref | M15: kgCO2e/unité | N15: kgCO2e | O15: % | Q15: gCO2e/km | R15: ="gCO2e/"&VLOOKUP($C$9,Listes!$A$2:$D$4,4,FALSE) -> gCO2e/t.km | S15: %
A16: 1 | B16: Chassis, carosserie | C16: Acier | F16: kg | G16: =IF(OR($L16=0,$F16<>"kg"),0,$L16*VLOOKUP($D16&$C$6,DistancesPays!$I:$L,DistancesPays!J$3,FALSE)/1000) -> 0 | H16: =IF(OR($L16=0,$F16<>"kg"),0,$L16*VLOOKUP($D16&$C$6,DistancesPays!$I:$L,DistancesPays!K$3,FALSE)/1000) -> 0 | I16: =IF(OR($L16=0,$F16<>"kg"),0,$L16*VLOOKUP($D16&$C$6,DistancesPays!$I:$L,DistancesPays!L$3,FALSE)/1000) -> 0 | J16: =$M$8 -> 60000 | K16: 200000 | L16: =E16*MAX(IF($M$7=$K$14,$M$9/K16,$M$8/J16),1) -> 0 | M16: =IFERROR(VLOOKUP($D16,FE_Specifiques!$D:$H,FE_Specifiques!$G$4,FALSE)/FE_Specifiques!$G$5,0) -> 0 | N16: =L16*M16 -> 0 | O16: =IF(M16>0,N16/$N$43,0) -> 0 | Q16: =L16*M16*1000/IF($M$7=$K$14,$M$9,$M$8) -> 0 | R16: =Q16/$M$10 -> 0 | S16: =R16/$R$43 -> 0 | T16: Chassis, carosserie | U16: =C16 -> Acier
A17: 1 | B17: Chassis, carosserie | C17: Aluminium | D17: Chine | E17: 89 | F17: kg | G17: =IF(OR($L17=0,$F17<>"kg"),0,$L17*VLOOKUP($D17&$C$6,DistancesPays!$I:$L,DistancesPays!J$3,FALSE)/1000) -> 1372.825 | H17: =IF(OR($L17=0,$F17<>"kg"),0,$L17*VLOOKUP($D17&$C$6,DistancesPays!$I:$L,DistancesPays!K$3,FALSE)/1000) -> 44.5 | I17: =IF(OR($L17=0,$F17<>"kg"),0,$L17*VLOOKUP($D17&$C$6,DistancesPays!$I:$L,DistancesPays!L$3,FALSE)/1000) -> 89 | J17: =$M$8 -> 60000 | K17: =$M$8 -> 60000 | L17: =E17*MAX(IF($M$7=$K$14,$M$9/K17,$M$8/J17),1) -> 89 | M17: =IFERROR(VLOOKUP($D17,FE_Specifiques!$D:$H,FE_Specifiques!$H$4,FALSE)/FE_Specifiques!$H$5,0) -> 25 | N17: =L17*M17 -> 2225 | O17: =IF(M17>0,N17/$N$43,0) -> 0.94399553 | Q17: =L17*M17*1000/IF($M$7=$K$14,$M$9,$M$8) -> 37.083333 | R17: =Q17/$M$10 -> 247.22222 | S17: =R17/$R$43 -> 0.94399553 | T17: Chassis, carosserie | U17: =C17 -> Aluminium
A18: 1 | B18: Chassis, carosserie | F18: kg | G18: =IF(OR($L18=0,$F18<>"kg"),0,$L18*VLOOKUP($D18&$C$6,DistancesPays!$I:$L,DistancesPays!J$3,FALSE)/1000) -> 0 | H18: =IF(OR($L18=0,$F18<>"kg"),0,$L18*VLOOKUP($D18&$C$6,DistancesPays!$I:$L,DistancesPays!K$3,FALSE)/1000) -> 0 | I18: =IF(OR($L18=0,$F18<>"kg"),0,$L18*VLOOKUP($D18&$C$6,DistancesPays!$I:$L,DistancesPays!L$3,FALSE)/1000) -> 0 | J18: =$M$8 -> 60000 | K18: =$M$8 -> 60000 | L18: =E18*MAX(IF($M$7=$K$14,$M$9/K18,$M$8/J18),1) -> 0 | M18: =IFERROR(VLOOKUP($C18,FE_Autres!$G:$O,FE_Autres!$O$1,FALSE),0) -> 0 | N18: =L18*M18 -> 0 | O18: =IF(M18>0,N18/$N$43,0) -> 0 | Q18: =L18*M18*1000/IF($M$7=$K$14,$M$9,$M$8) -> 0 | R18: =Q18/$M$10 -> 0 | S18: =R18/$R$43 -> 0 | T18: Chassis, carosserie | U18: Matériau 3
A19: 1 | B19: Chassis, carosserie | F19: kg | G19: =IF(OR($L19=0,$F19<>"kg"),0,$L19*VLOOKUP($D19&$C$6,DistancesPays!$I:$L,DistancesPays!J$3,FALSE)/1000) -> 0 | H19: =IF(OR($L19=0,$F19<>"kg"),0,$L19*VLOOKUP($D19&$C$6,DistancesPays!$I:$L,DistancesPays!K$3,FALSE)/1000) -> 0 | I19: =IF(OR($L19=0,$F19<>"kg"),0,$L19*VLOOKUP($D19&$C$6,DistancesPays!$I:$L,DistancesPays!L$3,FALSE)/1000) -> 0 | J19: =$M$8 -> 60000 | K19: =$M$8 -> 60000 | L19: =E19*MAX(IF($M$7=$K$14,$M$9/K19,$M$8/J19),1) -> 0 | M19: =IFERROR(VLOOKUP($C19,FE_Autres!$G:$O,FE_Autres!$O$1,FALSE),0) -> 0 | N19: =L19*M19 -> 0 | O19: =IF(M19>0,N19/$N$43,0) -> 0 | Q19: =L19*M19*1000/IF($M$7=$K$14,$M$9,$M$8) -> 0 | R19: =Q19/$M$10 -> 0 | S19: =R19/$R$43 -> 0 | T19: Chassis, carosserie | U19: Matériau 4
A20: 1 | B20: Chassis, carosserie | F20: kg | G20: =IF(OR($L20=0,$F20<>"kg"),0,$L20*VLOOKUP($D20&$C$6,DistancesPays!$I:$L,DistancesPays!J$3,FALSE)/1000) -> 0 | H20: =IF(OR($L20=0,$F20<>"kg"),0,$L20*VLOOKUP($D20&$C$6,DistancesPays!$I:$L,DistancesPays!K$3,FALSE)/1000) -> 0 | I20: =IF(OR($L20=0,$F20<>"kg"),0,$L20*VLOOKUP($D20&$C$6,DistancesPays!$I:$L,DistancesPays!L$3,FALSE)/1000) -> 0 | J20: =$M$8 -> 60000 | K20: =$M$8 -> 60000 | L20: =E20*MAX(IF($M$7=$K$14,$M$9/K20,$M$8/J20),1) -> 0 | M20: =IFERROR(VLOOKUP($C20,FE_Autres!$G:$O,FE_Autres!$O$1,FALSE),0) -> 0 | N20: =L20*M20 -> 0 | O20: =IF(M20>0,N20/$N$43,0) -> 0 | Q20: =L20*M20*1000/IF($M$7=$K$14,$M$9,$M$8) -> 0 | R20: =Q20/$M$10 -> 0 | S20: =R20/$R$43 -> 0 | T20: Chassis, carosserie | U20: Matériau 5
A21: 1 | B21: Chassis, carosserie | F21: kg | G21: =IF(OR($L21=0,$F21<>"kg"),0,$L21*VLOOKUP($D21&$C$6,DistancesPays!$I:$L,DistancesPays!J$3,FALSE)/1000) -> 0 | H21: =IF(OR($L21=0,$F21<>"kg"),0,$L21*VLOOKUP($D21&$C$6,DistancesPays!$I:$L,DistancesPays!K$3,FALSE)/1000) -> 0 | I21: =IF(OR($L21=0,$F21<>"kg"),0,$L21*VLOOKUP($D21&$C$6,DistancesPays!$I:$L,DistancesPays!L$3,FALSE)/1000) -> 0 | J21: =$M$8 -> 60000 | K21: =$M$8 -> 60000 | L21: =E21*MAX(IF($M$7=$K$14,$M$9/K21,$M$8/J21),1) -> 0 | M21: =IFERROR(VLOOKUP($C21,FE_Autres!$G:$O,FE_Autres!$O$1,FALSE),0) -> 0 | N21: =L21*M21 -> 0 | O21: =IF(M21>0,N21/$N$43,0) -> 0 | Q21: =L21*M21*1000/IF($M$7=$K$14,$M$9,$M$8) -> 0 | R21: =Q21/$M$10 -> 0 | S21: =R21/$R$43 -> 0 | T21: Chassis, carosserie | U21: Matériau 6
B22: Système photovoltaïque | C22: Système photovoltaïque | F22: kg | G22: =IF(OR($L22=0,$F22<>"kg"),0,$L22*VLOOKUP($D22&$C$6,DistancesPays!$I:$L,DistancesPays!J$3,FALSE)/1000) -> 0 | H22: =IF(OR($L22=0,$F22<>"kg"),0,$L22*VLOOKUP($D22&$C$6,DistancesPays!$I:$L,DistancesPays!K$3,FALSE)/1000) -> 0 | I22: =IF(OR($L22=0,$F22<>"kg"),0,$L22*VLOOKUP($D22&$C$6,DistancesPays!$I:$L,DistancesPays!L$3,FALSE)/1000) -> 0 | J22: =$M$8 -> 60000 | K22: =$M$8 -> 60000 | L22: =E22*MAX(IF($M$7=$K$14,$M$9/K22,$M$8/J22),1) -> 0 | M22: =IFERROR(VLOOKUP($C22,FE_Autres!$G:$O,FE_Autres!$O$1,FALSE),0) -> 0 | N22: =L22*M22 -> 0 | O22: =IF(M22>0,N22/$N$43,0) -> 0 | Q22: =L22*M22*1000/IF($M$7=$K$14,$M$9,$M$8) -> 0 | R22: =Q22/$M$10 -> 0 | S22: =R22/$R$43 -> 0 | T22: Chassis, carosserie | U22: Système photovoltaïque
A23: 2 | B23: Batterie | F23: kg | G23: =IF(OR($L23=0,$F23<>"kg"),0,$L23*VLOOKUP($D23&$C$6,DistancesPays!$I:$L,DistancesPays!J$3,FALSE)/1000) -> 0 | H23: =IF(OR($L23=0,$F23<>"kg"),0,$L23*VLOOKUP($D23&$C$6,DistancesPays!$I:$L,DistancesPays!K$3,FALSE)/1000) -> 0 | I23: =IF(OR($L23=0,$F23<>"kg"),0,$L23*VLOOKUP($D23&$C$6,DistancesPays!$I:$L,DistancesPays!L$3,FALSE)/1000) -> 0 | J23: =$M$8 -> 60000 | K23: =$M$8 -> 60000 | L23: =E23*MAX(IF($M$7=$K$14,$M$9/K23,$M$8/J23),1) -> 0 | M23: =IFERROR(VLOOKUP(D23,FE_Specifiques!$D$6:$M$34,HLOOKUP('Tableau de bord'!$C$23,FE_Specifiques!$I$3:$M$4,2,FALSE),FALSE),0) -> 0 | N23: =L23*M23 -> 0 | Q23: =L23*M23*1000/IF($M$7=$K$14,$M$9,$M$8) -> 0 | R23: =Q23/$M$10 -> 0 | S23: =R23/$R$43 -> 0 | T23: Batterie | U23: Batterie
A24: 3 | B24: Moyeux | D24: Belgique | E24: =4*0.14 -> 0.56 | F24: kg | G24: =IF(OR($L24=0,$F24<>"kg"),0,$L24*VLOOKUP($D24&$C$6,DistancesPays!$I:$L,DistancesPays!J$3,FALSE)/1000) -> 0 | H24: =IF(OR($L24=0,$F24<>"kg"),0,$L24*VLOOKUP($D24&$C$6,DistancesPays!$I:$L,DistancesPays!K$3,FALSE)/1000) -> 0.33633298 | I24: =IF(OR($L24=0,$F24<>"kg"),0,$L24*VLOOKUP($D24&$C$6,DistancesPays!$I:$L,DistancesPays!L$3,FALSE)/1000) -> 0 | J24: =$M$8 -> 60000 | K24: =$M$8 -> 60000 | L24: =E24*MAX(IF($M$7=$K$14,$M$9/K24,$M$8/J24),1) -> 0.56 | M24: =IFERROR(VLOOKUP($C24,FE_Autres!$G:$O,FE_Autres!$O$1,FALSE),0) -> 0 | N24: =L24*M24 -> 0 | O24: =IF(M24>0,N24/$N$43,0) -> 0 | Q24: =L24*M24*1000/IF($M$7=$K$14,$M$9,$M$8) -> 0 | R24: =Q24/$M$10 -> 0 | S24: =R24/$R$43 -> 0 | T24: Roues | U24: =B24 -> Moyeux
A25: 3 | B25: Jantes | D25: Autres pays d’Europe | E25: =4*0.6 -> 2.4 | F25: kg | G25: =IF(OR($L25=0,$F25<>"kg"),0,$L25*VLOOKUP($D25&$C$6,DistancesPays!$I:$L,DistancesPays!J$3,FALSE)/1000) -> 0 | H25: =IF(OR($L25=0,$F25<>"kg"),0,$L25*VLOOKUP($D25&$C$6,DistancesPays!$I:$L,DistancesPays!K$3,FALSE)/1000) -> 4.1908755 | I25: =IF(OR($L25=0,$F25<>"kg"),0,$L25*VLOOKUP($D25&$C$6,DistancesPays!$I:$L,DistancesPays!L$3,FALSE)/1000) -> 0 | J25: =$M$8 -> 60000 | K25: =$M$8 -> 60000 | L25: =E25*MAX(IF($M$7=$K$14,$M$9/K25,$M$8/J25),1) -> 2.4 | M25: =IFERROR(VLOOKUP($C25,FE_Autres!$G:$O,FE_Autres!$O$1,FALSE),0) -> 0 | N25: =L25*M25 -> 0 | O25: =IF(M25>0,N25/$N$43,0) -> 0 | Q25: =L25*M25*1000/IF($M$7=$K$14,$M$9,$M$8) -> 0 | R25: =Q25/$M$10 -> 0 | S25: =R25/$R$43 -> 0 | T25: Roues | U25: =B25 -> Jantes
A26: 3 | B26: Pneumatique + Chambre | C26: =FE_Autres!G8 -> Pneumatique type véhicules légers | D26: Allemagne | E26: =4*1.1 -> 4.4 | F26: kg | G26: =IF(OR($L26=0,$F26<>"kg"),0,$L26*VLOOKUP($D26&$C$6,DistancesPays!$I:$L,DistancesPays!J$3,FALSE)/1000) -> 0 | H26: =IF(OR($L26=0,$F26<>"kg"),0,$L26*VLOOKUP($D26&$C$6,DistancesPays!$I:$L,DistancesPays!K$3,FALSE)/1000) -> 4.7682422 | I26: =IF(OR($L26=0,$F26<>"kg"),0,$L26*VLOOKUP($D26&$C$6,DistancesPays!$I:$L,DistancesPays!L$3,FALSE)/1000) -> 0 | J26: =$M$8 -> 60000 | K26: =$M$9 -> 300000 | L26: =E26*MAX(IF($M$7=$K$14,$M$9/K26,$M$8/J26),1) -> 4.4 | M26: =IFERROR(VLOOKUP($C26,FE_Autres!$G:$O,FE_Autres!$O$1,FALSE),0) -> 3.15504 | N26: =L26*M26 -> 13.882176 | O26: =IF(M26>0,N26/$N$43,0) -> 0.0058897582 | Q26: =L26*M26*1000/IF($M$7=$K$14,$M$9,$M$8) -> 0.2313696 | R26: =Q26/$M$10 -> 1.542464 | S26: =R26/$R$43 -> 0.0058897582 | T26: Roues | U26: Pneus + chambres
A27: 4 | B27: Moteur (+ génératrice) | C27: =FE_Autres!G4 -> Moteur | F27: kg | G27: =IF(OR($L27=0,$F27<>"kg"),0,$L27*VLOOKUP($D27&$C$6,DistancesPays!$I:$L,DistancesPays!J$3,FALSE)/1000) -> 0 | H27: =IF(OR($L27=0,$F27<>"kg"),0,$L27*VLOOKUP($D27&$C$6,DistancesPays!$I:$L,DistancesPays!K$3,FALSE)/1000) -> 0 | I27: =IF(OR($L27=0,$F27<>"kg"),0,$L27*VLOOKUP($D27&$C$6,DistancesPays!$I:$L,DistancesPays!L$3,FALSE)/1000) -> 0 | J27: =$M$8 -> 60000 | K27: =$M$8 -> 60000 | L27: =E27*MAX(IF($M$7=$K$14,$M$9/K27,$M$8/J27),1) -> 0 | M27: =IFERROR(VLOOKUP($C27,FE_Autres!$G:$O,FE_Autres!$O$1,FALSE),0) -> 2.93 | N27: =L27*M27 -> 0 | O27: =IF(M27>0,N27/$N$43,0) -> 0 | Q27: =L27*M27*1000/IF($M$7=$K$14,$M$9,$M$8) -> 0 | R27: =Q27/$M$10 -> 0 | S27: =R27/$R$43 -> 0 | T27: Moteur | U27: Moteur
A28: 5 | B28: Assise | F28: kg | G28: =IF(OR($L28=0,$F28<>"kg"),0,$L28*VLOOKUP($D28&$C$6,DistancesPays!$I:$L,DistancesPays!J$3,FALSE)/1000) -> 0 | H28: =IF(OR($L28=0,$F28<>"kg"),0,$L28*VLOOKUP($D28&$C$6,DistancesPays!$I:$L,DistancesPays!K$3,FALSE)/1000) -> 0 | I28: =IF(OR($L28=0,$F28<>"kg"),0,$L28*VLOOKUP($D28&$C$6,DistancesPays!$I:$L,DistancesPays!L$3,FALSE)/1000) -> 0 | J28: =$M$8 -> 60000 | K28: =$M$8 -> 60000 | L28: =E28*MAX(IF($M$7=$K$14,$M$9/K28,$M$8/J28),1) -> 0 | M28: =IFERROR(VLOOKUP($C28,FE_Autres!$G:$O,FE_Autres!$O$1,FALSE),0) -> 0 | N28: =L28*M28 -> 0 | O28: =IF(M28>0,N28/$N$43,0) -> 0 | Q28: =L28*M28*1000/IF($M$7=$K$14,$M$9,$M$8) -> 0 | R28: =Q28/$M$10 -> 0 | S28: =R28/$R$43 -> 0 | T28: Autre | U28: =B28 -> Assise
A29: 5 | B29: Assise | F29: kg | G29: =IF(OR($L29=0,$F29<>"kg"),0,$L29*VLOOKUP($D29&$C$6,DistancesPays!$I:$L,DistancesPays!J$3,FALSE)/1000) -> 0 | H29: =IF(OR($L29=0,$F29<>"kg"),0,$L29*VLOOKUP($D29&$C$6,DistancesPays!$I:$L,DistancesPays!K$3,FALSE)/1000) -> 0 | I29: =IF(OR($L29=0,$F29<>"kg"),0,$L29*VLOOKUP($D29&$C$6,DistancesPays!$I:$L,DistancesPays!L$3,FALSE)/1000) -> 0 | J29: =$M$8 -> 60000 | K29: =$M$8 -> 60000 | L29: =E29*MAX(IF($M$7=$K$14,$M$9/K29,$M$8/J29),1) -> 0 | M29: =IFERROR(VLOOKUP($C29,FE_Autres!$G:$O,FE_Autres!$O$1,FALSE),0) -> 0 | N29: =L29*M29 -> 0 | O29: =IF(M29>0,N29/$N$43,0) -> 0 | Q29: =L29*M29*1000/IF($M$7=$K$14,$M$9,$M$8) -> 0 | R29: =Q29/$M$10 -> 0 | S29: =R29/$R$43 -> 0 | T29: Autre | U29: =B29 -> Assise
A30: 5 | B30: Composants non détaillés | C30: =FE_Autres!G10 -> Autres composants | D30: Autre | E30: =E3-SUM($E$16:$E$23,$E$24:$E$29) -> -1.36 | F30: kg | G30: =IF(OR($L30=0,$F30<>"kg"),0,$L30*VLOOKUP($D30&$C$6,DistancesPays!$I:$L,DistancesPays!J$3,FALSE)/1000) -> -32.64 | H30: =IF(OR($L30=0,$F30<>"kg"),0,$L30*VLOOKUP($D30&$C$6,DistancesPays!$I:$L,DistancesPays!K$3,FALSE)/1000) -> -0.68 | I30: =IF(OR($L30=0,$F30<>"kg"),0,$L30*VLOOKUP($D30&$C$6,DistancesPays!$I:$L,DistancesPays!L$3,FALSE)/1000) -> -1.36 | J30: =$M$8 -> 60000 | K30: =$M$8 -> 60000 | L30: =E30*MAX(IF($M$7=$K$14,$M$9/K30,$M$8/J30),1) -> -1.36 | M30: =IFERROR(VLOOKUP($C30,FE_Autres!$G:$O,FE_Autres!$O$1,FALSE),0) -> 10.862296 | N30: =L30*M30 -> -14.772722 | O30: =IF(M30>0,N30/$N$43,0) -> -0.0062675881 | Q30: =L30*M30*1000/IF($M$7=$K$14,$M$9,$M$8) -> -0.24621203 | R30: =Q30/$M$10 -> -1.6414136 | S30: =R30/$R$43 -> -0.0062675881 | T30: Autre | U30: Non détaillé
A31: Y | B31: Transport composants | C31: Transport maritime | E31: =SUM($G$16:$G$30) -> 1340.185 | F31: t.km | J31: =$M$8 -> 60000 | K31: =$M$8 -> 60000 | L31: =E31*MAX(IF($M$7=$K$14,$M$9/K31,$M$8/J31),1) -> 1340.185 | M31: =IFERROR(VLOOKUP($C31,FE_Autres!$G:$O,FE_Autres!$O$1,FALSE),0) -> 0.00847 | N31: =L31*M31 -> 11.351367 | O31: =IF(M31>0,N31/$N$43,0) -> 0.0048160178 | Q31: =L31*M31*1000/IF($M$7=$K$14,$M$9,$M$8) -> 0.18918945 | R31: =Q31/$M$10 -> 1.261263 | S31: =R31/$R$43 -> 0.0048160178 | T31: Transport composants | U31: Maritime
A32: Y | B32: Transport composants | C32: Transport routier Europe | E32: =SUM($I$16:$I$30) -> 87.64 | F32: t.km | J32: =$M$8 -> 60000 | K32: =$M$8 -> 60000 | L32: =E32*MAX(IF($M$7=$K$14,$M$9/K32,$M$8/J32),1) -> 87.64 | M32: =IFERROR(VLOOKUP($C32,FE_Autres!$G:$O,FE_Autres!$O$1,FALSE),0) -> 0.155 | N32: =L32*M32 -> 13.5842 | O32: =IF(M32>0,N32/$N$43,0) -> 0.0057633367 | Q32: =L32*M32*1000/IF($M$7=$K$14,$M$9,$M$8) -> 0.22640333 | R32: =Q32/$M$10 -> 1.5093556 | S32: =R32/$R$43 -> 0.0057633367 | T32: Transport composants | U32: Routier eur
A33: Y | B33: Transport composants | C33: Transport routier Monde | E33: =SUM($H$16:$H$30) -> 53.115451 | F33: t.km | J33: =$M$8 -> 60000 | K33: =$M$8 -> 60000 | L33: =E33*MAX(IF($M$7=$K$14,$M$9/K33,$M$8/J33),1) -> 53.115451 | M33: =IFERROR(VLOOKUP($C33,FE_Autres!$G:$O,FE_Autres!$O$1,FALSE),0) -> 0.203 | N33: =L33*M33 -> 10.782436 | O33: =IF(M33>0,N33/$N$43,0) -> 0.004574639 | Q33: =L33*M33*1000/IF($M$7=$K$14,$M$9,$M$8) -> 0.17970727 | R33: =Q33/$M$10 -> 1.1980485 | S33: =R33/$R$43 -> 0.004574639 | T33: Transport composants | U33: Routier monde
A34: Z | B34: Transport véhicule | C34: Transport maritime | E34: =$E$3*VLOOKUP($C$6&"France",DistancesPays!$I:$L,2,FALSE)/1000 -> 0 | F34: t.km | J34: =$M$8 -> 60000 | K34: =$M$8 -> 60000 | L34: =E34*MAX(IF($M$7=$K$14,$M$9/K34,$M$8/J34),1) -> 0 | M34: =FE_Specifiques!B6 -> 0.101 | N34: =L34*M34 -> 0 | O34: =IF(M34>0,N34/$N$43,0) -> 0 | Q34: =L34*M34*1000/IF($M$7=$K$14,$M$9,$M$8) -> 0 | R34: =Q34/$M$10 -> 0 | S34: =R34/$R$43 -> 0 | T34: Transport véhicule | U34: Maritime
A35: Z | B35: Transport véhicule | C35: Transport routier Europe | E35: =$E$3*VLOOKUP($C$6&"France",DistancesPays!$I:$L,3,FALSE)/1000 -> 0 | F35: t.km | J35: =$M$8 -> 60000 | K35: =$M$8 -> 60000 | L35: =E35*MAX(IF($M$7=$K$14,$M$9/K35,$M$8/J35),1) -> 0 | M35: =FE_Specifiques!B7 -> 0.256 | N35: =L35*M35 -> 0 | O35: =IF(M35>0,N35/$N$43,0) -> 0 | Q35: =L35*M35*1000/IF($M$7=$K$14,$M$9,$M$8) -> 0 | R35: =Q35/$M$10 -> 0 | S35: =R35/$R$43 -> 0 | T35: Transport véhicule | U35: Routier eur
A36: Z | B36: Transport véhicule | C36: Transport routier Monde | E36: =$E$3*VLOOKUP($C$6&"France",DistancesPays!$I:$L,4,FALSE)/1000 -> 0 | F36: t.km | J36: =$M$8 -> 60000 | K36: =$M$8 -> 60000 | L36: =E36*MAX(IF($M$7=$K$14,$M$9/K36,$M$8/J36),1) -> 0 | M36: =FE_Specifiques!B8 -> 0.377 | N36: =L36*M36 -> 0 | O36: =IF(M36>0,N36/$N$43,0) -> 0 | Q36: =L36*M36*1000/IF($M$7=$K$14,$M$9,$M$8) -> 0 | R36: =Q36/$M$10 -> 0 | S36: =R36/$R$43 -> 0 | T36: Transport véhicule | U36: Routier monde
B37: TOTAL Fabrication + pneus, hors durabilité | N37: =SUM(N14:N36) -> 2259.8275 | O37: =N37/$N$43 -> 0.95877169 | Q37: =SUM(Q13:Q36) -> 37.663791 | R37: =SUM(R14:R36) -> 251.09194 | S37: =R37/$R$43 -> 0.95877169
B38: TOTAL Fabrication + pneus, durabilité inclue | D38: coefficient du durabilité : | E38: 0.5 | N38: =N37/$E$38 -> 4519.6549 | O38: =N38/$N$44 -> 0.97895196 | Q38: =Q37/$E$38 -> 75.327582 | R38: =R37/$E$38 -> 502.18388 | S38: =R38/$R$44 -> 0.97895196
B39: Remplacement des pneumatiques | E39: =CaracVehicules!$C$31-1 -> 7 | F39: remplacmts | J39: =$M$8 -> 60000 | K39: =$M$9 -> 300000 | L39: =E39*L26 -> 30.8 | M39: =M26 -> 3.15504 | N39: =L39*M39 -> 97.175232 | O39: =IF(M39>0,N39/$N$43,0) -> 0.041228308 | Q39: =L39*M39*1000/IF($M$7=$K$14,$M$9,$M$8) -> 1.6195872 | R39: =Q39/$M$10 -> 10.797248
B40: Pédalage | C40: Energie musculaire | E40: =IF($C$7="Oui",VLOOKUP($C$5,CaracVehicules!$A$5:$P$29,CaracVehicules!$I$1,FALSE)*IF($M$7=$K$14,$M$9,$M$8)/1000,0) -> 0 | F40: kWh
B41: Toit solaire PV | C41: Energie solaire | E41: =MIN(IF($C$8=0,0,'Modele PV'!$C$13)*IF($M$7=$K$14,$M$9,$M$8)/1000,$E$4*$M$8/1000) -> 0 | F41: kWh
A42: Z | B42: Consommation électricité | C42: =FE_Autres!$G$11 -> Electricité | E42: =MAX(0,$E$4*$M$8/1000-E40-E41) -> 0 | F42: kWh | J42: =$M$8 -> 60000 | K42: =$M$8 -> 60000 | L42: =E42*MAX(IF($M$7=$K$14,$M$9/K42,$M$8/J42),1) -> 0 | M42: =IFERROR(VLOOKUP($C42,FE_Autres!$G:$O,9,FALSE),0) -> 0.052 | N42: =L42*M42 -> 0 | O42: =IF(M42>0,N42/$N$43,0) -> 0 | Q42: =L42*M42*1000/IF($M$7=$K$14,$M$9,$M$8) -> 0 | R42: =Q42/$M$10 -> 0 | S42: =R42/$R$43 -> 0 | T42: Electricité | U42: =B42 -> Consommation électricité
B43: TOTAL avec utilisation, hors durabilité | N43: =N37+SUM(N$39:N$42) -> 2357.0027 | O43: =N43/$N$43 -> 1 | Q43: =Q37+SUM(Q$39:Q$42) -> 39.283378 | R43: =R37+SUM(R$39:R$42) -> 261.88919 | S43: =R43/$R$43 -> 1
B44: TOTAL avec utilisation, durabilité inclue | N44: =N38+SUM(N$39:N$42) -> 4616.8301 | O44: =N44/$N$44 -> 1 | Q44: =Q38+SUM(Q$39:Q$42) -> 76.947169 | R44: =R38+SUM(R$39:R$42) -> 512.98113 | S44: =R44/$R$44 -> 1

Sheet FE_Specifiques
A1: Transport | F1: Electricité | G1: Acier | H1: Alu | I1: Batteries, corrigé par kg | O1: Batteries, kgCO2e/kWh
A2: source ADEME | F2: source ADEME | G2: source ADEME | H2: source ADEME | I2: calculé à partir des émissions par kWh, du poids de la batterie et de sa capacité | O2: source ADEME
A3: Mode de transport véhicules | B3: FE MDT (kgCO2e/t.km) | D3: Pays / zone | E3: Europe | F3: FE Elec | G3: FE Acier (kgCO2e/kg) | H3: FE Alu (kgCO2e/kg) | I3: NMC532 | J3: NMC622 | K3: NMC811 | L3: LFP | M3: Autre chimie | O3: NMC532 | P3: NMC622 | Q3: NMC811 | R3: LFP | S3: Autre chimie
D4: 1 | E4: =D4+1 -> 2 | F4: =E4+1 -> 3 | G4: =F4+1 -> 4 | H4: =G4+1 -> 5 | I4: =H4+1 -> 6 | J4: =I4+1 -> 7 | K4: =J4+1 -> 8 | L4: =K4+1 -> 9 | M4: =L4+1 -> 10 | O4: =M4+1 -> 11 | P4: =O4+1 -> 12 | Q4: =P4+1 -> 13 | R4: =Q4+1 -> 14 | S4: =R4+1 -> 15
D5: Ratio efficacité | G5: 0.8 | H5: 0.8
A6: Maritime | B6: 0.101 | D6: Allemagne | E6: 1 | F6: 0.461 | G6: 1.4 | H6: =$H$33 -> 8.6 | I6: =O6*'Tableau de bord'!$E$7/'Tableau de bord'!$E$23 -> #DIV/0! | J6: =P6*'Tableau de bord'!$E$7/'Tableau de bord'!$E$23 -> #DIV/0! | K6: =Q6*'Tableau de bord'!$E$7/'Tableau de bord'!$E$23 -> #DIV/0! | L6: =R6*'Tableau de bord'!$E$7/'Tableau de bord'!$E$23 -> #DIV/0! | M6: =S6*'Tableau de bord'!$E$7/'Tableau de bord'!$E$23 -> #DIV/0! | O6: 53 | P6: 53 | Q6: 53 | R6: 53 | S6: =MAX(O6:R6) -> 53
A7: Routier, Europe | B7: 0.256 | D7: Autriche | E7: 1 | F7: 0.188 | G7: 1.4 | H7: =$H$33 -> 8.6 | I7: =O7*'Tableau de bord'!$E$7/'Tableau de bord'!$E$23 -> #DIV/0! | J7: =P7*'Tableau de bord'!$E$7/'Tableau de bord'!$E$23 -> #DIV/0! | K7: =Q7*'Tableau de bord'!$E$7/'Tableau de bord'!$E$23 -> #DIV/0! | L7: =R7*'Tableau de bord'!$E$7/'Tableau de bord'!$E$23 -> #DIV/0! | M7: =S7*'Tableau de bord'!$E$7/'Tableau de bord'!$E$23 -> #DIV/0! | O7: =O$33 -> 53 | P7: =P$33 -> 53 | Q7: =Q$33 -> 53 | R7: =R$33 -> 53 | S7: =S$33 -> 53
A8: Routier, Monde | B8: 0.377 | D8: Belgique | E8: 1 | F8: 0.259 | G8: 1.3 | H8: =$H$33 -> 8.6 | I8: =O8*'Tableau de bord'!$E$7/'Tableau de bord'!$E$23 -> #DIV/0! | J8: =P8*'Tableau de bord'!$E$7/'Tableau de bord'!$E$23 -> #DIV/0! | K8: =Q8*'Tableau de bord'!$E$7/'Tableau de bord'!$E$23 -> #DIV/0! | L8: =R8*'Tableau de bord'!$E$7/'Tableau de bord'!$E$23 -> #DIV/0! | M8: =S8*'Tableau de bord'!$E$7/'Tableau de bord'!$E$23 -> #DIV/0! | O8: =O$33 -> 53 | P8: =P$33 -> 53 | Q8: =Q$33 -> 53 | R8: =R$33 -> 53 | S8: =S$33 -> 53
D9: Brésil | E9: 0 | F9: 0.25 | G9: 1.7 | H9: =$H$35 -> 13.9 | I9: =O9*'Tableau de bord'!$E$7/'Tableau de bord'!$E$23 -> #DIV/0! | J9: =P9*'Tableau de bord'!$E$7/'Tableau de bord'!$E$23 -> #DIV/0! | K9: =Q9*'Tableau de bord'!$E$7/'Tableau de bord'!$E$23 -> #DIV/0! | L9: =R9*'Tableau de bord'!$E$7/'Tableau de bord'!$E$23 -> #DIV/0! | M9: =S9*'Tableau de bord'!$E$7/'Tableau de bord'!$E$23 -> #DIV/0! | O9: =O$33 -> 53 | P9: =P$33 -> 53 | Q9: =Q$33 -> 53 | R9: =R$33 -> 53 | S9: =S$33 -> 53
A10: Ferré, Afrique | B10: 0.045 | D10: Chine | E10: 0 | F10: 1.024 | G10: 2 | H10: 20 | I10: =O10*'Tableau de bord'!$E$7/'Tableau de bord'!$E$23 -> #DIV/0! | J10: =P10*'Tableau de bord'!$E$7/'Tableau de bord'!$E$23 -> #DIV/0! | K10: =Q10*'Tableau de bord'!$E$7/'Tableau de bord'!$E$23 -> #DIV/0! | L10: =R10*'Tableau de bord'!$E$7/'Tableau de bord'!$E$23 -> #DIV/0! | M10: =S10*'Tableau de bord'!$E$7/'Tableau de bord'!$E$23 -> #DIV/0! | O10: 68 | P10: 68 | Q10: 68 | R10: 68 | S10: =MAX(O10:R10) -> 68
A11: Ferré, Asie | B11: 0.041 | D11: Corée du Sud | E11: 0 | F11: 0.636 | G11: 1.7 | H11: =$H$34 -> 18.5 | I11: =O11*'Tableau de bord'!$E$7/'Tableau de bord'!$E$23 -> #DIV/0! | J11: =P11*'Tableau de bord'!$E$7/'Tableau de bord'!$E$23 -> #DIV/0! | K11: =Q11*'Tableau de bord'!$E$7/'Tableau de bord'!$E$23 -> #DIV/0! | L11: =R11*'Tableau de bord'!$E$7/'Tableau de bord'!$E$23 -> #DIV/0! | M11: =S11*'Tableau de bord'!$E$7/'Tableau de bord'!$E$23 -> #DIV/0! | O11: 63 | P11: 63 | Q11: 63 | R11: 63 | S11: =MAX(O11:R11) -> 63
A12: Ferré, Europe hors Fr | B12: 0.023 | D12: Espagne | E12: 1 | F12: 0.337 | G12: 1.4 | H12: =$H$33 -> 8.6 | I12: =O12*'Tableau de bord'!$E$7/'Tableau de bord'!$E$23 -> #DIV/0! | J12: =P12*'Tableau de bord'!$E$7/'Tableau de bord'!$E$23 -> #DIV/0! | K12: =Q12*'Tableau de bord'!$E$7/'Tableau de bord'!$E$23 -> #DIV/0! | L12: =R12*'Tableau de bord'!$E$7/'Tableau de bord'!$E$23 -> #DIV/0! | M12: =S12*'Tableau de bord'!$E$7/'Tableau de bord'!$E$23 -> #DIV/0! | O12: 53 | P12: 53 | Q12: 53 | R12: 53 | S12: =MAX(O12:R12) -> 53
A13: Ferré, France | B13: 0.01 | D13: États-Unis | E13: 0 | F13: 0.669 | G13: 1.1 | H13: =$H$35 -> 13.9 | I13: =O13*'Tableau de bord'!$E$7/'Tableau de bord'!$E$23 -> #DIV/0! | J13: =P13*'Tableau de bord'!$E$7/'Tableau de bord'!$E$23 -> #DIV/0! | K13: =Q13*'Tableau de bord'!$E$7/'Tableau de bord'!$E$23 -> #DIV/0! | L13: =R13*'Tableau de bord'!$E$7/'Tableau de bord'!$E$23 -> #DIV/0! | M13: =S13*'Tableau de bord'!$E$7/'Tableau de bord'!$E$23 -> #DIV/0! | O13: 55 | P13: 55 | Q13: 55 | R13: 55 | S13: =MAX(O13:R13) -> 55
A14: Ferré, Autre | B14: 0.038 | D14: Finlande | E14: 1 | F14: 0.238 | G14: 1.4 | H14: =$H$33 -> 8.6 | I14: =O14*'Tableau de bord'!$E$7/'Tableau de bord'!$E$23 -> #DIV/0! | J14: =P14*'Tableau de bord'!$E$7/'Tableau de bord'!$E$23 -> #DIV/0! | K14: =Q14*'Tableau de bord'!$E$7/'Tableau de bord'!$E$23 -> #DIV/0! | L14: =R14*'Tableau de bord'!$E$7/'Tableau de bord'!$E$23 -> #DIV/0! | M14: =S14*'Tableau de bord'!$E$7/'Tableau de bord'!$E$23 -> #DIV/0! | O14: =O$33 -> 53 | P14: =P$33 -> 53 | Q14: =Q$33 -> 53 | R14: =R$33 -> 53 | S14: =S$33 -> 53
A15: Fluvial | B15: 0.066 | D15: France | E15: 1 | F15: 0.052 | G15: 1.4 | H15: =$H$33 -> 8.6 | I15: =O15*'Tableau de bord'!$E$7/'Tableau de bord'!$E$23 -> #DIV/0! | J15: =P15*'Tableau de bord'!$E$7/'Tableau de bord'!$E$23 -> #DIV/0! | K15: =Q15*'Tableau de bord'!$E$7/'Tableau de bord'!$E$23 -> #DIV/0! | L15: =R15*'Tableau de bord'!$E$7/'Tableau de bord'!$E$23 -> #DIV/0! | M15: =S15*'Tableau de bord'!$E$7/'Tableau de bord'!$E$23 -> #DIV/0! | O15: 53 | P15: 53 | Q15: 53 | R15: 53 | S15: =MAX(O15:R15) -> 53
A16: Aérien | B16: 1.21 | D16: Hongrie | E16: 1 | F16: 0.464 | G16: 1.4 | H16: =$H$33 -> 8.6 | I16: =O16*'Tableau de bord'!$E$7/'Tableau de bord'!$E$23 -> #DIV/0! | J16: =P16*'Tableau de bord'!$E$7/'Tableau de bord'!$E$23 -> #DIV/0! | K16: =Q16*'Tableau de bord'!$E$7/'Tableau de bord'!$E$23 -> #DIV/0! | L16: =R16*'Tableau de bord'!$E$7/'Tableau de bord'!$E$23 -> #DIV/0! | M16: =S16*'Tableau de bord'!$E$7/'Tableau de bord'!$E$23 -> #DIV/0! | O16: 53 | P16: 53 | Q16: 53 | R16: 53 | S16: =MAX(O16:R16) -> 53
A17: Routier, Afrique | B17: 0.414 | D17: Inde | E17: 0 | F17: 1.39 | G17: 2.1 | H17: =$H$34 -> 18.5 | I17: =O17*'Tableau de bord'!$E$7/'Tableau de bord'!$E$23 -> #DIV/0! | J17: =P17*'Tableau de bord'!$E$7/'Tableau de bord'!$E$23 -> #DIV/0! | K17: =Q17*'Tableau de bord'!$E$7/'Tableau de bord'!$E$23 -> #DIV/0! | L17: =R17*'Tableau de bord'!$E$7/'Tableau de bord'!$E$23 -> #DIV/0! | M17: =S17*'Tableau de bord'!$E$7/'Tableau de bord'!$E$23 -> #DIV/0! | O17: =O$34 -> 68 | P17: =P$34 -> 68 | Q17: =Q$34 -> 68 | R17: =R$34 -> 68 | S17: =S$34 -> 68
A18: Routier, Amérique | B18: 0.318 | D18: Indonésie | E18: 0 | F18: 0.735 | G18: 2.2 | H18: =$H$34 -> 18.5 | I18: =O18*'Tableau de bord'!$E$7/'Tableau de bord'!$E$23 -> #DIV/0! | J18: =P18*'Tableau de bord'!$E$7/'Tableau de bord'!$E$23 -> #DIV/0! | K18: =Q18*'Tableau de bord'!$E$7/'Tableau de bord'!$E$23 -> #DIV/0! | L18: =R18*'Tableau de bord'!$E$7/'Tableau de bord'!$E$23 -> #DIV/0! | M18: =S18*'Tableau de bord'!$E$7/'Tableau de bord'!$E$23 -> #DIV/0! | O18: =O$34 -> 68 | P18: =P$34 -> 68 | Q18: =Q$34 -> 68 | R18: =R$34 -> 68 | S18: =S$34 -> 68
A19: Routier, Asie | B19: 0.377 | D19: Italie | E19: 1 | F19: 0.426 | G19: 1.2 | H19: =$H$33 -> 8.6 | I19: =O19*'Tableau de bord'!$E$7/'Tableau de bord'!$E$23 -> #DIV/0! | J19: =P19*'Tableau de bord'!$E$7/'Tableau de bord'!$E$23 -> #DIV/0! | K19: =Q19*'Tableau de bord'!$E$7/'Tableau de bord'!$E$23 -> #DIV/0! | L19: =R19*'Tableau de bord'!$E$7/'Tableau de bord'!$E$23 -> #DIV/0! | M19: =S19*'Tableau de bord'!$E$7/'Tableau de bord'!$E$23 -> #DIV/0! | O19: 53 | P19: 53 | Q19: 53 | R19: 53 | S19: =MAX(O19:R19) -> 53
A20: Routier, Europe hors Fr | B20: 0.256 | D20: Japon | E20: 0 | F20: 0.743 | G20: 1.9 | H20: 12.6 | I20: =O20*'Tableau de bord'!$E$7/'Tableau de bord'!$E$23 -> #DIV/0! | J20: =P20*'Tableau de bord'!$E$7/'Tableau de bord'!$E$23 -> #DIV/0! | K20: =Q20*'Tableau de bord'!$E$7/'Tableau de bord'!$E$23 -> #DIV/0! | L20: =R20*'Tableau de bord'!$E$7/'Tableau de bord'!$E$23 -> #DIV/0! | M20: =S20*'Tableau de bord'!$E$7/'Tableau de bord'!$E$23 -> #DIV/0! | O20: 67 | P20: 67 | Q20: 67 | R20: 67 | S20: =MAX(O20:R20) -> 67
A21: Routier, France | B21: 0.208 | D21: Maroc | E21: 0 | F21: 0.808 | G21: 1.9 | H21: =$H$34 -> 18.5 | I21: =O21*'Tableau de bord'!$E$7/'Tableau de bord'!$E$23 -> #DIV/0! | J21: =P21*'Tableau de bord'!$E$7/'Tableau de bord'!$E$23 -> #DIV/0! | K21: =Q21*'Tableau de bord'!$E$7/'Tableau de bord'!$E$23 -> #DIV/0! | L21: =R21*'Tableau de bord'!$E$7/'Tableau de bord'!$E$23 -> #DIV/0! | M21: =S21*'Tableau de bord'!$E$7/'Tableau de bord'!$E$23 -> #DIV/0! | O21: =O$34 -> 68 | P21: =P$34 -> 68 | Q21: =Q$34 -> 68 | R21: =R$34 -> 68 | S21: =S$34 -> 68
A22: Routier, Océanie | B22: 0.386 | D22: Mexique | E22: 0 | F22: 0.578 | G22: 1.3 | H22: =$H$35 -> 13.9 | I22: =O22*'Tableau de bord'!$E$7/'Tableau de bord'!$E$23 -> #DIV/0! | J22: =P22*'Tableau de bord'!$E$7/'Tableau de bord'!$E$23 -> #DIV/0! | K22: =Q22*'Tableau de bord'!$E$7/'Tableau de bord'!$E$23 -> #DIV/0! | L22: =R22*'Tableau de bord'!$E$7/'Tableau de bord'!$E$23 -> #DIV/0! | M22: =S22*'Tableau de bord'!$E$7/'Tableau de bord'!$E$23 -> #DIV/0! | O22: =O$34 -> 68 | P22: =P$34 -> 68 | Q22: =Q$34 -> 68 | R22: =R$34 -> 68 | S22: =S$34 -> 68
A23: Maritime, v. carrier, high cap. (2.1) | B23: 0.025 | D23: Pologne | E23: 1 | F23: 1.008 | G23: 1.4 | H23: =$H$33 -> 8.6 | I23: =O23*'Tableau de bord'!$E$7/'Tableau de bord'!$E$23 -> #DIV/0! | J23: =P23*'Tableau de bord'!$E$7/'Tableau de bord'!$E$23 -> #DIV/0! | K23: =Q23*'Tableau de bord'!$E$7/'Tableau de bord'!$E$23 -> #DIV/0! | L23: =R23*'Tableau de bord'!$E$7/'Tableau de bord'!$E$23 -> #DIV/0! | M23: =S23*'Tableau de bord'!$E$7/'Tableau de bord'!$E$23 -> #DIV/0! | O23: 53 | P23: 53 | Q23: 53 | R23: 53 | S23: =MAX(O23:R23) -> 53
A24: Maritime, v. carrier, med cap. (2.2) | B24: 0.05 | D24: Portugal | E24: 1 | F24: 0.365 | G24: 1.4 | H24: =$H$33 -> 8.6 | I24: =O24*'Tableau de bord'!$E$7/'Tableau de bord'!$E$23 -> #DIV/0! | J24: =P24*'Tableau de bord'!$E$7/'Tableau de bord'!$E$23 -> #DIV/0! | K24: =Q24*'Tableau de bord'!$E$7/'Tableau de bord'!$E$23 -> #DIV/0! | L24: =R24*'Tableau de bord'!$E$7/'Tableau de bord'!$E$23 -> #DIV/0! | M24: =S24*'Tableau de bord'!$E$7/'Tableau de bord'!$E$23 -> #DIV/0! | O24: =O$33 -> 53 | P24: =P$33 -> 53 | Q24: =Q$33 -> 53 | R24: =R$33 -> 53 | S24: =S$33 -> 53
D25: République tchèque | E25: 1 | F25: 0.767 | G25: 1.4 | H25: =$H$33 -> 8.6 | I25: =O25*'Tableau de bord'!$E$7/'Tableau de bord'!$E$23 -> #DIV/0! | J25: =P25*'Tableau de bord'!$E$7/'Tableau de bord'!$E$23 -> #DIV/0! | K25: =Q25*'Tableau de bord'!$E$7/'Tableau de bord'!$E$23 -> #DIV/0! | L25: =R25*'Tableau de bord'!$E$7/'Tableau de bord'!$E$23 -> #DIV/0! | M25: =S25*'Tableau de bord'!$E$7/'Tableau de bord'!$E$23 -> #DIV/0! | O25: =O$33 -> 53 | P25: =P$33 -> 53 | Q25: =Q$33 -> 53 | R25: =R$33 -> 53 | S25: =S$33 -> 53
D26: Royaume-Uni | E26: 1 | F26: 0.531 | G26: 1.5 | H26: =$H$33 -> 8.6 | I26: =O26*'Tableau de bord'!$E$7/'Tableau de bord'!$E$23 -> #DIV/0! | J26: =P26*'Tableau de bord'!$E$7/'Tableau de bord'!$E$23 -> #DIV/0! | K26: =Q26*'Tableau de bord'!$E$7/'Tableau de bord'!$E$23 -> #DIV/0! | L26: =R26*'Tableau de bord'!$E$7/'Tableau de bord'!$E$23 -> #DIV/0! | M26: =S26*'Tableau de bord'!$E$7/'Tableau de bord'!$E$23 -> #DIV/0! | O26: 53 | P26: 53 | Q26: 53 | R26: 53 | S26: =MAX(O26:R26) -> 53
D27: Slovaquie | E27: 1 | F27: 0.446 | G27: 1.4 | H27: =$H$33 -> 8.6 | I27: =O27*'Tableau de bord'!$E$7/'Tableau de bord'!$E$23 -> #DIV/0! | J27: =P27*'Tableau de bord'!$E$7/'Tableau de bord'!$E$23 -> #DIV/0! | K27: =Q27*'Tableau de bord'!$E$7/'Tableau de bord'!$E$23 -> #DIV/0! | L27: =R27*'Tableau de bord'!$E$7/'Tableau de bord'!$E$23 -> #DIV/0! | M27: =S27*'Tableau de bord'!$E$7/'Tableau de bord'!$E$23 -> #DIV/0! | O27: 53 | P27: 53 | Q27: 53 | R27: 53 | S27: =MAX(O27:R27) -> 53
D28: Slovénie | E28: 1 | F28: 0.319 | G28: 1.4 | H28: =$H$33 -> 8.6 | I28: =O28*'Tableau de bord'!$E$7/'Tableau de bord'!$E$23 -> #DIV/0! | J28: =P28*'Tableau de bord'!$E$7/'Tableau de bord'!$E$23 -> #DIV/0! | K28: =Q28*'Tableau de bord'!$E$7/'Tableau de bord'!$E$23 -> #DIV/0! | L28: =R28*'Tableau de bord'!$E$7/'Tableau de bord'!$E$23 -> #DIV/0! | M28: =S28*'Tableau de bord'!$E$7/'Tableau de bord'!$E$23 -> #DIV/0! | O28: =O$33 -> 53 | P28: =P$33 -> 53 | Q28: =Q$33 -> 53 | R28: =R$33 -> 53 | S28: =S$33 -> 53
D29: Suède | E29: 1 | F29: 0.049 | G29: =G$33 -> 1.4 | H29: =H$33 -> 8.6 | I29: =O29*'Tableau de bord'!$E$7/'Tableau de bord'!$E$23 -> #DIV/0! | J29: =P29*'Tableau de bord'!$E$7/'Tableau de bord'!$E$23 -> #DIV/0! | K29: =Q29*'Tableau de bord'!$E$7/'Tableau de bord'!$E$23 -> #DIV/0! | L29: =R29*'Tableau de bord'!$E$7/'Tableau de bord'!$E$23 -> #DIV/0! | M29: =S29*'Tableau de bord'!$E$7/'Tableau de bord'!$E$23 -> #DIV/0! | O29: =O$33 -> 53 | P29: =P$33 -> 53 | Q29: =Q$33 -> 53 | R29: =R$33 -> 53
D30: Turquie | E30: 0 | F30: 0.645 | G30: 1.4 | H30: =$H$34 -> 18.5 | I30: =O30*'Tableau de bord'!$E$7/'Tableau de bord'!$E$23 -> #DIV/0! | J30: =P30*'Tableau de bord'!$E$7/'Tableau de bord'!$E$23 -> #DIV/0! | K30: =Q30*'Tableau de bord'!$E$7/'Tableau de bord'!$E$23 -> #DIV/0! | L30: =R30*'Tableau de bord'!$E$7/'Tableau de bord'!$E$23 -> #DIV/0! | M30: =S30*'Tableau de bord'!$E$7/'Tableau de bord'!$E$23 -> #DIV/0! | O30: =O$34 -> 68 | P30: =P$34 -> 68 | Q30: =Q$34 -> 68 | R30: =R$34 -> 68 | S30: =S$34 -> 68
D31: Vietnam | E31: 0 | F31: 0.421 | G31: 1.9 | H31: =$H$34 -> 18.5 | I31: =O31*'Tableau de bord'!$E$7/'Tableau de bord'!$E$23 -> #DIV/0! | J31: =P31*'Tableau de bord'!$E$7/'Tableau de bord'!$E$23 -> #DIV/0! | K31: =Q31*'Tableau de bord'!$E$7/'Tableau de bord'!$E$23 -> #DIV/0! | L31: =R31*'Tableau de bord'!$E$7/'Tableau de bord'!$E$23 -> #DIV/0! | M31: =S31*'Tableau de bord'!$E$7/'Tableau de bord'!$E$23 -> #DIV/0! | O31: =O$34 -> 68 | P31: =P$34 -> 68 | Q31: =Q$34 -> 68 | R31: =R$34 -> 68 | S31: =S$34 -> 68
D32: Norvège | E32: 1 | F32: 0.029 | G32: =G$33 -> 1.4 | H32: =H$33 -> 8.6 | I32: =O32*'Tableau de bord'!$E$7/'Tableau de bord'!$E$23 -> #DIV/0! | J32: =P32*'Tableau de bord'!$E$7/'Tableau de bord'!$E$23 -> #DIV/0! | K32: =Q32*'Tableau de bord'!$E$7/'Tableau de bord'!$E$23 -> #DIV/0! | L32: =R32*'Tableau de bord'!$E$7/'Tableau de bord'!$E$23 -> #DIV/0! | M32: =S32*'Tableau de bord'!$E$7/'Tableau de bord'!$E$23 -> #DIV/0! | O32: =O$33 -> 53 | P32: =P$33 -> 53 | Q32: =Q$33 -> 53 | R32: =R$33 -> 53
D33: Autres pays d’Europe | E33: 1 | F33: 0.447 | G33: 1.4 | H33: 8.6 | I33: =O33*'Tableau de bord'!$E$7/'Tableau de bord'!$E$23 -> #DIV/0! | J33: =P33*'Tableau de bord'!$E$7/'Tableau de bord'!$E$23 -> #DIV/0! | K33: =Q33*'Tableau de bord'!$E$7/'Tableau de bord'!$E$23 -> #DIV/0! | L33: =R33*'Tableau de bord'!$E$7/'Tableau de bord'!$E$23 -> #DIV/0! | M33: =S33*'Tableau de bord'!$E$7/'Tableau de bord'!$E$23 -> #DIV/0! | O33: 53 | P33: 53 | Q33: 53 | R33: 53 | S33: =MAX(O33:R33) -> 53
D34: Autres | E34: 0 | F34: 0.735 | G34: 2 | H34: 18.5 | I34: =O34*'Tableau de bord'!$E$7/'Tableau de bord'!$E$23 -> #DIV/0! | J34: =P34*'Tableau de bord'!$E$7/'Tableau de bord'!$E$23 -> #DIV/0! | K34: =Q34*'Tableau de bord'!$E$7/'Tableau de bord'!$E$23 -> #DIV/0! | L34: =R34*'Tableau de bord'!$E$7/'Tableau de bord'!$E$23 -> #DIV/0! | M34: =S34*'Tableau de bord'!$E$7/'Tableau de bord'!$E$23 -> #DIV/0! | O34: 68 | P34: 68 | Q34: 68 | R34: 68 | S34: =MAX(O34:R34) -> 68
D35: Autres pays d’Amérique | E35: 0 | F35: 0.735 | G35: 1.3 | H35: 13.9 | I35: =O35*'Tableau de bord'!$E$7/'Tableau de bord'!$E$23 -> #DIV/0! | J35: =P35*'Tableau de bord'!$E$7/'Tableau de bord'!$E$23 -> #DIV/0! | K35: =Q35*'Tableau de bord'!$E$7/'Tableau de bord'!$E$23 -> #DIV/0! | L35: =R35*'Tableau de bord'!$E$7/'Tableau de bord'!$E$23 -> #DIV/0! | M35: =S35*'Tableau de bord'!$E$7/'Tableau de bord'!$E$23 -> #DIV/0! | O35: =O$34 -> 68 | P35: =P$34 -> 68 | Q35: =Q$34 -> 68 | R35: =R$34 -> 68 | S35: =S$34 -> 68

Sheet FE_Autres
G1: 1 | H1: 2 | I1: 3 | J1: 4 | K1: 5 | L1: 6 | M1: 7 | N1: 8 | O1: 9 | P1: 10 | Q1: 11 | R1: 12 | S1: 13 | T1: 14 | U1: 15
J2: Procédé UUID | L2: Conversion des unités | N2: Facteur d'émission GES | P2: Cout environnemental | U2: Informations complémentaires
G3: Libellé | H3: Unité | I3: Source | J3: Procédé UUID | K3: Unités UUID | L3: conversion kg/unité UUID | M3: Perte procédé | N3: UUID | O3: Par unité calculette | P3: UUID | Q3: Par kg | U3: Nom du procédé dans la Base
G4: Moteur | H4: kg | I4: BaseEmpreinte | K4: kg | L4: 1 | M4: 0 | N4: 2.93 | O4: =N4*(1+M4)/L4 -> 2.93 | R4: Spécifique | U4: Moteur
G5: Electronique | H5: kg | I5: BaseEmpreinte | J5: 6a198645-82bb-4fc4-aa4f-70b227fe1681 | K5: u | L5: 0.08 | M5: 0 | N5: 2.8 | O5: =N5*(1+M5)/L5 -> 35 | R5: Spécifique | U5: Télécommande
G6: Système photovoltaïque | H6: Wc | I6: Référence AO CRE France (méthodologie ADEME) | K6: kg | L6: ='Tableau de bord'!$E$22/'Tableau de bord'!$C$8 -> #DIV/0! | M6: 0 | N6: 0.55 | O6: =N6*(1+M6)/L6 -> #DIV/0!
G7: Pneumatique type vélo | H7: kg | I7: BaseEmpreinte | J7: c4b3fe68-9682-4caa-843e-9199cf23be0f | K7: kg | L7: 1 | M7: 0 | N7: 3.15504 | O7: 3.15504 | P7: 0.6972951 | Q7: 0.6972951 | R7: Spécifique | U7: Caoutchouc butyle - caoutchouc isobutylène-isoprène (IIR) par polymérisation en émulsion, RER
G8: Pneumatique type véhicules légers | H8: kg | I8: BaseEmpreinte | J8: c4b3fe68-9682-4caa-843e-9199cf23be0f | K8: kg | L8: 1 | M8: 0 | N8: 3.15504 | O8: 3.15504 | P8: 0.6972951 | Q8: 0.6972951 | R8: Spécifique | U8: Caoutchouc butyle - caoutchouc isobutylène-isoprène (IIR) par polymérisation en émulsion, RER
G9: Pneumatique type véhicules lourds | H9: kg | I9: BaseEmpreinte | J9: c4b3fe68-9682-4caa-843e-9199cf23be0f | K9: kg | L9: 1 | M9: 0 | N9: 3.15504 | O9: 3.15504 | P9: 0.6972951 | Q9: 0.6972951 | R9: Spécifique | U9: Caoutchouc butyle - caoutchouc isobutylène-isoprène (IIR) par polymérisation en émulsion, RER
G10: Autres composants | H10: kg | I10: 40% inox, 30% plastique, 30% composants électronique | K10: kg | O10: =40%*O22+40%*O43+20%*O5 -> 10.862296 | R10: Spécifique
G11: Electricité | H11: kWh | I11: ADEME / Ecoinvent | K11: kWh | L11: 1 | M11: 0 | N11: =FE_Specifiques!$F$15 -> 0.052 | O11: =N11*(1+M11)/L11 -> 0.052 | R11: Spécifique | U11: Electricité/2022 - mix moyen/consommation
G12: Transport maritime | H12: t.km | I12: BaseEmpreinte | K12: t.km | L12: 1 | M12: 0 | N12: 0.00847 | O12: =N12*(1+M12)/L12 -> 0.00847 | R12: Spécifique | U12: Porte-conteneur/Dry/Valeur moyenne
G13: Transport routier Europe | H13: t.km | I13: BaseEmpreinte | J13: c0397088-6a57-eea7-8950-1d6db2e6bfdb | K13: t.km | L13: 1 | M13: 0 | N13: 0.155 | O13: =N13*(1+M13)/L13 -> 0.155 | R13: Spécifique | U13: Transport en camion (dont parc, utilisation et infrastructure) (50%) [tkm], RER
G14: Transport routier Monde | H14: t.km | I14: BaseEmpreinte | J14: cf6e9d81-358c-4f44-5ab7-0e7a89440576 | K14: t.km | L14: 1 | M14: 0 | N14: 0.203 | O14: =N14*(1+M14)/L14 -> 0.203 | R14: Spécifique | U14: Transport en camion (dont parc, utilisation et infrastructure) (50%) [tkm], GLO
A16: Chassis Carosserie | C16: Moyeu Jante | E16: Assise | J16: Procédé UUID | L16: Conversion des unités | N16: Facteur d'émission GES | P16: Cout environnemental | U16: Informations complémentaires
A17: Intérêt | B17: n° liste | C17: Intérêt | D17: n° liste | E17: Intérêt | F17: n° liste | G17: Libellé | H17: Unité | I17: Source | J17: Procédé UUID | K17: Unités UUID | L17: conversion kg/unité UUID | M17: Perte procédé | N17: UUID | O17: Par kg | P17: UUID | Q17: Par kg | U17: Nom du procédé dans la Base
A18: 1 | B18: =IF(A18=1,1,0) -> 1 | C18: 1 | D18: =IF(C18=1,1,0) -> 1 | E18: 1 | F18: =IF(E18=1,1,0) -> 1 | G18: Métaux: Acier galvanisé, 100% recyclage | H18: kg | I18: BaseEmpreinte | J18: 385fe6c8-179a-e8eb-ccb7-d12ae2e3e447 | K18: kg | L18: 1 | M18: 0 | N18: 1.22143 | O18: =N18*(1+M18)/L18 -> 1.22143 | P18: 0.12200784 | Q18: =P18*(1+$M18) -> 0.12200784 | R18: Metal | S18: Acier | T18: produit intermédiaire | U18: Acier, rouleaux, galvanisé à chaud pour meuble (100% de recyclage)
A19: 1 | B19: =IF(A19=1,MAX(B$18:B18)+1,"") -> 2 | C19: 1 | D19: =IF(C19=1,MAX(D$18:D18)+1,"") -> 2 | E19: 1 | F19: =IF(E19=1,MAX(F$18:F18)+1,"") -> 2 | G19: Métaux: Acier galvanisé, 0% recyclage | H19: kg | I19: BaseEmpreinte | J19: 1e92b419-a02a-5721-85af-2354d2b3c791 | K19: kg | L19: 1 | M19: 0 | N19: 2.79309 | O19: =N19*(1+M19)/L19 -> 2.79309 | P19: 0.19657999 | Q19: =P19*(1+$M19) -> 0.19657999 | R19: Metal | S19: Acier | T19: produit intermédiaire | U19: Acier, rouleaux, galvanisé à chaud pour habillement (0% de recyclage)
A20: 1 | B20: =IF(A20=1,MAX(B$18:B19)+1,"") -> 3 | C20: 1 | D20: =IF(C20=1,MAX(D$18:D19)+1,"") -> 3 | E20: 1 | F20: =IF(E20=1,MAX(F$18:F19)+1,"") -> 3 | G20: Métaux: Acier galvanisé, 50% recyclage | H20: kg | I20: BaseEmpreinte | J20: a2594c17-7fcc-7737-bf3d-6666723d96ec | K20: kg | L20: 1 | M20: 0 | N20: 2.00726 | O20: =N20*(1+M20)/L20 -> 2.00726 | P20: 0.15929397 | Q20: =P20*(1+$M20) -> 0.15929397 | R20: Metal | S20: Acier | T20: produit intermédiaire | U20: Acier, rouleaux, galvanisé à chaud pour EEE (50% de recyclage)
A21: 1 | B21: =IF(A21=1,MAX(B$18:B20)+1,"") -> 4 | C21: 1 | D21: =IF(C21=1,MAX(D$18:D20)+1,"") -> 4 | E21: 1 | F21: =IF(E21=1,MAX(F$18:F20)+1,"") -> 4 | G21: Métaux: Acier inoxydable, 100% recyclage | H21: kg | I21: BaseEmpreinte | J21: 7fbb6cb7-8256-73e0-0fc6-636f6c37bfd5 | K21: kg | L21: 1 | M21: 0 | N21: 3.67555 | O21: =N21*(1+M21)/L21 -> 3.67555 | P21: 0.3575918 | Q21: =P21*(1+$M21) -> 0.3575918 | R21: Metal | S21: Acier | T21: produit intermédiaire | U21: Acier inoxydable, rouleaux, laminés à froid (304) pour meuble (100% de recyclage)
A22: 1 | B22: =IF(A22=1,MAX(B$18:B21)+1,"") -> 5 | C22: 1 | D22: =IF(C22=1,MAX(D$18:D21)+1,"") -> 5 | E22: 1 | F22: =IF(E22=1,MAX(F$18:F21)+1,"") -> 5 | G22: Métaux: Acier inoxydable, 0% recyclage | H22: kg | I22: BaseEmpreinte | J22: 54225d7b-e9f0-e4cd-d896-157b52559fd9 | K22: kg | L22: 1 | M22: 0 | N22: 7.58213 | O22: =N22*(1+M22)/L22 -> 7.58213 | P22: 0.72344193 | Q22: =P22*(1+$M22) -> 0.72344193 | R22: Metal | S22: Acier | T22: produit intermédiaire | U22: Acier inoxydable, rouleaux, laminés à froid (304) pour habillement (0% de recyclage)
A23: 1 | B23: =IF(A23=1,MAX(B$18:B22)+1,"") -> 6 | C23: 1 | D23: =IF(C23=1,MAX(D$18:D22)+1,"") -> 6 | E23: 1 | F23: =IF(E23=1,MAX(F$18:F22)+1,"") -> 6 | G23: Métaux: Acier inoxydable, 50% recyclage | H23: kg | I23: BaseEmpreinte | J23: 7eda3271-2647-2a61-f9ab-99c92ff95381 | K23: kg | L23: 1 | M23: 0 | N23: 4.6552 | O23: =N23*(1+M23)/L23 -> 4.6552 | P23: 0.44141397 | Q23: =P23*(1+$M23) -> 0.44141397 | R23: Metal | S23: Acier | T23: produit intermédiaire | U23: Acier inoxydable, rouleaux, laminés à froid (304) pour EEE (50% de recyclage)
A24: 1 | B24: =IF(A24=1,MAX(B$18:B23)+1,"") -> 7 | C24: 1 | D24: =IF(C24=1,MAX(D$18:D23)+1,"") -> 7 | E24: 1 | F24: =IF(E24=1,MAX(F$18:F23)+1,"") -> 7 | G24: Métaux: Aluminium tôle, 78% recyclé (UE) | H24: kg | I24: BaseEmpreinte | J24: 09215eb1-5fc9-11dd-ad8b-0800200c9a66 | K24: kg | L24: 1 | M24: 0.1 | N24: 3.22326 | O24: =N24*(1+M24)/L24 -> 3.545586 | P24: 0.18694733 | Q24: =P24*(1+$M24) -> 0.20564206 | R24: Metal | S24: Aluminium | T24: produit intermédiaire | U24: Aluminium, tôle
A25: 1 | B25: =IF(A25=1,MAX(B$18:B24)+1,"") -> 8 | C25: 1 | D25: =IF(C25=1,MAX(D$18:D24)+1,"") -> 8 | E25: 1 | F25: =IF(E25=1,MAX(F$18:F24)+1,"") -> 8 | G25: Métaux: Aluminium profil extrudé, 78% recyclé (UE) | H25: kg | I25: BaseEmpreinte | J25: 09215eb0-5fc9-11dd-ad8b-0800200c9a66 | K25: kg | L25: 1 | M25: 0.1 | N25: 2.45632 | O25: =N25*(1+M25)/L25 -> 2.701952 | P25: 0.14354385 | Q25: =P25*(1+$M25) -> 0.15789824 | R25: Metal | S25: Aluminium | T25: produit intermédiaire | U25: Aluminium, profilé extrudé
A26: 1 | B26: =IF(A26=1,MAX(B$18:B25)+1,"") -> 9 | C26: 1 | D26: =IF(C26=1,MAX(D$18:D25)+1,"") -> 9 | E26: 1 | F26: =IF(E26=1,MAX(F$18:F25)+1,"") -> 9 | G26: Métaux: Zamak - alliage de zinc (ZnAlMgCu) | H26: kg | I26: BaseEmpreinte | J26: 91efc8a2-ee30-4304-a76b-dc3f97578b98 | K26: kg | L26: 1 | M26: 0.1 | N26: 3.60804 | O26: =N26*(1+M26)/L26 -> 3.968844 | P26: 4.6251742 | Q26: =P26*(1+$M26) -> 5.0876916 | R26: Metal | S26: Autre métal non-ferreux | T26: produit intermédiaire | U26: Zamak - alliage de zinc (ZnAlMgCu)
A27: 1 | B27: =IF(A27=1,MAX(B$18:B26)+1,"") -> 10 | C27: 1 | D27: =IF(C27=1,MAX(D$18:D26)+1,"") -> 10 | E27: 1 | F27: =IF(E27=1,MAX(F$18:F26)+1,"") -> 10 | G27: Métaux: Cuivre | H27: kg | I27: BaseEmpreinte | J27: c7177880-7394-406f-8488-348238061cdf | K27: kg | L27: 1 | M27: 0.1 | N27: 3.93143 | O27: =N27*(1+M27)/L27 -> 4.324573 | P27: 3.6461578 | Q27: =P27*(1+$M27) -> 4.0107736 | R27: Metal | S27: Autre métal non-ferreux | T27: produit intermédiaire | U27: Mix cuivre (99,999% issu de l'électrolyse)
A28: 1 | B28: =IF(A28=1,MAX(B$18:B27)+1,"") -> 11 | C28: 1 | D28: =IF(C28=1,MAX(D$18:D27)+1,"") -> 11 | E28: 1 | F28: =IF(E28=1,MAX(F$18:F27)+1,"") -> 11 | G28: Métaux: Laiton (CuZn20) | H28: kg | I28: BaseEmpreinte | J28: 97d697dd-0f27-49b6-a8f5-d9b35705ab28 | K28: kg | L28: 1 | M28: 0 | N28: 0.602027 | O28: =N28*(1+M28)/L28 -> 0.602027 | P28: 0.73167259 | Q28: =P28*(1+$M28) -> 0.73167259 | R28: Metal | S28: Autre métal non-ferreux | T28: produit intermédiaire | U28: Laiton (CuZn20)
A29: 1 | B29: =IF(A29=1,MAX(B$18:B28)+1,"") -> 12 | C29: 1 | D29: =IF(C29=1,MAX(D$18:D28)+1,"") -> 12 | E29: 1 | F29: =IF(E29=1,MAX(F$18:F28)+1,"") -> 12 | G29: Plastiques: Polypropylene (PP) | H29: kg | I29: BaseEmpreinte | J29: 62d97409-d9ae-4242-9967-ba8cd14c4bb3 | K29: kg | L29: 1 | M29: 0.02 | N29: 2.03295 | O29: =N29*(1+M29)/L29 -> 2.073609 | P29: 0.15395386 | Q29: =P29*(1+$M29) -> 0.15703294 | R29: Plastique | S29: Polymère de propylène | T29: Produit intermédiaire | U29: Polypropylène, granulés (PP), RER
A30: 1 | B30: =IF(A30=1,MAX(B$18:B28)+1,"") -> 12 | C30: 1 | D30: =IF(C30=1,MAX(D$18:D28)+1,"") -> 12 | E30: 1 | F30: =IF(E30=1,MAX(F$18:F28)+1,"") -> 12 | G30: Plastiques: Polyuréthane (PU) mousse souple | H30: kg | I30: BaseEmpreinte | J30: 0dedb5b8-eead-4035-9558-b567318b1eef | K30: kg | L30: 1 | M30: 0.02 | N30: 4.87384 | O30: =N30*(1+M30)/L30 -> 4.9713168 | P30: 0.34686378 | Q30: =P30*(1+$M30) -> 0.35380106 | R30: Plastique | S30: Autre plastique | T30: Produit intermédiaire | U30: Mousse flexible de polyuréthane (PU), RER
A31: 1 | B31: =IF(A31=1,MAX(B$18:B30)+1,"") -> 13 | C31: 1 | D31: =IF(C31=1,MAX(D$18:D30)+1,"") -> 13 | E31: 1 | F31: =IF(E31=1,MAX(F$18:F30)+1,"") -> 13 | G31: Plastiques: Polytéréphtalate de butylène (PBT) | H31: kg | I31: BaseEmpreinte | J31: 615938e0-029f-4cb2-8962-b81fd7f1b4b5 | K31: kg | L31: 1 | M31: 0.02 | N31: 3.07263 | O31: =N31*(1+M31)/L31 -> 3.1340826 | P31: 0.20979233 | Q31: =P31*(1+$M31) -> 0.21398818 | R31: Plastique | S31: Autre plastique | T31: Produit intermédiaire | U31: Résine de polyester insaturé (UP), RER
A32: 1 | B32: =IF(A32=1,MAX(B$18:B31)+1,"") -> 14 | C32: 1 | D32: =IF(C32=1,MAX(D$18:D31)+1,"") -> 14 | E32: 1 | F32: =IF(E32=1,MAX(F$18:F31)+1,"") -> 14 | G32: Plastiques: Polyuréthane (PU) mousse rigide | H32: kg | I32: BaseEmpreinte | J32: b708cf33-134d-4e49-a0dc-1ee460b9d638 | K32: kg | L32: 1 | M32: 0 | N32: 4.36627 | O32: =N32*(1+M32)/L32 -> 4.36627 | P32: 0.30929319 | Q32: =P32*(1+$M32) -> 0.30929319 | R32: Plastique | S32: Autre plastique | T32: Produit intermédiaire | U32: Mousse rigide de polyuréthane (PU), RER
A33: 1 | B33: =IF(A33=1,MAX(B$18:B32)+1,"") -> 15 | C33: 1 | D33: =IF(C33=1,MAX(D$18:D32)+1,"") -> 15 | E33: 1 | F33: =IF(E33=1,MAX(F$18:F32)+1,"") -> 15 | G33: Plastiques: Acrylonitrile butadiène styrène (ABS) | H33: kg | I33: BaseEmpreinte | J33: 3c806ba2-5567-4ebd-a1ac-6b9a5b226f6a | K33: kg | L33: 1 | M33: 0.0002 | N33: 3.94975 | O33: =N33*(1+M33)/L33 -> 3.9505399 | P33: 0.25502772 | Q33: =P33*(1+$M33) -> 0.25507873 | R33: Plastique | S33: Autre plastique | T33: Produit intermédiaire | U33: Acrylonitrile butadiène styrène, granulés (ABS), RER
A34: 1 | B34: =IF(A34=1,MAX(B$18:B33)+1,"") -> 16 | C34: 1 | D34: =IF(C34=1,MAX(D$18:D33)+1,"") -> 16 | E34: 1 | F34: =IF(E34=1,MAX(F$18:F33)+1,"") -> 16 | G34: Plastiques: Polycarbonate (PC) | H34: kg | I34: BaseEmpreinte | J34: 630ad4db-20ad-4169-9c1a-c4a1d3fd939c | K34: kg | L34: 1 | M34: 0.02 | N34: 3.72275 | O34: =N34*(1+M34)/L34 -> 3.797205 | P34: 0.25081369 | Q34: =P34*(1+$M34) -> 0.25582996 | R34: Plastique | S34: Autre plastique | T34: Produit intermédiaire | U34: Polycarbonate, granulés (PC), EU-25
A35: 1 | B35: =IF(A35=1,MAX(B$18:B34)+1,"") -> 17 | C35: 1 | D35: =IF(C35=1,MAX(D$18:D34)+1,"") -> 17 | E35: 1 | F35: =IF(E35=1,MAX(F$18:F34)+1,"") -> 17 | G35: Plastiques: Polyméthacrylate de méthyle (PMMA) (Plexiglas®) | H35: kg | I35: BaseEmpreinte | J35: 6f2cf604-82e9-444c-a146-6984977137b1 | K35: kg | L35: 1 | M35: 0.02 | N35: 7.29479 | O35: =N35*(1+M35)/L35 -> 7.4406858 | P35: 0.47377011 | Q35: =P35*(1+$M35) -> 0.48324551 | R35: Plastique | S35: Autre plastique | T35: Produit intermédiaire | U35: Polyméthacrylate de méthyle, billes (PMMA), RER
A36: 1 | B36: =IF(A36=1,MAX(B$18:B35)+1,"") -> 18 | C36: 1 | D36: =IF(C36=1,MAX(D$18:D35)+1,"") -> 18 | E36: 1 | F36: =IF(E36=1,MAX(F$18:F35)+1,"") -> 18 | G36: Plastiques: Nylon-Polyamide (PA 6) | H36: kg | I36: BaseEmpreinte | J36: 08d5b9c6-774a-4a0a-bb22-78be10e2158e | K36: kg | L36: 1 | M36: 0.02 | N36: 9.22515 | O36: =N36*(1+M36)/L36 -> 9.409653 | P36: 0.56697307 | Q36: =P36*(1+$M36) -> 0.57831254 | R36: Plastique | S36: Polyamide | T36: Produit intermédiaire | U36: Nylon 6, granulés (PA 6), RER
A37: 1 | B37: =IF(A37=1,MAX(B$18:B36)+1,"") -> 19 | C37: 1 | D37: =IF(C37=1,MAX(D$18:D36)+1,"") -> 19 | E37: 1 | F37: =IF(E37=1,MAX(F$18:F36)+1,"") -> 19 | G37: Plastiques: Nylon-Polyamide 66 (PA-66) | H37: kg | I37: BaseEmpreinte | J37: d6516c2b-9ebe-4c34-a189-2dd3cf0c461b | K37: kg | L37: 1 | M37: 0.02 | N37: 8.22373 | O37: =N37*(1+M37)/L37 -> 8.3882046 | P37: 0.48913389 | Q37: =P37*(1+$M37) -> 0.49891656 | R37: Plastique | S37: Polyamide | T37: Produit intermédiaire | U37: Nylon 6.6, granulés (PA 6.6), RER
A38: 1 | B38: =IF(A38=1,MAX(B$18:B37)+1,"") -> 20 | C38: 1 | D38: =IF(C38=1,MAX(D$18:D37)+1,"") -> 20 | E38: 1 | F38: =IF(E38=1,MAX(F$18:F37)+1,"") -> 20 | G38: Plastiques: Polytétrafluoroéthylène (PTFE) | H38: kg | I38: BaseEmpreinte | J38: 278cd646-0ae5-4e2c-b602-7abe3d061d43 | K38: kg | L38: 1 | M38: 0.02 | N38: 11.7239 | O38: =N38*(1+M38)/L38 -> 11.958378 | P38: 1.2989216 | Q38: =P38*(1+$M38) -> 1.3249 | R38: Plastique | S38: Polymère de l'éthylène | T38: Produit intermédiaire | U38: Polytétrafluoroéthylène, granulés (PTFE), mix, RER
A39: 1 | B39: =IF(A39=1,MAX(B$18:B38)+1,"") -> 21 | C39: 1 | D39: =IF(C39=1,MAX(D$18:D38)+1,"") -> 21 | E39: 1 | F39: =IF(E39=1,MAX(F$18:F38)+1,"") -> 21 | G39: Plastiques: Polyéthylène téréphthalate, granulés (PET, amorphe) | H39: kg | I39: BaseEmpreinte | J39: 7cb29b49-5898-4274-9fb6-cf59889c4256 | K39: kg | L39: 1 | M39: 0.02 | N39: 3.37286 | O39: =N39*(1+M39)/L39 -> 3.4403172 | P39: 0.23601362 | Q39: =P39*(1+$M39) -> 0.24073389 | R39: Plastique | S39: Polymère de l'éthylène | T39: Produit intermédiaire | U39: Polyéthylène téréphthalate, granulés (PET, amorphe), RER
A40: 1 | B40: =IF(A40=1,MAX(B$18:B39)+1,"") -> 22 | C40: 1 | D40: =IF(C40=1,MAX(D$18:D39)+1,"") -> 22 | E40: 1 | F40: =IF(E40=1,MAX(F$18:F39)+1,"") -> 22 | G40: Plastiques: Polyéthylène film basse densité (PEbd) | H40: kg | I40: BaseEmpreinte | J40: d42fea0b-4f12-4c93-a838-4f2d0014ca60 | K40: kg | L40: 1 | M40: 0.05 | N40: 2.17855 | O40: =N40*(1+M40)/L40 -> 2.2874775 | P40: 0.16580323 | Q40: =P40*(1+$M40) -> 0.17409339 | R40: Plastique | S40: Polymère de l'éthylène | T40: Produit intermédiaire | U40: Polyéthylène basse densité, granulés (PE-LD), RER
A41: 1 | B41: =IF(A41=1,MAX(B$18:B40)+1,"") -> 23 | C41: 1 | D41: =IF(C41=1,MAX(D$18:D40)+1,"") -> 23 | E41: 1 | F41: =IF(E41=1,MAX(F$18:F40)+1,"") -> 23 | G41: Plastiques: Polyethylène haute densité (PEhd) | H41: kg | I41: BaseEmpreinte | J41: ef8a6f57-b85b-4df9-8440-658b56ffaad8 | K41: kg | L41: 1 | M41: 0.05 | N41: 2.00997 | O41: =N41*(1+M41)/L41 -> 2.1104685 | P41: 0.15583145 | Q41: =P41*(1+$M41) -> 0.16362303 | R41: Plastique | S41: Polymère de l'éthylène | T41: Produit intermédiaire | U41: Polyéthylène haute densité, granulés (PE-HD), RER
A42: 1 | B42: =IF(A42=1,MAX(B$18:B41)+1,"") -> 24 | C42: 1 | D42: =IF(C42=1,MAX(D$18:D41)+1,"") -> 24 | E42: 1 | F42: =IF(E42=1,MAX(F$18:F41)+1,"") -> 24 | G42: Plastiques: Polyoxyméthylène (POM) | H42: kg | I42: BaseEmpreinte | J42: 8ab5de52-ba21-4c0d-9b9f-008bf074dd4a | K42: kg | L42: 1 | M42: 0.02 | N42: 3.7116 | O42: =N42*(1+M42)/L42 -> 3.785832 | P42: 0.23482474 | Q42: =P42*(1+$M42) -> 0.23952123 | R42: Plastique | S42: Polymère de l'éthylène | T42: Produit intermédiaire | U42: Polyoxyméthylène, granulés (POM), RER
... A51: 1 | B51: =IF(A51=1,MAX(B$18:B50)+1,"") -> 33 | C51: 1 | D51: =IF(C51=1,MAX(D$18:D50)+1,"") -> 33 | E51: 1 | F51: =IF(E51=1,MAX(F$18:F50)+1,"") -> 33 | G51: Autres: Fibre de verre - Polyamide | H51: kg | I51: BaseEmpreinte | J51: 08d5b9c6-774a-4a0a-bb22-78be10e2158e | K51: kg | L51: 1 | M51: 0.1 | N51: 9.22515 | O51: =N51*(1+M51)/L51 -> 10.147665 | P51: 0.56697307 | Q51: =P51*(1+$M51) -> 0.62367038 | R51: Fibres composites | S51: Polyamide | T51: Produit intermédiaire | U51: Nylon 6, granulés (PA 6), RER
A52: 1 | B52: =IF(A52=1,MAX(B$18:B51)+1,"") -> 34 | C52: 1 | D52: =IF(C52=1,MAX(D$18:D51)+1,"") -> 34 | E52: 1 | F52: =IF(E52=1,MAX(F$18:F51)+1,"") -> 34 | G52: Autres: Fibre de verre - Polyester | H52: kg | I52: Composé | K52: kg | L52: 1 | M52: 0.1 | N52: =60%*N65+40%*N56 -> 6.942794 | O52: =N52*(1+M52)/L52 -> 7.6370734 | Q52: =P52*(1+$M52) -> 0 | R52: Fibres composites | S52: Polyamide | T52: Produit intermédiaire
A53: 1 | B53: =IF(A53=1,MAX(B$18:B52)+1,"") -> 35 | C53: 1 | D53: =IF(C53=1,MAX(D$18:D52)+1,"") -> 35 | E53: 1 | F53: =IF(E53=1,MAX(F$18:F52)+1,"") -> 35 | G53: Autres: Fibre de carbone (CF, haute résistance, fibres longues) | H53: kg | I53: BaseEmpreinte | J53: 4fd27951-5d6d-4d55-9a5e-aa1eab50c351 | K53: kg | L53: 1 | M53: 0 | N53: 40.844 | O53: =N53*(1+M53)/L53 -> 40.844 | P53: 3.2844687 | Q53: =P53*(1+$M53) -> 3.2844687 | R53: Fibres composites | S53: Fibre | T53: produit intermédiaire | U53: Fibre de carbone (CF, depuis PAN, haute résistance, fibres longues)
A54: 1 | B54: =IF(A54=1,MAX(B$18:B53)+1,"") -> 36 | C54: 1 | D54: =IF(C54=1,MAX(D$18:D53)+1,"") -> 36 | E54: 1 | F54: =IF(E54=1,MAX(F$18:F53)+1,"") -> 36 | G54: Autres: Fibre de carbone (CF, fibres courtes) | H54: kg | I54: BaseEmpreinte | J54: 4cdcfb74-7225-4771-977b-be9afd81b988 | K54: kg | L54: 1 | M54: 0 | N54: 18.4164 | O54: =N54*(1+M54)/L54 -> 18.4164 | P54: 1.3937684 | Q54: =P54*(1+$M54) -> 1.3937684 | R54: Fibres composites | S54: Fibre | T54: produit intermédiaire | U54: Fibre de carbone (CF, depuis PAN, fibres courtes)
A55: 1 | B55: =IF(A55=1,MAX(B$18:B54)+1,"") -> 37 | C55: 1 | D55: =IF(C55=1,MAX(D$18:D54)+1,"") -> 37 | E55: 1 | F55: =IF(E55=1,MAX(F$18:F54)+1,"") -> 37 | G55: Autres: autres matériaux composites | H55: kg | I55: Composé | K55: kg | L55: 1 | M55: 0.1 | N55: =30%*N53+30%*N67+30%*N56 -> 18.98919 | O55: =N55*(1+M55)/L55 -> 20.888109 | Q55: =P55*(1+$M55) -> 0 | R55: Fibres composites
A56: 1 | B56: =IF(A56=1,MAX(B$18:B55)+1,"") -> 38 | C56: 1 | D56: =IF(C56=1,MAX(D$18:D55)+1,"") -> 38 | E56: 1 | F56: =IF(E56=1,MAX(F$18:F55)+1,"") -> 38 | G56: Autres: Fibre polyester | H56: kg | I56: BaseEmpreinte | J56: b5f6ed12-6016-4543-8a08-11213fcbdd35 | K56: kg | L56: 1 | M56: 0.1 | N56: 13.706 | O56: =N56*(1+M56)/L56 -> 15.0766 | P56: 0.94793034 | Q56: =P56*(1+$M56) -> 1.0427234 | R56: Textile | S56: Matieres | T56: Matieres naturelles | U56: Fil de lin (filasse)
A57: 1 | B57: =IF(A57=1,MAX(B$18:B56)+1,"") -> 39 | D57: =IF(C57=1,MAX(D$18:D56)+1,"") | E57: 1 | F57: =IF(E57=1,MAX(F$18:F56)+1,"") -> 39 | G57: Autres: Fibre de lin | H57: kg | I57: BaseEmpreinte | J57: e5a6d538-f932-4242-98b4-3a0c6439629c | K57: kg | L57: 1 | M57: 0.1 | N57: 16.4277 | O57: =N57*(1+M57)/L57 -> 18.07047 | P57: 1.3618278 | Q57: =P57*(1+$M57) -> 1.4980106 | R57: Textile | S57: Matieres | T57: Matieres naturelles | U57: Fil de lin (filasse)
A58: 1 | B58: =IF(A58=1,MAX(B$18:B57)+1,"") -> 40 | D58: =IF(C58=1,MAX(D$18:D57)+1,"") | E58: 1 | F58: =IF(E58=1,MAX(F$18:F57)+1,"") -> 40 | G58: Autres: Fibre de coton | H58: kg | I58: BaseEmpreinte | J58: f211bbdb-415c-46fd-be4d-ddf199575b44 | K58: kg | L58: 1 | M58: 0.1 | N58: 16.0482 | O58: =N58*(1+M58)/L58 -> 17.65302 | P58: 1.5244852 | Q58: =P58*(1+$M58) -> 1.6769338 | R58: Textile | S58: Matieres | T58: Matieres naturelles | U58: Fil de coton conventionnel, inventaire partiellement agrégé
A59: 1 | B59: =IF(A59=1,MAX(B$18:B58)+1,"") -> 41 | D59: =IF(C59=1,MAX(D$18:D58)+1,"") | E59: 1 | F59: =IF(E59=1,MAX(F$18:F58)+1,"") -> 41 | G59: Autres: Fibre de chanvre | H59: kg | I59: BaseEmpreinte | J59: 08601439-f338-4f94-ac8c-538061b65d16 | K59: kg | L59: 1 | M59: 0.1 | N59: 19.1552 | O59: =N59*(1+M59)/L59 -> 21.07072 | P59: 1.6070069 | Q59: =P59*(1+$M59) -> 1.7677076 | R59: Textile | S59: Matieres | T59: Matieres naturelles | U59: Fil de chanvre
A60: 1 | B60: =IF(A60=1,MAX(B$18:B59)+1,"") -> 42 | D60: =IF(C60=1,MAX(D$18:D59)+1,"") | F60: =IF(E60=1,MAX(F$18:F59)+1,"") | G60: Autres: Verre de sécurité laminé | H60: kg | I60: BaseEmpreinte | J60: 729bb3f2-4a95-4391-bb0b-eac8d900fb7e | K60: kg | L60: 1 | M60: 0.05 | N60: 3.52725 | O60: =N60*(1+M60)/L60 -> 3.7036125 | P60: 0.48575712 | Q60: =P60*(1+$M60) -> 0.51004498 | R60: Verre | S60: produit intermédiaire | T60: Verre plat | U60: Verre de sécurité laminé, RER
A61: 1 | B61: =IF(A61=1,MAX(B$18:B60)+1,"") -> 43 | D61: =IF(C61=1,MAX(D$18:D60)+1,"") | F61: =IF(E61=1,MAX(F$18:F60)+1,"") | G61: Autres: Verre courbé | H61: kg | I61: BaseEmpreinte | J61: af995c78-f229-4052-b059-8338136f3fff | K61: kg | L61: 1 | M61: 0.05 | N61: 2.41257 | O61: =N61*(1+M61)/L61 -> 2.5331985 | P61: 0.33698526 | Q61: =P61*(1+$M61) -> 0.35383453 | R61: Verre | S61: produit intermédiaire | T61: Verre plat | U61: Verre courbé, RER
B62: =IF(A62=1,MAX(B$18:B61)+1,"") | D62: =IF(C62=1,MAX(D$18:D61)+1,"") | E62: 1 | F62: =IF(E62=1,MAX(F$18:F61)+1,"") -> 42 | G62: Autres: Caoutchouc nitrile (NBR) | H62: kg | I62: BaseEmpreinte | J62: 60c3ba38-2d3e-462f-a599-1bb87fbc431d | K62: kg | L62: 1 | M62: 0 | N62: 5.43934 | O62: =N62*(1+M62)/L62 -> 5.43934 | P62: 0.35867697 | Q62: =P62*(1+$M62) -> 0.35867697 | R62: Plastique | S62: Autre plastique | T62: Produit intermédiaire | U62: Caoutchouc Nitrile-Butadiène (NBR), RER
B63: =IF(A63=1,MAX(B$18:B62)+1,"") | D63: =IF(C63=1,MAX(D$18:D62)+1,"") | E63: 1 | F63: =IF(E63=1,MAX(F$18:F62)+1,"") -> 43 | G63: Autres: Caoutchouc butyle (IIR) | H63: kg | I63: BaseEmpreinte | J63: c4b3fe68-9682-4caa-843e-9199cf23be0f | K63: kg | L63: 1 | M63: 0 | N63: 3.15504 | O63: =N63*(1+M63)/L63 -> 3.15504 | P63: 0.6972951 | Q63: =P63*(1+$M63) -> 0.6972951 | R63: Plastique | S63: Autre plastique | T63: Produit intermédiaire | U63: Caoutchouc butyle - caoutchouc isobutylène-isoprène (IIR) par polymérisation en émulsion, RER
B64: =IF(A64=1,MAX(B$18:B63)+1,"") | D64: =IF(C64=1,MAX(D$18:D63)+1,"") | E64: 1 | F64: =IF(E64=1,MAX(F$18:F63)+1,"") -> 44 | G64: Autres: Caoutchouc naturel (NR) | H64: kg | I64: BaseEmpreinte | J64: f924e735-d104-4507-aaed-c2b42e59e6a8 | K64: kg | L64: 1 | M64: 0 | N64: 1.59163 | O64: =N64*(1+M64)/L64 -> 1.59163 | P64: 0.17430043 | Q64: =P64*(1+$M64) -> 0.17430043 | R64: Plastique | S64: Autre plastique | T64: Produit intermédiaire | U64: Caoutchouc naturel (NR), RER
B65: =IF(A65=1,MAX(B$18:B64)+1,"") | D65: =IF(C65=1,MAX(D$18:D64)+1,"") | F65: =IF(E65=1,MAX(F$18:F64)+1,"") | G65: Autres: Fibre de verre haute résistance | H65: kg | I65: BaseEmpreinte | J65: 56e7b757-6ddf-488e-91c8-a56473362562 | K65: kg | L65: 1 | M65: 0.1 | N65: 2.43399 | O65: =N65*(1+M65)/L65 -> 2.677389 | P65: 0.30067193 | Q65: =P65*(1+$M65) -> 0.33073913 | R65: Resine, fibre, charge | S65: Fibre | T65: produit intermédiaire | U65: Fibres de verre (haute résistance)
B66: =IF(A66=1,MAX(B$18:B65)+1,"") | D66: =IF(C66=1,MAX(D$18:D65)+1,"") | F66: =IF(E66=1,MAX(F$18:F65)+1,"") | G66: Autres: Fibre de verre faible résistance | H66: kg | I66: BaseEmpreinte | J66: 1b8a69fc-b6e9-407f-a90c-ff7921811384 | K66: kg | L66: 1 | M66: 0.1 | N66: 3.21909 | O66: =N66*(1+M66)/L66 -> 3.540999 | P66: 0.35853983 | Q66: =P66*(1+$M66) -> 0.39439381 | R66: Resine, fibre, charge | S66: Fibre | T66: produit intermédiaire | U66: Fibres de verre (faible résistance)
B67: =IF(A67=1,MAX(B$18:B66)+1,"") | D67: =IF(C67=1,MAX(D$18:D66)+1,"") | F67: =IF(E67=1,MAX(F$18:F66)+1,"") | G67: Autres: Résine époxy | H67: kg | I67: BaseEmpreinte | J67: 3c5d177e-666e-4024-9c62-82d0fad6f3aa | K67: kg | L67: 1 | M67: 0 | N67: 8.7473 | O67: =N67*(1+M67)/L67 -> 8.7473 | P67: 0.50524737 | Q67: =P67*(1+$M67) -> 0.50524737 | R67: Plastique | S67: Autre plastique | T67: Produit intermédiaire | U67: Résine époxy, RER

Sheet DistancesPays
B1: Pays de départ | E1: Pays d'arrivée | I1: Code | J1: Distances | M1: Distances
A2: ligne | B2: PD | C2: Pays Depart | D2: Europe D | E2: PA | F2: Pays Arrivee | G2: Europe A | H2: Trajet Europe | J2: Maritime | K2: Route Europe | L2: Route Hors Europe | M2: Distance mer | N2: Distance route
J3: 2 | K3: 3 | L3: 4
A4: 2 | B4: 1 | C4: Allemagne | D4: 1 | E4: 1 | F4: =LOOKUP($E4,$B$4:$B$34,C$4:C$34) -> Allemagne | G4: =LOOKUP($E4,$B$4:$B$34,D$4:D$34) -> 1 | H4: =D4+G4 -> 2 | I4: =C4&F4 -> AllemagneAllemagne | J4: =IF(H4=2,0,M4) -> 0 | K4: =IF($H4=2,$N4,Notice!$C$67) -> 0 | L4: =IF($H4=2,0,Notice!$C$66) -> 0 | M4: 0 | N4: 0
A5: 3 | B5: 2 | C5: Autriche | D5: 1 | E5: 1 | F5: =LOOKUP($E5,$B$4:$B$34,C$4:C$34) -> Allemagne | G5: =LOOKUP($E5,$B$4:$B$34,D$4:D$34) -> 1 | H5: =D5+G5 -> 2 | I5: =C5&F5 -> AutricheAllemagne | J5: =IF(H5=2,0,M5) -> 0 | K5: =IF($H5=2,$N5,Notice!$C$67) -> 658.68561 | L5: =IF($H5=2,0,Notice!$C$66) -> 0 | M5: 6006 | N5: 658.68561
A6: 4 | B6: 3 | C6: Belgique | D6: 1 | E6: 1 | F6: =LOOKUP($E6,$B$4:$B$34,C$4:C$34) -> Allemagne | G6: =LOOKUP($E6,$B$4:$B$34,D$4:D$34) -> 1 | H6: =D6+G6 -> 2 | I6: =C6&F6 -> BelgiqueAllemagne | J6: =IF(H6=2,0,M6) -> 0 | K6: =IF($H6=2,$N6,Notice!$C$67) -> 543.63879 | L6: =IF($H6=2,0,Notice!$C$66) -> 0 | M6: 439 | N6: 543.63879
A7: 5 | B7: 4 | C7: Brésil | D7: 0 | E7: 1 | F7: =LOOKUP($E7,$B$4:$B$34,C$4:C$34) -> Allemagne | G7: =LOOKUP($E7,$B$4:$B$34,D$4:D$34) -> 1 | H7: =D7+G7 -> 1 | I7: =C7&F7 -> BrésilAllemagne | J7: =IF(H7=2,0,M7) -> 10410 | K7: =IF($H7=2,$N7,Notice!$C$67) -> 500 | L7: =IF($H7=2,0,Notice!$C$66) -> 1000 | M7: 10410 | N7: 1000
A8: 6 | B8: 5 | C8: Chine | D8: 0 | E8: 1 | F8: =LOOKUP($E8,$B$4:$B$34,C$4:C$34) -> Allemagne | G8: =LOOKUP($E8,$B$4:$B$34,D$4:D$34) -> 1 | H8: =D8+G8 -> 1 | I8: =C8&F8 -> ChineAllemagne | J8: =IF(H8=2,0,M8) -> 20485 | K8: =IF($H8=2,$N8,Notice!$C$67) -> 500 | L8: =IF($H8=2,0,Notice!$C$66) -> 1000 | M8: 20485 | N8: 1000
A9: 7 | B9: 6 | C9: Corée du Sud | D9: 0 | E9: 1 | F9: =LOOKUP($E9,$B$4:$B$34,C$4:C$34) -> Allemagne | G9: =LOOKUP($E9,$B$4:$B$34,D$4:D$34) -> 1 | H9: =D9+G9 -> 1 | I9: =C9&F9 -> Corée du SudAllemagne | J9: =IF(H9=2,0,M9) -> 21072 | K9: =IF($H9=2,$N9,Notice!$C$67) -> 500 | L9: =IF($H9=2,0,Notice!$C$66) -> 1000 | M9: 21072 | N9: 1000
A10: 8 | B10: 7 | C10: Espagne | D10: 1 | E10: 1 | F10: =LOOKUP($E10,$B$4:$B$34,C$4:C$34) -> Allemagne | G10: =LOOKUP($E10,$B$4:$B$34,D$4:D$34) -> 1 | H10: =D10+G10 -> 2 | I10: =C10&F10 -> EspagneAllemagne | J10: =IF(H10=2,0,M10) -> 0 | K10: =IF($H10=2,$N10,Notice!$C$67) -> 2278.6411 | L10: =IF($H10=2,0,Notice!$C$66) -> 0 | M10: 2698 | N10: 2278.6411
A11: 9 | B11: 8 | C11: États-Unis | D11: 0 | E11: 1 | F11: =LOOKUP($E11,$B$4:$B$34,C$4:C$34) -> Allemagne | G11: =LOOKUP($E11,$B$4:$B$34,D$4:D$34) -> 1 | H11: =D11+G11 -> 1 | I11: =C11&F11 -> États-UnisAllemagne | J11: =IF(H11=2,0,M11) -> 8323 | K11: =IF($H11=2,$N11,Notice!$C$67) -> 500 | L11: =IF($H11=2,0,Notice!$C$66) -> 1000 | M11: 8323 | N11: 1000
A12: 10 | B12: 9 | C12: Finlande | D12: 1 | E12: 1 | F12: =LOOKUP($E12,$B$4:$B$34,C$4:C$34) -> Allemagne | G12: =LOOKUP($E12,$B$4:$B$34,D$4:D$34) -> 1 | H12: =D12+G12 -> 2 | I12: =C12&F12 -> FinlandeAllemagne | J12: =IF(H12=2,0,M12) -> 0 | K12: =IF($H12=2,$N12,Notice!$C$67) -> 2841.0359 | L12: =IF($H12=2,0,Notice!$C$66) -> 0 | M12: 1648 | N12: 2841.0359
A13: 11 | B13: 11 | C13: France | D13: 1 | E13: 1 | F13: =LOOKUP($E13,$B$4:$B$34,C$4:C$34) -> Allemagne | G13: =LOOKUP($E13,$B$4:$B$34,D$4:D$34) -> 1 | H13: =D13+G13 -> 2 | I13: =C13&F13 -> FranceAllemagne | J13: =IF(H13=2,0,M13) -> 0 | K13: =IF($H13=2,$N13,Notice!$C$67) -> 1083.6914 | L13: =IF($H13=2,0,Notice!$C$66) -> 0 | M13: 3770 | N13: 1083.6914
A14: 12 | B14: 12 | C14: Hongrie | D14: 1 | E14: 1 | F14: =LOOKUP($E14,$B$4:$B$34,C$4:C$34) -> Allemagne | G14: =LOOKUP($E14,$B$4:$B$34,D$4:D$34) -> 1 | H14: =D14+G14 -> 2 | I14: =C14&F14 -> HongrieAllemagne | J14: =IF(H14=2,0,M14) -> 0 | K14: =IF($H14=2,$N14,Notice!$C$67) -> 997.72339 | L14: =IF($H14=2,0,Notice!$C$66) -> 0 | M14: 6006 | N14: 997.72339
A15: 13 | B15: 13 | C15: Inde | D15: 0 | E15: 1 | F15: =LOOKUP($E15,$B$4:$B$34,C$4:C$34) -> Allemagne | G15: =LOOKUP($E15,$B$4:$B$34,D$4:D$34) -> 1 | H15: =D15+G15 -> 1 | I15: =C15&F15 -> IndeAllemagne | J15: =IF(H15=2,0,M15) -> 12688 | K15: =IF($H15=2,$N15,Notice!$C$67) -> 500 | L15: =IF($H15=2,0,Notice!$C$66) -> 1000 | M15: 12688 | N15: 1000
... A34: 33 | B34: 33 | C34: Autres pays d’Amérique | D34: 0 | E34: 1 | F34: =LOOKUP($E34,$B$4:$B$34,C$4:C$34) -> Allemagne | G34: =LOOKUP($E34,$B$4:$B$34,D$4:D$34) -> 1 | H34: =D34+G34 -> 1 | I34: =C34&F34 -> Autres pays d’AmériqueAllemagne | J34: =IF(H34=2,0,M34) -> 7179 | K34: =IF($H34=2,$N34,Notice!$C$67) -> 500 | L34: =IF($H34=2,0,Notice!$C$66) -> 1000 | M34: 7179 | N34: 1000
A35: 34 | B35: =B4 -> 1 | C35: =LOOKUP($B35,$B$4:$B$34,C$4:C$34) -> Allemagne | D35: =LOOKUP($B35,$B$4:$B$34,D$4:D$34) -> 1 | E35: =E4+1 -> 2 | F35: =LOOKUP($E35,$B$4:$B$34,C$4:C$34) -> Autriche | G35: =LOOKUP($E35,$B$4:$B$34,D$4:D$34) -> 1 | H35: =D35+G35 -> 2 | I35: =C35&F35 -> AllemagneAutriche | J35: =IF(H35=2,0,M35) -> 0 | K35: =IF($H35=2,$N35,Notice!$C$67) -> 658.68561 | L35: =IF($H35=2,0,Notice!$C$66) -> 0 | M35: 6006 | N35: 658.68561
A36: 35 | B36: =B5 -> 2 | C36: =LOOKUP($B36,$B$4:$B$34,C$4:C$34) -> Autriche | D36: =LOOKUP($B36,$B$4:$B$34,D$4:D$34) -> 1 | E36: =E5+1 -> 2 | F36: =LOOKUP($E36,$B$4:$B$34,C$4:C$34) -> Autriche | G36: =LOOKUP($E36,$B$4:$B$34,D$4:D$34) -> 1 | H36: =D36+G36 -> 2 | I36: =C36&F36 -> AutricheAutriche | J36: =IF(H36=2,0,M36) -> 0 | K36: =IF($H36=2,$N36,Notice!$C$67) -> 0 | L36: =IF($H36=2,0,Notice!$C$66) -> 0 | M36: 0 | N36: 0
A37: 36 | B37: =B6 -> 3 | C37: =LOOKUP($B37,$B$4:$B$34,C$4:C$34) -> Belgique | D37: =LOOKUP($B37,$B$4:$B$34,D$4:D$34) -> 1 | E37: =E6+1 -> 2 | F37: =LOOKUP($E37,$B$4:$B$34,C$4:C$34) -> Autriche | G37: =LOOKUP($E37,$B$4:$B$34,D$4:D$34) -> 1 | H37: =D37+G37 -> 2 | I37: =C37&F37 -> BelgiqueAutriche | J37: =IF(H37=2,0,M37) -> 0 | K37: =IF($H37=2,$N37,Notice!$C$67) -> 967.35388 | L37: =IF($H37=2,0,Notice!$C$66) -> 0 | M37: 5704 | N37: 967.35388
A38: 37 | B38: =B7 -> 4 | C38: =LOOKUP($B38,$B$4:$B$34,C$4:C$34) -> Brésil | D38: =LOOKUP($B38,$B$4:$B$34,D$4:D$34) -> 0 | E38: =E7+1 -> 2 | F38: =LOOKUP($E38,$B$4:$B$34,C$4:C$34) -> Autriche | G38: =LOOKUP($E38,$B$4:$B$34,D$4:D$34) -> 1 | H38: =D38+G38 -> 1 | I38: =C38&F38 -> BrésilAutriche | J38: =IF(H38=2,0,M38) -> 12132 | K38: =IF($H38=2,$N38,Notice!$C$67) -> 500 | L38: =IF($H38=2,0,Notice!$C$66) -> 1000 | M38: 12132 | N38: 1000
A39: 38 | B39: =B8 -> 5 | C39: =LOOKUP($B39,$B$4:$B$34,C$4:C$34) -> Chine | D39: =LOOKUP($B39,$B$4:$B$34,D$4:D$34) -> 0 | E39: =E8+1 -> 2 | F39: =LOOKUP($E39,$B$4:$B$34,C$4:C$34) -> Autriche | G39: =LOOKUP($E39,$B$4:$B$34,D$4:D$34) -> 1 | H39: =D39+G39 -> 1 | I39: =C39&F39 -> ChineAutriche | J39: =IF(H39=2,0,M39) -> 15306 | K39: =IF($H39=2,$N39,Notice!$C$67) -> 500 | L39: =IF($H39=2,0,Notice!$C$66) -> 1000 | M39: 15306 | N39: 1000
A40: 40 | B40: =B9 -> 6 | C40: =LOOKUP($B40,$B$4:$B$34,C$4:C$34) -> Corée du Sud | D40: =LOOKUP($B40,$B$4:$B$34,D$4:D$34) -> 0 | E40: =E9+1 -> 2 | F40: =LOOKUP($E40,$B$4:$B$34,C$4:C$34) -> Autriche | G40: =LOOKUP($E40,$B$4:$B$34,D$4:D$34) -> 1 | H40: =D40+G40 -> 1 | I40: =C40&F40 -> Corée du SudAutriche | J40: =IF(H40=2,0,M40) -> 16048 | K40: =IF($H40=2,$N40,Notice!$C$67) -> 500 | L40: =IF($H40=2,0,Notice!$C$66) -> 1000 | M40: 16048 | N40: 1000
A41: 41 | B41: =B10 -> 7 | C41: =LOOKUP($B41,$B$4:$B$34,C$4:C$34) -> Espagne | D41: =LOOKUP($B41,$B$4:$B$34,D$4:D$34) -> 1 | E41: =E10+1 -> 2 | F41: =LOOKUP($E41,$B$4:$B$34,C$4:C$34) -> Autriche | G41: =LOOKUP($E41,$B$4:$B$34,D$4:D$34) -> 1 | H41: =D41+G41 -> 2 | I41: =C41&F41 -> EspagneAutriche | J41: =IF(H41=2,0,M41) -> 0 | K41: =IF($H41=2,$N41,Notice!$C$67) -> 2490.4119 | L41: =IF($H41=2,0,Notice!$C$66) -> 0 | M41: 3132 | N41: 2490.4119
A42: 42 | B42: =B11 -> 8 | C42: =LOOKUP($B42,$B$4:$B$34,C$4:C$34) -> États-Unis | D42: =LOOKUP($B42,$B$4:$B$34,D$4:D$34) -> 0 | E42: =E11+1 -> 2 | F42: =LOOKUP($E42,$B$4:$B$34,C$4:C$34) -> Autriche | G42: =LOOKUP($E42,$B$4:$B$34,D$4:D$34) -> 1 | H42: =D42+G42 -> 1 | I42: =C42&F42 -> États-UnisAutriche | J42: =IF(H42=2,0,M42) -> 11909 | K42: =IF($H42=2,$N42,Notice!$C$67) -> 500 | L42: =IF($H42=2,0,Notice!$C$66) -> 1000 | M42: 11909 | N42: 1000
A43: 43 | B43: =B12 -> 9 | C43: =LOOKUP($B43,$B$4:$B$34,C$4:C$34) -> Finlande | D43: =LOOKUP($B43,$B$4:$B$34,D$4:D$34) -> 1 | E43: =E12+1 -> 2 | F43: =LOOKUP($E43,$B$4:$B$34,C$4:C$34) -> Autriche | G43: =LOOKUP($E43,$B$4:$B$34,D$4:D$34) -> 1 | H43: =D43+G43 -> 2 | I43: =C43&F43 -> FinlandeAutriche | J43: =IF(H43=2,0,M43) -> 0 | K43: =IF($H43=2,$N43,Notice!$C$67) -> 3516.1279 | L43: =IF($H43=2,0,Notice!$C$66) -> 0 | M43: 7416 | N43: 3516.1279
A44: 44 | B44: =B13 -> 11 | C44: =LOOKUP($B44,$B$4:$B$34,C$4:C$34) -> France | D44: =LOOKUP($B44,$B$4:$B$34,D$4:D$34) -> 1 | E44: =E13+1 -> 2 | F44: =LOOKUP($E44,$B$4:$B$34,C$4:C$34) -> Autriche | G44: =LOOKUP($E44,$B$4:$B$34,D$4:D$34) -> 1 | H44: =D44+G44 -> 2 | I44: =C44&F44 -> FranceAutriche | J44: =IF(H44=2,0,M44) -> 0 | K44: =IF($H44=2,$N44,Notice!$C$67) -> 1265.7375 | L44: =IF($H44=2,0,Notice!$C$66) -> 0 | M44: 1976 | N44: 1265.7375
A45: 45 | B45: =B14 -> 12 | C45: =LOOKUP($B45,$B$4:$B$34,C$4:C$34) -> Hongrie | D45: =LOOKUP($B45,$B$4:$B$34,D$4:D$34) -> 1 | E45: =E14+1 -> 2 | F45: =LOOKUP($E45,$B$4:$B$34,C$4:C$34) -> Autriche | G45: =LOOKUP($E45,$B$4:$B$34,D$4:D$34) -> 1 | H45: =D45+G45 -> 2 | I45: =C45&F45 -> HongrieAutriche | J45: =IF(H45=2,0,M45) -> 0 | K45: =IF($H45=2,$N45,Notice!$C$67) -> 528.91913 | L45: =IF($H45=2,0,Notice!$C$66) -> 0 | M45: 24000 | N45: 528.91913
A46: 46 | B46: =B15 -> 13 | C46: =LOOKUP($B46,$B$4:$B$34,C$4:C$34) -> Inde | D46: =LOOKUP($B46,$B$4:$B$34,D$4:D$34) -> 0 | E46: =E15+1 -> 2 | F46: =LOOKUP($E46,$B$4:$B$34,C$4:C$34) -> Autriche | G46: =LOOKUP($E46,$B$4:$B$34,D$4:D$34) -> 1 | H46: =D46+G46 -> 1 | I46: =C46&F46 -> IndeAutriche | J46: =IF(H46=2,0,M46) -> 7727 | K46: =IF($H46=2,$N46,Notice!$C$67) -> 500 | L46: =IF($H46=2,0,Notice!$C$66) -> 1000 | M46: 7727 | N46: 1000
... A1026: 1088 | B1026: =B995 -> 33 | C1026: =LOOKUP($B1026,$B$4:$B$34,C$4:C$34) -> Autres pays d’Amérique | D1026: =LOOKUP($B1026,$B$4:$B$34,D$4:D$34) -> 0 | E1026: =E995+1 -> 33 | F1026: =LOOKUP($E1026,$B$4:$B$34,C$4:C$34) -> Autres pays d’Amérique | G1026: =LOOKUP($E1026,$B$4:$B$34,D$4:D$34) -> 0 | H1026: =D1026+G1026 -> 0 | I1026: =C1026&F1026 -> Autres pays d’AmériqueAutres pays d’Amérique | J1026: =IF(H1026=2,0,M1026) -> 0 | K1026: =IF($H1026=2,$N1026,Notice!$C$67) -> 500 | L1026: =IF($H1026=2,0,Notice!$C$66) -> 1000 | M1026: 0 | N1026: 0

Sheet Listes
A1: Type de véhicule | B1: unité de capacité | C1: Unité fonctionnelle 2 | D1: unité UF2 | G1: Chassis Carosserie | I1: Moyeu Jante | K1: Assise
A2: Transport de passagers | B2: personnes | C2: Transporter 1 personne sur 1km | D2: p.km | G2: 6 | I2: 4 | K2: 2
A3: Transport de marchandises | B3: tonnes | C3: Transporter 1 tonne sur 1km | D3: t.km | F3: 1 | G3: =IF($F3>MAX(FE_Autres!B:B),"",VLOOKUP($F3,FE_Autres!B:$G,Listes!G$2,FALSE)) -> Métaux: Acier galvanisé, 100% recyclage | I3: =IF($F3>MAX(FE_Autres!D:D),"",VLOOKUP($F3,FE_Autres!D:$G,Listes!I$2,FALSE)) -> Métaux: Acier galvanisé, 100% recyclage | K3: =IF($F3>MAX(FE_Autres!F:F),"",VLOOKUP($F3,FE_Autres!F:$G,Listes!K$2,FALSE)) -> Métaux: Acier galvanisé, 100% recyclage
F4: 2 | G4: =IF($F4>MAX(FE_Autres!B:B),"",VLOOKUP($F4,FE_Autres!B:$G,Listes!G$2,FALSE)) -> Métaux: Acier galvanisé, 0% recyclage | I4: =IF($F4>MAX(FE_Autres!D:D),"",VLOOKUP($F4,FE_Autres!D:$G,Listes!I$2,FALSE)) -> Métaux: Acier galvanisé, 0% recyclage | K4: =IF($F4>MAX(FE_Autres!F:F),"",VLOOKUP($F4,FE_Autres!F:$G,Listes!K$2,FALSE)) -> Métaux: Acier galvanisé, 0% recyclage
F5: 3 | G5: =IF($F5>MAX(FE_Autres!B:B),"",VLOOKUP($F5,FE_Autres!B:$G,Listes!G$2,FALSE)) -> Métaux: Acier galvanisé, 50% recyclage | I5: =IF($F5>MAX(FE_Autres!D:D),"",VLOOKUP($F5,FE_Autres!D:$G,Listes!I$2,FALSE)) -> Métaux: Acier galvanisé, 50% recyclage | K5: =IF($F5>MAX(FE_Autres!F:F),"",VLOOKUP($F5,FE_Autres!F:$G,Listes!K$2,FALSE)) -> Métaux: Acier galvanisé, 50% recyclage
F6: 4 | G6: =IF($F6>MAX(FE_Autres!B:B),"",VLOOKUP($F6,FE_Autres!B:$G,Listes!G$2,FALSE)) -> Métaux: Acier inoxydable, 100% recyclage | I6: =IF($F6>MAX(FE_Autres!D:D),"",VLOOKUP($F6,FE_Autres!D:$G,Listes!I$2,FALSE)) -> Métaux: Acier inoxydable, 100% recyclage | K6: =IF($F6>MAX(FE_Autres!F:F),"",VLOOKUP($F6,FE_Autres!F:$G,Listes!K$2,FALSE)) -> Métaux: Acier inoxydable, 100% recyclage
F7: 5 | G7: =IF($F7>MAX(FE_Autres!B:B),"",VLOOKUP($F7,FE_Autres!B:$G,Listes!G$2,FALSE)) -> Métaux: Acier inoxydable, 0% recyclage | I7: =IF($F7>MAX(FE_Autres!D:D),"",VLOOKUP($F7,FE_Autres!D:$G,Listes!I$2,FALSE)) -> Métaux: Acier inoxydable, 0% recyclage | K7: =IF($F7>MAX(FE_Autres!F:F),"",VLOOKUP($F7,FE_Autres!F:$G,Listes!K$2,FALSE)) -> Métaux: Acier inoxydable, 0% recyclage
F8: 6 | G8: =IF($F8>MAX(FE_Autres!B:B),"",VLOOKUP($F8,FE_Autres!B:$G,Listes!G$2,FALSE)) -> Métaux: Acier inoxydable, 50% recyclage | I8: =IF($F8>MAX(FE_Autres!D:D),"",VLOOKUP($F8,FE_Autres!D:$G,Listes!I$2,FALSE)) -> Métaux: Acier inoxydable, 50% recyclage | K8: =IF($F8>MAX(FE_Autres!F:F),"",VLOOKUP($F8,FE_Autres!F:$G,Listes!K$2,FALSE)) -> Métaux: Acier inoxydable, 50% recyclage
F9: 7 | G9: =IF($F9>MAX(FE_Autres!B:B),"",VLOOKUP($F9,FE_Autres!B:$G,Listes!G$2,FALSE)) -> Métaux: Aluminium tôle, 78% recyclé (UE) | I9: =IF($F9>MAX(FE_Autres!D:D),"",VLOOKUP($F9,FE_Autres!D:$G,Listes!I$2,FALSE)) -> Métaux: Aluminium tôle, 78% recyclé (UE) | K9: =IF($F9>MAX(FE_Autres!F:F),"",VLOOKUP($F9,FE_Autres!F:$G,Listes!K$2,FALSE)) -> Métaux: Aluminium tôle, 78% recyclé (UE)
F10: 8 | G10: =IF($F10>MAX(FE_Autres!B:B),"",VLOOKUP($F10,FE_Autres!B:$G,Listes!G$2,FALSE)) -> Métaux: Aluminium profil extrudé, 78% recyclé (UE) | I10: =IF($F10>MAX(FE_Autres!D:D),"",VLOOKUP($F10,FE_Autres!D:$G,Listes!I$2,FALSE)) -> Métaux: Aluminium profil extrudé, 78% recyclé (UE) | K10: =IF($F10>MAX(FE_Autres!F:F),"",VLOOKUP($F10,FE_Autres!F:$G,Listes!K$2,FALSE)) -> Métaux: Aluminium profil extrudé, 78% recyclé (UE)
F11: 9 | G11: =IF($F11>MAX(FE_Autres!B:B),"",VLOOKUP($F11,FE_Autres!B:$G,Listes!G$2,FALSE)) -> Métaux: Zamak - alliage de zinc (ZnAlMgCu) | I11: =IF($F11>MAX(FE_Autres!D:D),"",VLOOKUP($F11,FE_Autres!D:$G,Listes!I$2,FALSE)) -> Métaux: Zamak - alliage de zinc (ZnAlMgCu) | K11: =IF($F11>MAX(FE_Autres!F:F),"",VLOOKUP($F11,FE_Autres!F:$G,Listes!K$2,FALSE)) -> Métaux: Zamak - alliage de zinc (ZnAlMgCu)
F12: 10 | G12: =IF($F12>MAX(FE_Autres!B:B),"",VLOOKUP($F12,FE_Autres!B:$G,Listes!G$2,FALSE)) -> Métaux: Cuivre | I12: =IF($F12>MAX(FE_Autres!D:D),"",VLOOKUP($F12,FE_Autres!D:$G,Listes!I$2,FALSE)) -> Métaux: Cuivre | K12: =IF($F12>MAX(FE_Autres!F:F),"",VLOOKUP($F12,FE_Autres!F:$G,Listes!K$2,FALSE)) -> Métaux: Cuivre
F13: 11 | G13: =IF($F13>MAX(FE_Autres!B:B),"",VLOOKUP($F13,FE_Autres!B:$G,Listes!G$2,FALSE)) -> Métaux: Laiton (CuZn20) | I13: =IF($F13>MAX(FE_Autres!D:D),"",VLOOKUP($F13,FE_Autres!D:$G,Listes!I$2,FALSE)) -> Métaux: Laiton (CuZn20) | K13: =IF($F13>MAX(FE_Autres!F:F),"",VLOOKUP($F13,FE_Autres!F:$G,Listes!K$2,FALSE)) -> Métaux: Laiton (CuZn20)
F14: 12 | G14: =IF($F14>MAX(FE_Autres!B:B),"",VLOOKUP($F14,FE_Autres!B:$G,Listes!G$2,FALSE)) -> Plastiques: Polypropylene (PP) | I14: =IF($F14>MAX(FE_Autres!D:D),"",VLOOKUP($F14,FE_Autres!D:$G,Listes!I$2,FALSE)) -> Plastiques: Polypropylene (PP) | K14: =IF($F14>MAX(FE_Autres!F:F),"",VLOOKUP($F14,FE_Autres!F:$G,Listes!K$2,FALSE)) -> Plastiques: Polypropylene (PP)
F15: 13 | G15: =IF($F15>MAX(FE_Autres!B:B),"",VLOOKUP($F15,FE_Autres!B:$G,Listes!G$2,FALSE)) -> Plastiques: Polytéréphtalate de butylène (PBT) | I15: =IF($F15>MAX(FE_Autres!D:D),"",VLOOKUP($F15,FE_Autres!D:$G,Listes!I$2,FALSE)) -> Plastiques: Polytéréphtalate de butylène (PBT) | K15: =IF($F15>MAX(FE_Autres!F:F),"",VLOOKUP($F15,FE_Autres!F:$G,Listes!K$2,FALSE)) -> Plastiques: Polytéréphtalate de butylène (PBT)
... F86: 84 | G86: =IF($F86>MAX(FE_Autres!B:B),"",VLOOKUP($F86,FE_Autres!B:$G,Listes!G$2,FALSE)) | I86: =IF($F86>MAX(FE_Autres!D:D),"",VLOOKUP($F86,FE_Autres!D:$G,Listes!I$2,FALSE)) | K86: =IF($F86>MAX(FE_Autres!F:F),"",VLOOKUP($F86,FE_Autres!F:$G,Listes!K$2,FALSE))

Sheet WMTC
B1: Classe de véhicule | C1: Class1 | D1: Class2-1 | E1: Class2-2 | F1: Class3-1 | G1: class3-2 | H1: Class2-2-90 | I1: Class1-45 | J1: Class1-25
B2: Bridage vitesse | C2: Non | D2: Non | E2: Non | F2: Non | G2: Non | H2: 90 | I2: 45 | J2: 25
B3: Durée du test (s) | C3: =COUNTA(C12:C1812) -> 600 | D3: =COUNTA(D12:D1812) -> 1200 | E3: =COUNTA(E12:E1812) -> 1200 | F3: =COUNTA(F12:F1812) -> 1800 | G3: =COUNTA(G12:G1812) -> 1800 | H3: =COUNTA(H12:H1812) -> 1200 | I3: =COUNTA(I12:I1812) -> 600 | J3: =COUNTA(J12:J1812) -> 600
B4: Durée du test (h) | C4: =C3/3600 -> 0.16666667 | D4: =D3/3600 -> 0.33333333 | E4: =E3/3600 -> 0.33333333 | F4: =F3/3600 -> 0.5 | G4: =G3/3600 -> 0.5 | H4: =H3/3600 -> 0.33333333 | I4: =I3/3600 -> 0.16666667 | J4: =J3/3600 -> 0.16666667
B5: V moyenne (km/h) | C5: =AVERAGE(C12:C1812) -> 23.027 | D5: =AVERAGE(D12:D1812) -> 36.8605 | E5: =AVERAGE(E12:E1812) -> 39.53425 | F5: =AVERAGE(F12:F1812) -> 55.2295 | G5: =AVERAGE(G12:G1812) -> 57.830778 | H5: =AVERAGE(H12:H1812) -> 39.39425 | I5: =AVERAGE(I12:I1812) -> 22.800667 | J5: =AVERAGE(J12:J1812) -> 17.647667
B6: Distance km | C6: =C5*C4 -> 3.8378333 | D6: =D5*D4 -> 12.286833 | E6: =E5*E4 -> 13.178083 | F6: =F5*F4 -> 27.61475 | G6: =G5*G4 -> 28.915389 | H6: =H5*H4 -> 13.131417 | I6: =I5*I4 -> 3.8001111 | J6: =J5*J4 -> 2.9412778
B7: Vitesse max | C7: =MAX(C11:C1812) -> 50 | D7: =MAX(D11:D1812) -> 82.5 | E7: =MAX(E11:E1812) -> 94.9 | F7: =MAX(F11:F1812) -> 111.3 | G7: =MAX(G11:G1812) -> 125.3 | H7: =MAX(H11:H1812) -> 90 | I7: =MAX(I11:I1812) -> 45 | J7: =MAX(J11:J1812) -> 25
B8: % Maintien de visette ou accélération | C8: =SUM(M13:M1811)/COUNT(C13:C1811) -> 0.47245409 | D8: =SUM(N13:N1811)/COUNT(D13:D1811) -> 0.50792327 | E8: =SUM(O13:O1811)/COUNT(E13:E1811) -> 0.49624687 | F8: =SUM(P13:P1811)/COUNT(F13:F1811) -> 0.53418566 | G8: =SUM(Q13:Q1811)/COUNT(G13:G1811) -> 0.53529739 | H8: =SUM(R13:R1811)/COUNT(H13:H1811) -> 0.50458716 | I8: =SUM(S13:S1811)/COUNT(I13:I1811) -> 0.50417362 | J8: =SUM(T13:T1811)/COUNT(J13:J1811) -> 0.69782972
B9: Vitesse du véhicule | L9: Maintien de visette ou accélération
B10: time | C10: Class1 | D10: Class2-1 | E10: Class2-2 | F10: Class3-1 | G10: class3-2 | H10: Class2-2-90 | I10: Class1-25 | J10: Class1-25 | L10: time | M10: Class1 | N10: Class2-1 | O10: Class2-2 | P10: Class3-1 | Q10: class3-2 | R10: Class2-2-90 | S10: Class1-25 | T10: Class1-25
B11: 0 | C11: 0 | D11: 0 | E11: 0 | F11: 0 | G11: 0 | H11: =IF($E11="",0,MIN($E11,$H$2)) -> 0 | I11: =IF($C11="",0,MIN($C11,$I$2)) -> 0 | J11: =IF($C11="",0,MIN($C11,$J$2)) -> 0 | L11: 1
B12: 1 | C12: 0 | D12: 0 | E12: 0 | F12: 0 | G12: 0 | H12: =IF($E12="",0,MIN($E12,$H$2)) -> 0 | I12: =IF($C12="",0,MIN($C12,$I$2)) -> 0 | J12: =IF($C12="",0,MIN($C12,$J$2)) -> 0
B13: 2 | C13: 0 | D13: 0 | E13: 0 | F13: 0 | G13: 0 | H13: =IF($E13="",0,MIN($E13,$H$2)) -> 0 | I13: =IF($C13="",0,MIN($C13,$I$2)) -> 0 | J13: =IF($C13="",0,MIN($C13,$J$2)) -> 0 | L13: 2 | M13: =IF(AND(C13>0,C13>=C11),1,0) -> 0 | N13: =IF(AND(D13>0,D13>=D11),1,0) -> 0 | O13: =IF(AND(E13>0,E13>=E11),1,0) -> 0 | P13: =IF(AND(F13>0,F13>=F11),1,0) -> 0 | Q13: =IF(AND(G13>0,G13>=G11),1,0) -> 0 | R13: =IF(AND(H13>0,H13>=H11),1,0) -> 0 | S13: =IF(AND(I13>0,I13>=I11),1,0) -> 0 | T13: =IF(AND(J13>0,J13>=J11),1,0) -> 0
B14: 3 | C14: 0 | D14: 0 | E14: 0 | F14: 0 | G14: 0 | H14: =IF($E14="",0,MIN($E14,$H$2)) -> 0 | I14: =IF($C14="",0,MIN($C14,$I$2)) -> 0 | J14: =IF($C14="",0,MIN($C14,$J$2)) -> 0 | L14: 3 | M14: =IF(AND(C14>0,C14>=C13),1,0) -> 0 | N14: =IF(AND(D14>0,D14>=D13),1,0) -> 0 | O14: =IF(AND(E14>0,E14>=E13),1,0) -> 0 | P14: =IF(AND(F14>0,F14>=F13),1,0) -> 0 | Q14: =IF(AND(G14>0,G14>=G13),1,0) -> 0 | R14: =IF(AND(H14>0,H14>=H13),1,0) -> 0 | S14: =IF(AND(I14>0,I14>=I13),1,0) -> 0 | T14: =IF(AND(J14>0,J14>=J13),1,0) -> 0
B15: 4 | C15: 0 | D15: 0 | E15: 0 | F15: 0 | G15: 0 | H15: =IF($E15="",0,MIN($E15,$H$2)) -> 0 | I15: =IF($C15="",0,MIN($C15,$I$2)) -> 0 | J15: =IF($C15="",0,MIN($C15,$J$2)) -> 0 | L15: 4 | M15: =IF(AND(C15>0,C15>=C14),1,0) -> 0 | N15: =IF(AND(D15>0,D15>=D14),1,0) -> 0 | O15: =IF(AND(E15>0,E15>=E14),1,0) -> 0 | P15: =IF(AND(F15>0,F15>=F14),1,0) -> 0 | Q15: =IF(AND(G15>0,G15>=G14),1,0) -> 0 | R15: =IF(AND(H15>0,H15>=H14),1,0) -> 0 | S15: =IF(AND(I15>0,I15>=I14),1,0) -> 0 | T15: =IF(AND(J15>0,J15>=J14),1,0) -> 0
B16: 5 | C16: 0 | D16: 0 | E16: 0 | F16: 0 | G16: 0 | H16: =IF($E16="",0,MIN($E16,$H$2)) -> 0 | I16: =IF($C16="",0,MIN($C16,$I$2)) -> 0 | J16: =IF($C16="",0,MIN($C16,$J$2)) -> 0 | L16: 5 | M16: =IF(AND(C16>0,C16>=C15),1,0) -> 0 | N16: =IF(AND(D16>0,D16>=D15),1,0) -> 0 | O16: =IF(AND(E16>0,E16>=E15),1,0) -> 0 | P16: =IF(AND(F16>0,F16>=F15),1,0) -> 0 | Q16: =IF(AND(G16>0,G16>=G15),1,0) -> 0 | R16: =IF(AND(H16>0,H16>=H15),1,0) -> 0 | S16: =IF(AND(I16>0,I16>=I15),1,0) -> 0 | T16: =IF(AND(J16>0,J16>=J15),1,0) -> 0
B17: 6 | C17: 0 | D17: 0 | E17: 0 | F17: 0 | G17: 0 | H17: =IF($E17="",0,MIN($E17,$H$2)) -> 0 | I17: =IF($C17="",0,MIN($C17,$I$2)) -> 0 | J17: =IF($C17="",0,MIN($C17,$J$2)) -> 0 | L17: 6 | M17: =IF(AND(C17>0,C17>=C16),1,0) -> 0 | N17: =IF(AND(D17>0,D17>=D16),1,0) -> 0 | O17: =IF(AND(E17>0,E17>=E16),1,0) -> 0 | P17: =IF(AND(F17>0,F17>=F16),1,0) -> 0 | Q17: =IF(AND(G17>0,G17>=G16),1,0) -> 0 | R17: =IF(AND(H17>0,H17>=H16),1,0) -> 0 | S17: =IF(AND(I17>0,I17>=I16),1,0) -> 0 | T17: =IF(AND(J17>0,J17>=J16),1,0) -> 0
B18: 7 | C18: 0 | D18: 0 | E18: 0 | F18: 0 | G18: 0 | H18: =IF($E18="",0,MIN($E18,$H$2)) -> 0 | I18: =IF($C18="",0,MIN($C18,$I$2)) -> 0 | J18: =IF($C18="",0,MIN($C18,$J$2)) -> 0 | L18: 7 | M18: =IF(AND(C18>0,C18>=C17),1,0) -> 0 | N18: =IF(AND(D18>0,D18>=D17),1,0) -> 0 | O18: =IF(AND(E18>0,E18>=E17),1,0) -> 0 | P18: =IF(AND(F18>0,F18>=F17),1,0) -> 0 | Q18: =IF(AND(G18>0,G18>=G17),1,0) -> 0 | R18: =IF(AND(H18>0,H18>=H17),1,0) -> 0 | S18: =IF(AND(I18>0,I18>=I17),1,0) -> 0 | T18: =IF(AND(J18>0,J18>=J17),1,0) -> 0
B19: 8 | C19: 0 | D19: 0 | E19: 0 | F19: 0 | G19: 0 | H19: =IF($E19="",0,MIN($E19,$H$2)) -> 0 | I19: =IF($C19="",0,MIN($C19,$I$2)) -> 0 | J19: =IF($C19="",0,MIN($C19,$J$2)) -> 0 | L19: 8 | M19: =IF(AND(C19>0,C19>=C18),1,0) -> 0 | N19: =IF(AND(D19>0,D19>=D18),1,0) -> 0 | O19: =IF(AND(E19>0,E19>=E18),1,0) -> 0 | P19: =IF(AND(F19>0,F19>=F18),1,0) -> 0 | Q19: =IF(AND(G19>0,G19>=G18),1,0) -> 0 | R19: =IF(AND(H19>0,H19>=H18),1,0) -> 0 | S19: =IF(AND(I19>0,I19>=I18),1,0) -> 0 | T19: =IF(AND(J19>0,J19>=J18),1,0) -> 0
B20: 9 | C20: 0 | D20: 0 | E20: 0 | F20: 0 | G20: 0 | H20: =IF($E20="",0,MIN($E20,$H$2)) -> 0 | I20: =IF($C20="",0,MIN($C20,$I$2)) -> 0 | J20: =IF($C20="",0,MIN($C20,$J$2)) -> 0 | L20: 9 | M20: =IF(AND(C20>0,C20>=C19),1,0) -> 0 | N20: =IF(AND(D20>0,D20>=D19),1,0) -> 0 | O20: =IF(AND(E20>0,E20>=E19),1,0) -> 0 | P20: =IF(AND(F20>0,F20>=F19),1,0) -> 0 | Q20: =IF(AND(G20>0,G20>=G19),1,0) -> 0 | R20: =IF(AND(H20>0,H20>=H19),1,0) -> 0 | S20: =IF(AND(I20>0,I20>=I19),1,0) -> 0 | T20: =IF(AND(J20>0,J20>=J19),1,0) -> 0
B21: 10 | C21: 0 | D21: 0 | E21: 0 | F21: 0 | G21: 0 | H21: =IF($E21="",0,MIN($E21,$H$2)) -> 0 | I21: =IF($C21="",0,MIN($C21,$I$2)) -> 0 | J21: =IF($C21="",0,MIN($C21,$J$2)) -> 0 | L21: 10 | M21: =IF(AND(C21>0,C21>=C20),1,0) -> 0 | N21: =IF(AND(D21>0,D21>=D20),1,0) -> 0 | O21: =IF(AND(E21>0,E21>=E20),1,0) -> 0 | P21: =IF(AND(F21>0,F21>=F20),1,0) -> 0 | Q21: =IF(AND(G21>0,G21>=G20),1,0) -> 0 | R21: =IF(AND(H21>0,H21>=H20),1,0) -> 0 | S21: =IF(AND(I21>0,I21>=I20),1,0) -> 0 | T21: =IF(AND(J21>0,J21>=J20),1,0) -> 0
B22: 11 | C22: 0 | D22: 0 | E22: 0 | F22: 0 | G22: 0 | H22: =IF($E22="",0,MIN($E22,$H$2)) -> 0 | I22: =IF($C22="",0,MIN($C22,$I$2)) -> 0 | J22: =IF($C22="",0,MIN($C22,$J$2)) -> 0 | L22: 11 | M22: =IF(AND(C22>0,C22>=C21),1,0) -> 0 | N22: =IF(AND(D22>0,D22>=D21),1,0) -> 0 | O22: =IF(AND(E22>0,E22>=E21),1,0) -> 0 | P22: =IF(AND(F22>0,F22>=F21),1,0) -> 0 | Q22: =IF(AND(G22>0,G22>=G21),1,0) -> 0 | R22: =IF(AND(H22>0,H22>=H21),1,0) -> 0 | S22: =IF(AND(I22>0,I22>=I21),1,0) -> 0 | T22: =IF(AND(J22>0,J22>=J21),1,0) -> 0
B23: 12 | C23: 0 | D23: 0 | E23: 0 | F23: 0 | G23: 0 | H23: =IF($E23="",0,MIN($E23,$H$2)) -> 0 | I23: =IF($C23="",0,MIN($C23,$I$2)) -> 0 | J23: =IF($C23="",0,MIN($C23,$J$2)) -> 0 | L23: 12 | M23: =IF(AND(C23>0,C23>=C22),1,0) -> 0 | N23: =IF(AND(D23>0,D23>=D22),1,0) -> 0 | O23: =IF(AND(E23>0,E23>=E22),1,0) -> 0 | P23: =IF(AND(F23>0,F23>=F22),1,0) -> 0 | Q23: =IF(AND(G23>0,G23>=G22),1,0) -> 0 | R23: =IF(AND(H23>0,H23>=H22),1,0) -> 0 | S23: =IF(AND(I23>0,I23>=I22),1,0) -> 0 | T23: =IF(AND(J23>0,J23>=J22),1,0) -> 0
B24: 13 | C24: 0 | D24: 0 | E24: 0 | F24: 0 | G24: 0 | H24: =IF($E24="",0,MIN($E24,$H$2)) -> 0 | I24: =IF($C24="",0,MIN($C24,$I$2)) -> 0 | J24: =IF($C24="",0,MIN($C24,$J$2)) -> 0 | L24: 13 | M24: =IF(AND(C24>0,C24>=C23),1,0) -> 0 | N24: =IF(AND(D24>0,D24>=D23),1,0) -> 0 | O24: =IF(AND(E24>0,E24>=E23),1,0) -> 0 | P24: =IF(AND(F24>0,F24>=F23),1,0) -> 0 | Q24: =IF(AND(G24>0,G24>=G23),1,0) -> 0 | R24: =IF(AND(H24>0,H24>=H23),1,0) -> 0 | S24: =IF(AND(I24>0,I24>=I23),1,0) -> 0 | T24: =IF(AND(J24>0,J24>=J23),1,0) -> 0
B25: 14 | C25: 0 | D25: 0 | E25: 0 | F25: 0 | G25: 0 | H25: =IF($E25="",0,MIN($E25,$H$2)) -> 0 | I25: =IF($C25="",0,MIN($C25,$I$2)) -> 0 | J25: =IF($C25="",0,MIN($C25,$J$2)) -> 0 | L25: 14 | M25: =IF(AND(C25>0,C25>=C24),1,0) -> 0 | N25: =IF(AND(D25>0,D25>=D24),1,0) -> 0 | O25: =IF(AND(E25>0,E25>=E24),1,0) -> 0 | P25: =IF(AND(F25>0,F25>=F24),1,0) -> 0 | Q25: =IF(AND(G25>0,G25>=G24),1,0) -> 0 | R25: =IF(AND(H25>0,H25>=H24),1,0) -> 0 | S25: =IF(AND(I25>0,I25>=I24),1,0) -> 0 | T25: =IF(AND(J25>0,J25>=J24),1,0) -> 0
... B611: 600 | C611: 0 | D611: 0 | E611: 0 | F611: 0 | G611: 0 | H611: =IF($E611="",0,MIN($E611,$H$2)) -> 0 | I611: =IF($C611="",0,MIN($C611,$I$2)) -> 0 | J611: =IF($C611="",0,MIN($C611,$J$2)) -> 0 | L611: 600 | M611: =IF(AND(C611>0,C611>=C610),1,0) -> 0 | N611: =IF(AND(D611>0,D611>=D610),1,0) -> 0 | O611: =IF(AND(E611>0,E611>=E610),1,0) -> 0 | P611: =IF(AND(F611>0,F611>=F610),1,0) -> 0 | Q611: =IF(AND(G611>0,G611>=G610),1,0) -> 0 | R611: =IF(AND(H611>0,H611>=H610),1,0) -> 0 | S611: =IF(AND(I611>0,I611>=I610),1,0) -> 0 | T611: =IF(AND(J611>0,J611>=J610),1,0) -> 0
B612: 601 | D612: 0 | E612: 0 | F612: 0 | G612: 0 | H612: =IF($E612="",0,MIN($E612,$H$2)) -> 0 | L612: 601 | M612: =IF(AND(C612>0,C612>=C611),1,0) -> 0 | N612: =IF(AND(D612>0,D612>=D611),1,0) -> 0 | O612: =IF(AND(E612>0,E612>=E611),1,0) -> 0 | P612: =IF(AND(F612>0,F612>=F611),1,0) -> 0 | Q612: =IF(AND(G612>0,G612>=G611),1,0) -> 0 | R612: =IF(AND(H612>0,H612>=H611),1,0) -> 0 | S612: =IF(AND(I612>0,I612>=I611),1,0) -> 0 | T612: =IF(AND(J612>0,J612>=J611),1,0) -> 0
B613: 602 | D613: 0 | E613: 0 | F613: 0 | G613: 0 | H613: =IF($E613="",0,MIN($E613,$H$2)) -> 0 | L613: 602 | M613: =IF(AND(C613>0,C613>=C612),1,0) -> 0 | N613: =IF(AND(D613>0,D613>=D612),1,0) -> 0 | O613: =IF(AND(E613>0,E613>=E612),1,0) -> 0 | P613: =IF(AND(F613>0,F613>=F612),1,0) -> 0 | Q613: =IF(AND(G613>0,G613>=G612),1,0) -> 0 | R613: =IF(AND(H613>0,H613>=H612),1,0) -> 0 | S613: =IF(AND(I613>0,I613>=I612),1,0) -> 0 | T613: =IF(AND(J613>0,J613>=J612),1,0) -> 0
B614: 603 | D614: 0 | E614: 0 | F614: 0 | G614: 0 | H614: =IF($E614="",0,MIN($E614,$H$2)) -> 0 | L614: 603 | M614: =IF(AND(C614>0,C614>=C613),1,0) -> 0 | N614: =IF(AND(D614>0,D614>=D613),1,0) -> 0 | O614: =IF(AND(E614>0,E614>=E613),1,0) -> 0 | P614: =IF(AND(F614>0,F614>=F613),1,0) -> 0 | Q614: =IF(AND(G614>0,G614>=G613),1,0) -> 0 | R614: =IF(AND(H614>0,H614>=H613),1,0) -> 0 | S614: =IF(AND(I614>0,I614>=I613),1,0) -> 0 | T614: =IF(AND(J614>0,J614>=J613),1,0) -> 0
B615: 604 | D615: 0 | E615: 0 | F615: 0 | G615: 0 | H615: =IF($E615="",0,MIN($E615,$H$2)) -> 0 | L615: 604 | M615: =IF(AND(C615>0,C615>=C614),1,0) -> 0 | N615: =IF(AND(D615>0,D615>=D614),1,0) -> 0 | O615: =IF(AND(E615>0,E615>=E614),1,0) -> 0 | P615: =IF(AND(F615>0,F615>=F614),1,0) -> 0 | Q615: =IF(AND(G615>0,G615>=G614),1,0) -> 0 | R615: =IF(AND(H615>0,H615>=H614),1,0) -> 0 | S615: =IF(AND(I615>0,I615>=I614),1,0) -> 0 | T615: =IF(AND(J615>0,J615>=J614),1,0) -> 0
B616: 605 | D616: 0 | E616: 0 | F616: 0 | G616: 0 | H616: =IF($E616="",0,MIN($E616,$H$2)) -> 0 | L616: 605 | M616: =IF(AND(C616>0,C616>=C615),1,0) -> 0 | N616: =IF(AND(D616>0,D616>=D615),1,0) -> 0 | O616: =IF(AND(E616>0,E616>=E615),1,0) -> 0 | P616: =IF(AND(F616>0,F616>=F615),1,0) -> 0 | Q616: =IF(AND(G616>0,G616>=G615),1,0) -> 0 | R616: =IF(AND(H616>0,H616>=H615),1,0) -> 0 | S616: =IF(AND(I616>0,I616>=I615),1,0) -> 0 | T616: =IF(AND(J616>0,J616>=J615),1,0) -> 0
B617: 606 | D617: 0 | E617: 0 | F617: 0 | G617: 0 | H617: =IF($E617="",0,MIN($E617,$H$2)) -> 0 | L617: 606 | M617: =IF(AND(C617>0,C617>=C616),1,0) -> 0 | N617: =IF(AND(D617>0,D617>=D616),1,0) -> 0 | O617: =IF(AND(E617>0,E617>=E616),1,0) -> 0 | P617: =IF(AND(F617>0,F617>=F616),1,0) -> 0 | Q617: =IF(AND(G617>0,G617>=G616),1,0) -> 0 | R617: =IF(AND(H617>0,H617>=H616),1,0) -> 0 | S617: =IF(AND(I617>0,I617>=I616),1,0) -> 0 | T617: =IF(AND(J617>0,J617>=J616),1,0) -> 0
B618: 607 | D618: 0 | E618: 0 | F618: 0 | G618: 0 | H618: =IF($E618="",0,MIN($E618,$H$2)) -> 0 | L618: 607 | M618: =IF(AND(C618>0,C618>=C617),1,0) -> 0 | N618: =IF(AND(D618>0,D618>=D617),1,0) -> 0 | O618: =IF(AND(E618>0,E618>=E617),1,0) -> 0 | P618: =IF(AND(F618>0,F618>=F617),1,0) -> 0 | Q618: =IF(AND(G618>0,G618>=G617),1,0) -> 0 | R618: =IF(AND(H618>0,H618>=H617),1,0) -> 0 | S618: =IF(AND(I618>0,I618>=I617),1,0) -> 0 | T618: =IF(AND(J618>0,J618>=J617),1,0) -> 0
B619: 608 | D619: 0 | E619: 0 | F619: 0 | G619: 0 | H619: =IF($E619="",0,MIN($E619,$H$2)) -> 0 | L619: 608 | M619: =IF(AND(C619>0,C619>=C618),1,0) -> 0 | N619: =IF(AND(D619>0,D619>=D618),1,0) -> 0 | O619: =IF(AND(E619>0,E619>=E618),1,0) -> 0 | P619: =IF(AND(F619>0,F619>=F618),1,0) -> 0 | Q619: =IF(AND(G619>0,G619>=G618),1,0) -> 0 | R619: =IF(AND(H619>0,H619>=H618),1,0) -> 0 | S619: =IF(AND(I619>0,I619>=I618),1,0) -> 0 | T619: =IF(AND(J619>0,J619>=J618),1,0) -> 0
B620: 609 | D620: 2.3 | E620: 2.3 | F620: 2.3 | G620: 2.3 | H620: =IF($E620="",0,MIN($E620,$H$2)) -> 2.3 | L620: 609 | M620: =IF(AND(C620>0,C620>=C619),1,0) -> 0 | N620: =IF(AND(D620>0,D620>=D619),1,0) -> 1 | O620: =IF(AND(E620>0,E620>=E619),1,0) -> 1 | P620: =IF(AND(F620>0,F620>=F619),1,0) -> 1 | Q620: =IF(AND(G620>0,G620>=G619),1,0) -> 1 | R620: =IF(AND(H620>0,H620>=H619),1,0) -> 1 | S620: =IF(AND(I620>0,I620>=I619),1,0) -> 0 | T620: =IF(AND(J620>0,J620>=J619),1,0) -> 0
B621: 610 | D621: 7.3 | E621: 7.3 | F621: 7.3 | G621: 7.3 | H621: =IF($E621="",0,MIN($E621,$H$2)) -> 7.3 | L621: 610 | M621: =IF(AND(C621>0,C621>=C620),1,0) -> 0 | N621: =IF(AND(D621>0,D621>=D620),1,0) -> 1 | O621: =IF(AND(E621>0,E621>=E620),1,0) -> 1 | P621: =IF(AND(F621>0,F621>=F620),1,0) -> 1 | Q621: =IF(AND(G621>0,G621>=G620),1,0) -> 1 | R621: =IF(AND(H621>0,H621>=H620),1,0) -> 1 | S621: =IF(AND(I621>0,I621>=I620),1,0) -> 0 | T621: =IF(AND(J621>0,J621>=J620),1,0) -> 0
B622: 611 | D622: 13.6 | E622: 15.2 | F622: 15.2 | G622: 15.2 | H622: =IF($E622="",0,MIN($E622,$H$2)) -> 15.2 | L622: 611 | M622: =IF(AND(C622>0,C622>=C621),1,0) -> 0 | N622: =IF(AND(D622>0,D622>=D621),1,0) -> 1 | O622: =IF(AND(E622>0,E622>=E621),1,0) -> 1 | P622: =IF(AND(F622>0,F622>=F621),1,0) -> 1 | Q622: =IF(AND(G622>0,G622>=G621),1,0) -> 1 | R622: =IF(AND(H622>0,H622>=H621),1,0) -> 1 | S622: =IF(AND(I622>0,I622>=I621),1,0) -> 0 | T622: =IF(AND(J622>0,J622>=J621),1,0) -> 0
B623: 612 | D623: 18.9 | E623: 23.9 | F623: 23.9 | G623: 23.9 | H623: =IF($E623="",0,MIN($E623,$H$2)) -> 23.9 | L623: 612 | M623: =IF(AND(C623>0,C623>=C622),1,0) -> 0 | N623: =IF(AND(D623>0,D623>=D622),1,0) -> 1 | O623: =IF(AND(E623>0,E623>=E622),1,0) -> 1 | P623: =IF(AND(F623>0,F623>=F622),1,0) -> 1 | Q623: =IF(AND(G623>0,G623>=G622),1,0) -> 1 | R623: =IF(AND(H623>0,H623>=H622),1,0) -> 1 | S623: =IF(AND(I623>0,I623>=I622),1,0) -> 0 | T623: =IF(AND(J623>0,J623>=J622),1,0) -> 0
... B1211: 1200 | D1211: 0 | E1211: 0 | F1211: 0 | G1211: 0 | H1211: =IF($E1211="",0,MIN($E1211,$H$2)) -> 0 | L1211: 1200 | M1211: =IF(AND(C1211>0,C1211>=C1210),1,0) -> 0 | N1211: =IF(AND(D1211>0,D1211>=D1210),1,0) -> 0 | O1211: =IF(AND(E1211>0,E1211>=E1210),1,0) -> 0 | P1211: =IF(AND(F1211>0,F1211>=F1210),1,0) -> 0 | Q1211: =IF(AND(G1211>0,G1211>=G1210),1,0) -> 0 | R1211: =IF(AND(H1211>0,H1211>=H1210),1,0) -> 0 | S1211: =IF(AND(I1211>0,I1211>=I1210),1,0) -> 0 | T1211: =IF(AND(J1211>0,J1211>=J1210),1,0) -> 0
B1212: 1201 | F1212: 0 | G1212: 0 | L1212: 1201 | M1212: =IF(AND(C1212>0,C1212>=C1211),1,0) -> 0 | P1212: =IF(AND(F1212>0,F1212>=F1211),1,0) -> 0 | Q1212: =IF(AND(G1212>0,G1212>=G1211),1,0) -> 0 | R1212: =IF(AND(H1212>0,H1212>=H1211),1,0) -> 0 | S1212: =IF(AND(I1212>0,I1212>=I1211),1,0) -> 0 | T1212: =IF(AND(J1212>0,J1212>=J1211),1,0) -> 0
B1213: 1202 | F1213: 0 | G1213: 0 | L1213: 1202 | M1213: =IF(AND(C1213>0,C1213>=C1212),1,0) -> 0 | P1213: =IF(AND(F1213>0,F1213>=F1212),1,0) -> 0 | Q1213: =IF(AND(G1213>0,G1213>=G1212),1,0) -> 0 | R1213: =IF(AND(H1213>0,H1213>=H1212),1,0) -> 0 | S1213: =IF(AND(I1213>0,I1213>=I1212),1,0) -> 0 | T1213: =IF(AND(J1213>0,J1213>=J1212),1,0) -> 0
B1214: 1203 | F1214: 0 | G1214: 0 | L1214: 1203 | M1214: =IF(AND(C1214>0,C1214>=C1213),1,0) -> 0 | P1214: =IF(AND(F1214>0,F1214>=F1213),1,0) -> 0 | Q1214: =IF(AND(G1214>0,G1214>=G1213),1,0) -> 0 | R1214: =IF(AND(H1214>0,H1214>=H1213),1,0) -> 0 | S1214: =IF(AND(I1214>0,I1214>=I1213),1,0) -> 0 | T1214: =IF(AND(J1214>0,J1214>=J1213),1,0) -> 0
B1215: 1204 | F1215: 0 | G1215: 0 | L1215: 1204 | M1215: =IF(AND(C1215>0,C1215>=C1214),1,0) -> 0 | P1215: =IF(AND(F1215>0,F1215>=F1214),1,0) -> 0 | Q1215: =IF(AND(G1215>0,G1215>=G1214),1,0) -> 0 | R1215: =IF(AND(H1215>0,H1215>=H1214),1,0) -> 0 | S1215: =IF(AND(I1215>0,I1215>=I1214),1,0) -> 0 | T1215: =IF(AND(J1215>0,J1215>=J1214),1,0) -> 0
B1216: 1205 | F1216: 0 | G1216: 0 | L1216: 1205 | M1216: =IF(AND(C1216>0,C1216>=C1215),1,0) -> 0 | P1216: =IF(AND(F1216>0,F1216>=F1215),1,0) -> 0 | Q1216: =IF(AND(G1216>0,G1216>=G1215),1,0) -> 0 | R1216: =IF(AND(H1216>0,H1216>=H1215),1,0) -> 0 | S1216: =IF(AND(I1216>0,I1216>=I1215),1,0) -> 0 | T1216: =IF(AND(J1216>0,J1216>=J1215),1,0) -> 0
B1217: 1206 | F1217: 0 | G1217: 0 | L1217: 1206 | M1217: =IF(AND(C1217>0,C1217>=C1216),1,0) -> 0 | P1217: =IF(AND(F1217>0,F1217>=F1216),1,0) -> 0 | Q1217: =IF(AND(G1217>0,G1217>=G1216),1,0) -> 0 | R1217: =IF(AND(H1217>0,H1217>=H1216),1,0) -> 0 | S1217: =IF(AND(I1217>0,I1217>=I1216),1,0) -> 0 | T1217: =IF(AND(J1217>0,J1217>=J1216),1,0) -> 0
B1218: 1207 | F1218: 0 | G1218: 0 | L1218: 1207 | M1218: =IF(AND(C1218>0,C1218>=C1217),1,0) -> 0 | P1218: =IF(AND(F1218>0,F1218>=F1217),1,0) -> 0 | Q1218: =IF(AND(G1218>0,G1218>=G1217),1,0) -> 0 | R1218: =IF(AND(H1218>0,H1218>=H1217),1,0) -> 0 | S1218: =IF(AND(I1218>0,I1218>=I1217),1,0) -> 0 | T1218: =IF(AND(J1218>0,J1218>=J1217),1,0) -> 0
B1219: 1208 | F1219: 0.9 | G1219: 0.9 | L1219: 1208 | M1219: =IF(AND(C1219>0,C1219>=C1218),1,0) -> 0 | P1219: =IF(AND(F1219>0,F1219>=F1218),1,0) -> 1 | Q1219: =IF(AND(G1219>0,G1219>=G1218),1,0) -> 1 | R1219: =IF(AND(H1219>0,H1219>=H1218),1,0) -> 0 | S1219: =IF(AND(I1219>0,I1219>=I1218),1,0) -> 0 | T1219: =IF(AND(J1219>0,J1219>=J1218),1,0) -> 0
B1220: 1209 | F1220: 3.2 | G1220: 3.2 | L1220: 1209 | M1220: =IF(AND(C1220>0,C1220>=C1219),1,0) -> 0 | P1220: =IF(AND(F1220>0,F1220>=F1219),1,0) -> 1 | Q1220: =IF(AND(G1220>0,G1220>=G1219),1,0) -> 1 | R1220: =IF(AND(H1220>0,H1220>=H1219),1,0) -> 0 | S1220: =IF(AND(I1220>0,I1220>=I1219),1,0) -> 0 | T1220: =IF(AND(J1220>0,J1220>=J1219),1,0) -> 0
B1221: 1210 | F1221: 7.3 | G1221: 7.3 | L1221: 1210 | M1221: =IF(AND(C1221>0,C1221>=C1220),1,0) -> 0 | P1221: =IF(AND(F1221>0,F1221>=F1220),1,0) -> 1 | Q1221: =IF(AND(G1221>0,G1221>=G1220),1,0) -> 1 | R1221: =IF(AND(H1221>0,H1221>=H1220),1,0) -> 0 | S1221: =IF(AND(I1221>0,I1221>=I1220),1,0) -> 0 | T1221: =IF(AND(J1221>0,J1221>=J1220),1,0) -> 0
B1222: 1211 | F1222: 12.4 | G1222: 12.4 | L1222: 1211 | M1222: =IF(AND(C1222>0,C1222>=C1221),1,0) -> 0 | P1222: =IF(AND(F1222>0,F1222>=F1221),1,0) -> 1 | Q1222: =IF(AND(G1222>0,G1222>=G1221),1,0) -> 1 | R1222: =IF(AND(H1222>0,H1222>=H1221),1,0) -> 0 | S1222: =IF(AND(I1222>0,I1222>=I1221),1,0) -> 0 | T1222: =IF(AND(J1222>0,J1222>=J1221),1,0) -> 0
B1223: 1212 | F1223: 17.9 | G1223: 17.9 | L1223: 1212 | M1223: =IF(AND(C1223>0,C1223>=C1222),1,0) -> 0 | P1223: =IF(AND(F1223>0,F1223>=F1222),1,0) -> 1 | Q1223: =IF(AND(G1223>0,G1223>=G1222),1,0) -> 1 | R1223: =IF(AND(H1223>0,H1223>=H1222),1,0) -> 0 | S1223: =IF(AND(I1223>0,I1223>=I1222),1,0) -> 0 | T1223: =IF(AND(J1223>0,J1223>=J1222),1,0) -> 0
... B1581: 1570 | F1581: 86.5 | G1581: 100.5 | L1581: 1570 | M1581: =IF(AND(C1581>0,C1581>=C1580),1,0) -> 0 | P1581: =IF(AND(F1581>0,F1581>=F1580),1,0) -> 1 | Q1581: =IF(AND(G1581>0,G1581>=G1580),1,0) -> 1 | R1581: =IF(AND(H1581>0,H1581>=H1580),1,0) -> 0 | S1581: =IF(AND(I1581>0,I1581>=I1580),1,0) -> 0 | T1581: =IF(AND(J1581>0,J1581>=J1580),1,0) -> 0
B1582: =B1581+1 -> 1571 | F1582: 88.3 | G1582: 102.3 | L1582: =L1581+1 -> 1571 | M1582: =IF(AND(C1582>0,C1582>=C1581),1,0) -> 0 | P1582: =IF(AND(F1582>0,F1582>=F1581),1,0) -> 1 | Q1582: =IF(AND(G1582>0,G1582>=G1581),1,0) -> 1 | R1582: =IF(AND(H1582>0,H1582>=H1581),1,0) -> 0 | S1582: =IF(AND(I1582>0,I1582>=I1581),1,0) -> 0 | T1582: =IF(AND(J1582>0,J1582>=J1581),1,0) -> 0
B1583: =B1582+1 -> 1572 | F1583: 89.9 | G1583: 103.9 | L1583: =L1582+1 -> 1572 | M1583: =IF(AND(C1583>0,C1583>=C1582),1,0) -> 0 | P1583: =IF(AND(F1583>0,F1583>=F1582),1,0) -> 1 | Q1583: =IF(AND(G1583>0,G1583>=G1582),1,0) -> 1 | R1583: =IF(AND(H1583>0,H1583>=H1582),1,0) -> 0 | S1583: =IF(AND(I1583>0,I1583>=I1582),1,0) -> 0 | T1583: =IF(AND(J1583>0,J1583>=J1582),1,0) -> 0
B1584: =B1583+1 -> 1573 | F1584: 91 | G1584: 105 | L1584: =L1583+1 -> 1573 | M1584: =IF(AND(C1584>0,C1584>=C1583),1,0) -> 0 | P1584: =IF(AND(F1584>0,F1584>=F1583),1,0) -> 1 | Q1584: =IF(AND(G1584>0,G1584>=G1583),1,0) -> 1 | R1584: =IF(AND(H1584>0,H1584>=H1583),1,0) -> 0 | S1584: =IF(AND(I1584>0,I1584>=I1583),1,0) -> 0 | T1584: =IF(AND(J1584>0,J1584>=J1583),1,0) -> 0
B1585: =B1584+1 -> 1574 | F1585: 91.8 | G1585: 105.8 | L1585: =L1584+1 -> 1574 | M1585: =IF(AND(C1585>0,C1585>=C1584),1,0) -> 0 | P1585: =IF(AND(F1585>0,F1585>=F1584),1,0) -> 1 | Q1585: =IF(AND(G1585>0,G1585>=G1584),1,0) -> 1 | R1585: =IF(AND(H1585>0,H1585>=H1584),1,0) -> 0 | S1585: =IF(AND(I1585>0,I1585>=I1584),1,0) -> 0 | T1585: =IF(AND(J1585>0,J1585>=J1584),1,0) -> 0
B1586: =B1585+1 -> 1575 | F1586: 92.5 | G1586: 106.5 | L1586: =L1585+1 -> 1575 | M1586: =IF(AND(C1586>0,C1586>=C1585),1,0) -> 0 | P1586: =IF(AND(F1586>0,F1586>=F1585),1,0) -> 1 | Q1586: =IF(AND(G1586>0,G1586>=G1585),1,0) -> 1 | R1586: =IF(AND(H1586>0,H1586>=H1585),1,0) -> 0 | S1586: =IF(AND(I1586>0,I1586>=I1585),1,0) -> 0 | T1586: =IF(AND(J1586>0,J1586>=J1585),1,0) -> 0
B1587: =B1586+1 -> 1576 | F1587: 93.1 | G1587: 107.1 | L1587: =L1586+1 -> 1576 | M1587: =IF(AND(C1587>0,C1587>=C1586),1,0) -> 0 | P1587: =IF(AND(F1587>0,F1587>=F1586),1,0) -> 1 | Q1587: =IF(AND(G1587>0,G1587>=G1586),1,0) -> 1 | R1587: =IF(AND(H1587>0,H1587>=H1586),1,0) -> 0 | S1587: =IF(AND(I1587>0,I1587>=I1586),1,0) -> 0 | T1587: =IF(AND(J1587>0,J1587>=J1586),1,0) -> 0
B1588: =B1587+1 -> 1577 | F1588: 93.7 | G1588: 107.7 | L1588: =L1587+1 -> 1577 | M1588: =IF(AND(C1588>0,C1588>=C1587),1,0) -> 0 | P1588: =IF(AND(F1588>0,F1588>=F1587),1,0) -> 1 | Q1588: =IF(AND(G1588>0,G1588>=G1587),1,0) -> 1 | R1588: =IF(AND(H1588>0,H1588>=H1587),1,0) -> 0 | S1588: =IF(AND(I1588>0,I1588>=I1587),1,0) -> 0 | T1588: =IF(AND(J1588>0,J1588>=J1587),1,0) -> 0
B1589: =B1588+1 -> 1578 | F1589: 94.4 | G1589: 108.4 | L1589: =L1588+1 -> 1578 | M1589: =IF(AND(C1589>0,C1589>=C1588),1,0) -> 0 | P1589: =IF(AND(F1589>0,F1589>=F1588),1,0) -> 1 | Q1589: =IF(AND(G1589>0,G1589>=G1588),1,0) -> 1 | R1589: =IF(AND(H1589>0,H1589>=H1588),1,0) -> 0 | S1589: =IF(AND(I1589>0,I1589>=I1588),1,0) -> 0 | T1589: =IF(AND(J1589>0,J1589>=J1588),1,0) -> 0
B1590: =B1589+1 -> 1579 | F1590: 95 | G1590: 109 | L1590: =L1589+1 -> 1579 | M1590: =IF(AND(C1590>0,C1590>=C1589),1,0) -> 0 | P1590: =IF(AND(F1590>0,F1590>=F1589),1,0) -> 1 | Q1590: =IF(AND(G1590>0,G1590>=G1589),1,0) -> 1 | R1590: =IF(AND(H1590>0,H1590>=H1589),1,0) -> 0 | S1590: =IF(AND(I1590>0,I1590>=I1589),1,0) -> 0 | T1590: =IF(AND(J1590>0,J1590>=J1589),1,0) -> 0
B1591: =B1590+1 -> 1580 | F1591: 95.6 | G1591: 109.6 | L1591: =L1590+1 -> 1580 | M1591: =IF(AND(C1591>0,C1591>=C1590),1,0) -> 0 | P1591: =IF(AND(F1591>0,F1591>=F1590),1,0) -> 1 | Q1591: =IF(AND(G1591>0,G1591>=G1590),1,0) -> 1 | R1591: =IF(AND(H1591>0,H1591>=H1590),1,0) -> 0 | S1591: =IF(AND(I1591>0,I1591>=I1590),1,0) -> 0 | T1591: =IF(AND(J1591>0,J1591>=J1590),1,0) -> 0
B1592: =B1591+1 -> 1581 | F1592: 96.3 | G1592: 110.3 | L1592: =L1591+1 -> 1581 | M1592: =IF(AND(C1592>0,C1592>=C1591),1,0) -> 0 | P1592: =IF(AND(F1592>0,F1592>=F1591),1,0) -> 1 | Q1592: =IF(AND(G1592>0,G1592>=G1591),1,0) -> 1 | R1592: =IF(AND(H1592>0,H1592>=H1591),1,0) -> 0 | S1592: =IF(AND(I1592>0,I1592>=I1591),1,0) -> 0 | T1592: =IF(AND(J1592>0,J1592>=J1591),1,0) -> 0
B1593: =B1592+1 -> 1582 | F1593: 96.9 | G1593: 110.9 | L1593: =L1592+1 -> 1582 | M1593: =IF(AND(C1593>0,C1593>=C1592),1,0) -> 0 | P1593: =IF(AND(F1593>0,F1593>=F1592),1,0) -> 1 | Q1593: =IF(AND(G1593>0,G1593>=G1592),1,0) -> 1 | R1593: =IF(AND(H1593>0,H1593>=H1592),1,0) -> 0 | S1593: =IF(AND(I1593>0,I1593>=I1592),1,0) -> 0 | T1593: =IF(AND(J1593>0,J1593>=J1592),1,0) -> 0
... B1811: =B1810+1 -> 1800 | F1811: 0 | G1811: 0 | L1811: =L1810+1 -> 1800 | M1811: =IF(AND(C1811>0,C1811>=C1810),1,0) -> 0 | P1811: =IF(AND(F1811>0,F1811>=F1810),1,0) -> 0 | Q1811: =IF(AND(G1811>0,G1811>=G1810),1,0) -> 0 | R1811: =IF(AND(H1811>0,H1811>=H1810),1,0) -> 0 | S1811: =IF(AND(I1811>0,I1811>=I1810),1,0) -> 0 | T1811: =IF(AND(J1811>0,J1811>=J1810),1,0) -> 0

Sheet Modele PV
B1: Calcul de la réduction de consommation apportée par le toit solaire PV
B2: Paramètre | C2: Donnée | D2: Unité | E2: Code CE | F2: Référence
B3: Irradiation solaire annuelle moyenne en Europe | C3: 120 | D3: W/m² | E3: S.ir | F3: 5.7.1
B4: Facteur d'usage (effet d'ombrage) | C4: 0.51 | D4: na | E4: UF.ir | F4: 5.4.2
B5: rendement du système solaire PV | C5: 0.76 | D5: na | E5: Eta.ss | F5: 5.1.3
B6: Puissance du toit solaire PV | C6: ='Tableau de bord'!C8 -> 0 | D6: Wc | E6: mP.p
B7: Irradiation globale dans les conditions d'essai standard | C7: 1000 | D7: W/m² | E7: S.ir_stc
B8: Angle d'inclinaison, en degrés (0°=à plat) | C8: ='Tableau de bord'!E8 -> 0 | D8: degrés | E8: Phi
B9: Puissance PV moyenne annuelle | C9: =C3*C4*C5*C6*COS(C8*PI()/180)*L27/C7 -> #DIV/0! | D9: W
B10: Production PV moyenne journalière | C10: =C9*24 -> #DIV/0! | D10: Wh/jour
B11: Production PV moyenne annuelle | C11: =C10*365/1000 -> #DIV/0! | D11: kWh/an
B12: Rendement batterie>moteur | C12: 1 | E12: Eta.b
B13: Réduction max de consommation au km | C13: =C11*1000/C20 -> #DIV/0! | D13: Wh/km
B15: Méthodologie de référence :
B16: https://eur-lex.europa.eu/legal-content/FR/TXT/PDF/?uri=CELEX:32016D1926&qid=1694748250886
B18: Calcul de SCC
B19: Consommation de référence | C19: 750 | D19: Wh/j
B20: Kilométrage annuel par défaut | C20: =VLOOKUP('Tableau de bord'!$C$5,CaracVehicules!$A$5:$P$29,CaracVehicules!$C$1,FALSE) -> 2000 | D20: km/an
B21: Consommation véhicule | C21: ='Tableau de bord'!E4 -> 0 | D21: Wh/km
B22: Consommation corrigée | C22: =C21*C20/365 -> 0 | D22: Wh/j | L22: Donnée véhicule
B23: Capacité batterie | C23: ='Tableau de bord'!$E$7 -> 0 | D23: kWh
B24: Capacité utile totale de stockage (12 V)/puissance crête du panneau photovoltaïque | C24: Ah/Wp, cons. de référence | D24: 0 | E24: 0.1 | F24: 0.2 | G24: 0.3 | H24: 0.4 | I24: 0.5 | J24: 0.6 | K24: 0.666
B25: Capacité utile totale de stockage/puissance crête du panneau photovoltaïque | C25: Wh/Wp, cons. de référence | D25: =D24*12 -> 0 | E25: =E24*12 -> 1.2 | F25: =F24*12 -> 2.4 | G25: =G24*12 -> 3.6 | H25: =H24*12 -> 4.8 | I25: =I24*12 -> 6 | J25: =J24*12 -> 7.2 | K25: =K24*12 -> 7.992 | L25: =L26*C22/C19 -> #DIV/0!
C26: Wh/Wp, cons. Corrigée | D26: =D25*$C$19/$C$22 -> #DIV/0! | E26: =E25*$C$19/$C$22 -> #DIV/0! | F26: =F25*$C$19/$C$22 -> #DIV/0! | G26: =G25*$C$19/$C$22 -> #DIV/0! | H26: =H25*$C$19/$C$22 -> #DIV/0! | I26: =I25*$C$19/$C$22 -> #DIV/0! | J26: =J25*$C$19/$C$22 -> #DIV/0! | K26: =K25*$C$19/$C$22 -> #DIV/0! | L26: =C23*1000/C6 -> #DIV/0!
B27: Coefficient de correction solaire (SCC) | D27: 0 | E27: 0.481 | F27: 0.656 | G27: 0.784 | H27: 0.873 | I27: 0.934 | J27: 0.977 | K27: 1 | L27: =LOOKUP($L$26,$D$26:$K$26,$D$27:$K$27) -> #DIV/0!
B33: Capacité utile totale de stockage/puissance crête du panneau photovoltaïque | C33: Wh/Wp, cons. de référence | D33: 0 | E33: 1.2 | F33: 2.4 | G33: 3.6 | H33: 4.8 | I33: 6 | J33: 7.2 | K33: 7.992
C34: Wh/Wp, cons. Corrigée | D34: 0 | E34: 16.425 | F34: 32.85 | G34: 49.275 | H34: 65.7 | I34: 82.125 | J34: 98.55 | K34: 109.3905
B35: Coefficient de correction solaire (SCC) | D35: 0 | E35: 0.481 | F35: 0.656 | G35: 0.784 | H35: 0.873 | I35: 0.934 | J35: 0.977 | K35: 1
B38: Capacité utile totale de stockage/puissance crête du panneau photovoltaïque | D38: Coefficient de correction solaire (SCC)
B39: Capacité utile totale de stockage/puissance crête du panneau photovoltaïque, en Wh/Wp, cons. de référence | D39: SCC
B40: 0 | D40: 0
B41: 1.2 | D41: 0.481
B42: 2.4 | D42: 0.656
B43: 3.6 | D43: 0.784
B44: 4.8 | D44: 0.873
B45: 6 | D45: 0.934
B46: 7.2 | D46: 0.977
B47: 7.992 | D47: 1
