Workbook
Name Catégorie: CaracVehicules!$A$5:$A$29
Name Chimie: FE_Specifiques!$I$3:$M$3
Name MateriauxAssise: Listes!$K$3:$K$86
Name MateriauxChassis: Listes!$G$3:$G$86
Name MateriauxJantes: Listes!$I$3:$I$86
Name Matière: Listes!$F$3:$F$86
Name Matière: #REF!
Name model_data: #REF!
Name ModesTransport: FE_Specifiques!$A$6:$A$22
Name Pays: FE_Specifiques!$D$6:$D$35
Name Roue: #REF!
Name ZonesAcier: FE_Specifiques!$D$6:$D$38

Sheet Notice
B4: Cet outil vise à calculer les émissions de GES des véhicules intermédiaires
B6: case en jaune : à compléter par le constructeur
B7: case en bleu : paramètres du calculateur
B9: Procédure d'utilisation simplifiée :
B10: Seul l'onglet "Tableau de bord est à compléter par les constructeurs.
B11: 1) Compléter la partie "Caractéristiques du véhicule" (+/- à gauche du tableur pour afficher/masquer cette partie)
B12: 2) Détailler les principaux matériaux composant le véhicule, et leurs origine
B13: 3) Si besoin, paramétrer les distances parcourues et durées de vie (+/- en haut du tableur pour afficher/masquer cette partie)
B14: 4) Consulter et analyser les résultats
B16: Détail des procédures, paramètres et hypothèses
B17: 1) Compléter la partie "Caractéristiques du véhicule" (+/- à gauche du tableur pour afficher/masquer cette partie)
B18: Les caractéristiques du cycle WMTC sont indiquée dans un onglet dédiée
... B21: 2) Détailler les principaux matériaux composant le véhicule, et leurs origine
B22: Composants | C22: Précisions sur les données collectées | E22: Précisions sur les données collectées
B23: Chassis, cadre, carosserie | C23: Y compris essieux. Origine = lieux de fabrication du matériau | E23: Y compris essieux. Origine = lieux de fabrication du matériau
B24: Batterie | C24: Y compris BMS. Origine = lieux d'assemblage des cellules en pack batterie. | E24: Y compris BMS. Origine = lieux d'assemblage des cellules en pack batterie.
B25: Moteur (+ génératrice) | C25: Origine = lieux d'assemblage du moteur | E25: Origine = lieux d'assemblage du moteur
B26: Moyeux | C26: Hors moyeux moteurs. Origine = lieux de fabrication du moyeu | E26: Hors moyeux moteurs. Origine = lieux de fabrication du moyeu
B27: Jantes | C27: Origine = lieux de fabrication de la jante | E27: Origine = lieux de fabrication de la jante
B28: Pneumatique + Chambre | C28: Origine = lieux de fabrication du pneumatique | E28: Origine = lieux de fabrication du pneumatique
B29: Assise | C29: Origine = lieux de fabrication de l'assise | E29: Origine = lieux de fabrication de l'assise
B30: Composants non détaillés | C30: électronique, freins, guidons, éclairages, … Calculé automatiquement | E30: électronique, freins, guidons, éclairages, … Calculé automatiquement
B32: 3) Si besoin, paramétrer les distances parcourues et durées de vie (+/- en haut du tableur pour afficher/masquer cette partie)
B33: Les distances et durées de vie par défaut ne permettent pas de comparer entre eux des véhicules de classe différente
B34: De plus, il est pêrtinent de pouvoir modéliser des cas d'usage spécifique.
B35: Il est donc possible de paramétrer le kilométrage total du véhicule sur sa vie
B36: Il est également possible de modifier la durée de vie de chaque composant, pour anticiper des besoins de remplacement
B37: Pour ce faire, il faut définir l'approche "Personnalisée" au lieu de "par défaut", et modifier les paramètres
B39: 4) Consulter et analyser les résultats
B40: Les résultats sont présentés avec plusieurs unités et périmètres
B41: A) Emissions à la fabrication
B42: Calcul des émissions à la fabrication du véhicule, en prenant également en compte le remplacement à venir des pneumatiques.
B43: Cette analyse permet de comparer 2 véhicules sans cas d'usage précis.
B44: Avec l'approche "Personnalisée", il est possible de prendre en compte ici le remplacement d'autres composants
... B54: Paramètres spécifiques du modèle :
B56: Durée de vie par défaut | C56: 30
B57: Kilométrage annuel X : | C57: selon catégorie de véhicule
B58: Hypothèses sur l'emport du véhicule (selon la capacité du véhicule)
B59: Taux de remplissage passagers | C59: 0.1 | D59: (hors conducteur)
B60: Taux de remplissage marchandises | C60: 0.3
...

Sheet CaracVehicules
A1: 1 | B1: =A1+1 -> 2 | C1: =B1+1 -> 3 | D1: =C1+1 -> 4 | E1: =D1+1 -> 5 | F1: =E1+1 -> 6 | G1: =F1+1 -> 7 | H1: =G1+1 -> 8 | I1: =H1+1 -> 9
A2: Classification | C2: Vie du véhicule | F2: Performance (WMTC) | J2: Caractéristiques réglementaires (à titre indicatif)
A3: Catégories | B3: Nom | C3: Kilométrage annuel | D3: Durée de vie par défaut | E3: Durée de vie par défaut | F3: Classe WMTC | G3: Vitesse moyenne | H3: % maintien de vitesse ou accélération | I3: Energie par pédalage | J3: Nb roues | K3: Puissance | L3: vitesse maximale | M3: Masse OM | N3: Places max | O3: Longueur max | P3: Largeur max
C4: km/an | D4: années | E4: km | F4: années | G4: km/h | H4: % | I4: Wh/km | K4: kW | L4: km/h | M4: kg | O4: mm | P4: mm
A5: VAE | C5: 2000 | D5: =Notice!$C$56 -> 30 | E5: =$C5*D5 -> 60000 | F5: Class1-25 | G5: =HLOOKUP(F5,WMTC!$C$1:$J$8,5,FALSE) -> 17.647667 | H5: =HLOOKUP(F5,WMTC!$C$1:$J$8,8,FALSE) -> 0.69782972 | I5: =Notice!$C$70*CaracVehicules!H5/CaracVehicules!G5 -> 3.9542322 | L5: 25
A6: L1e | B6: Deux-roues motorisé léger | C6: =MAX(C7:C8) -> 5000 | D6: =Notice!$C$56 -> 30 | E6: =$C6*D6 -> 150000 | F6: Class1-45 | G6: =HLOOKUP(F6,WMTC!$C$1:$J$8,5,FALSE) -> 22.800667 | H6: =HLOOKUP(F6,WMTC!$C$1:$J$8,8,FALSE) -> 0.50417362 | I6: =Notice!$C$70*CaracVehicules!H6/CaracVehicules!G6 -> 2.2112232 | J6: 2 | K6: 1 | L6: 45 | O6: 4000 | P6: 1000
A7: L1e-A | B7: Vélo à moteur | C7: 2000 | D7: =Notice!$C$56 -> 30 | E7: =$C7*D7 -> 60000 | F7: Class1-25 | G7: =HLOOKUP(F7,WMTC!$C$1:$J$8,5,FALSE) -> 17.647667 | H7: =HLOOKUP(F7,WMTC!$C$1:$J$8,8,FALSE) -> 0.69782972 | I7: =Notice!$C$70*CaracVehicules!H7/CaracVehicules!G7 -> 3.9542322 | K7: 4 | L7: 25 | O7: 4000 | P7: 2000
A8: L1e-B | B8: Cyclomoteur à deux roues | C8: 5000 | D8: =Notice!$C$56 -> 30 | E8: =$C8*D8 -> 150000 | F8: Class1-45 | G8: =HLOOKUP(F8,WMTC!$C$1:$J$8,5,FALSE) -> 22.800667 | H8: =HLOOKUP(F8,WMTC!$C$1:$J$8,8,FALSE) -> 0.50417362 | I8: =Notice!$C$70*CaracVehicules!H8/CaracVehicules!G8 -> 2.2112232 | L8: 45
A9: L2e | B9: Cyclomoteur à trois roues | C9: =MAX(C10:C11) -> 5000 | D9: =Notice!$C$56 -> 30 | E9: =$C9*D9 -> 150000 | F9: Class1-45 | G9: =HLOOKUP(F9,WMTC!$C$1:$J$8,5,FALSE) -> 22.800667 | H9: =HLOOKUP(F9,WMTC!$C$1:$J$8,8,FALSE) -> 0.50417362 | I9: =Notice!$C$70*CaracVehicules!H9/CaracVehicules!G9 -> 2.2112232 | J9: 3 | K9: 4 | L9: 45 | M9: 270 | N9: 270 | O9: 4000 | P9: 2000
A10: L2e-P | B10: Cyclomoteur à trois roues conçus pour le transport de voyageurs | C10: 5000 | D10: =Notice!$C$56 -> 30 | E10: =$C10*D10 -> 150000 | F10: Class1-45 | G10: =HLOOKUP(F10,WMTC!$C$1:$J$8,5,FALSE) -> 22.800667 | H10: =HLOOKUP(F10,WMTC!$C$1:$J$8,8,FALSE) -> 0.50417362 | I10: =Notice!$C$70*CaracVehicules!H10/CaracVehicules!G10 -> 2.2112232 | L10: 45 | O10: 4000 | P10: 2000
A11: L2e-U | B11: Cyclomoteur à trois roues conçus à des fins utilitaires | C11: 5000 | D11: =Notice!$C$56 -> 30 | E11: =$C11*D11 -> 150000 | F11: Class1-45 | G11: =HLOOKUP(F11,WMTC!$C$1:$J$8,5,FALSE) -> 22.800667 | H11: =HLOOKUP(F11,WMTC!$C$1:$J$8,8,FALSE) -> 0.50417362 | I11: =Notice!$C$70*CaracVehicules!H11/CaracVehicules!G11 -> 2.2112232 | L11: 45 | O11: 4000 | P11: 2000
A12: L3e | B12: Motocycle à deux roues | C12: =MAX(C13:C14) -> 5000 | D12: =Notice!$C$56 -> 30 | E12: =$C12*D12 -> 150000 | F12: class3-2 | G12: =HLOOKUP(F12,WMTC!$C$1:$J$8,5,FALSE) -> 57.830778 | H12: =HLOOKUP(F12,WMTC!$C$1:$J$8,8,FALSE) -> 0.53529739 | I12: =Notice!$C$70*CaracVehicules!H12/CaracVehicules!G12 -> 0.92562716 | J12: 2 | K12: 11 | O12: 4000 | P12: 2000
A13: L3e-A1 | B13: Motocycle à performances réduites | C13: 5000 | D13: =Notice!$C$56 -> 30 | E13: =$C13*D13 -> 150000 | F13: class3-2 | G13: =HLOOKUP(F13,WMTC!$C$1:$J$8,5,FALSE) -> 57.830778 | H13: =HLOOKUP(F13,WMTC!$C$1:$J$8,8,FALSE) -> 0.53529739 | I13: =Notice!$C$70*CaracVehicules!H13/CaracVehicules!G13 -> 0.92562716 | J13: 2 | K13: 11 | O13: 4000 | P13: 2000
A14: L3e-A2 | B14: Motocycle à performances moyennes | C14: 5000 | D14: =Notice!$C$56 -> 30 | E14: =$C14*D14 -> 150000 | F14: class3-2 | G14: =HLOOKUP(F14,WMTC!$C$1:$J$8,5,FALSE) -> 57.830778 | H14: =HLOOKUP(F14,WMTC!$C$1:$J$8,8,FALSE) -> 0.53529739 | I14: =Notice!$C$70*CaracVehicules!H14/CaracVehicules!G14 -> 0.92562716 | K14: 35 | O14: 4000 | P14: 2000
A15: L3e-A3 | B15: Motocycle à performances élevées | C15: 5000 | D15: =Notice!$C$56 -> 30 | E15: =$C15*D15 -> 150000 | F15: class3-2 | G15: =HLOOKUP(F15,WMTC!$C$1:$J$8,5,FALSE) -> 57.830778 | H15: =HLOOKUP(F15,WMTC!$C$1:$J$8,8,FALSE) -> 0.53529739 | I15: =Notice!$C$70*CaracVehicules!H15/CaracVehicules!G15 -> 0.92562716 | O15: 4000 | P15: 2000
A16: L4e | B16: Motocycles à deux roues avec side-car | C16: 5000 | D16: =Notice!$C$56 -> 30 | E16: =$C16*D16 -> 150000 | F16: class3-2 | G16: =HLOOKUP(F16,WMTC!$C$1:$J$8,5,FALSE) -> 57.830778 | H16: =HLOOKUP(F16,WMTC!$C$1:$J$8,8,FALSE) -> 0.53529739 | I16: =Notice!$C$70*CaracVehicules!H16/CaracVehicules!G16 -> 0.92562716 | J16: 2+1 | O16: 4000 | P16: 2000
A17: L5e | B17: Tricycle motorisé | C17: =MAX(C18:C19) -> 5000 | D17: =Notice!$C$56 -> 30 | E17: =$C17*D17 -> 150000 | F17: class3-2 | G17: =HLOOKUP(F17,WMTC!$C$1:$J$8,5,FALSE) -> 57.830778 | H17: =HLOOKUP(F17,WMTC!$C$1:$J$8,8,FALSE) -> 0.53529739 | I17: =Notice!$C$70*CaracVehicules!H17/CaracVehicules!G17 -> 0.92562716 | J17: 3 | M17: 1000 | O17: 4000 | P17: 2000
A18: L5e-A | B18: Tricycle | C18: 5000 | D18: =Notice!$C$56 -> 30 | E18: =$C18*D18 -> 150000 | F18: class3-2 | G18: =HLOOKUP(F18,WMTC!$C$1:$J$8,5,FALSE) -> 57.830778 | H18: =HLOOKUP(F18,WMTC!$C$1:$J$8,8,FALSE) -> 0.53529739 | I18: =Notice!$C$70*CaracVehicules!H18/CaracVehicules!G18 -> 0.92562716 | J18: 3 | M18: 1000 | N18: 5 | O18: 4000 | P18: 2000
A19: L5e-B | B19: Tricycle utilitaire | C19: 5000 | D19: =Notice!$C$56 -> 30 | E19: =$C19*D19 -> 150000 | F19: class3-2 | G19: =HLOOKUP(F19,WMTC!$C$1:$J$8,5,FALSE) -> 57.830778 | H19: =HLOOKUP(F19,WMTC!$C$1:$J$8,8,FALSE) -> 0.53529739 | I19: =Notice!$C$70*CaracVehicules!H19/CaracVehicules!G19 -> 0.92562716 | J19: 3 | M19: 1000 | N19: 2 | O19: 4000 | P19: 2000
A20: L6e | B20: Quadricycle léger | C20: =MAX(C21:C24) -> 5000 | D20: =Notice!$C$56 -> 30 | E20: =$C20*D20 -> 150000 | F20: Class1-45 | G20: =HLOOKUP(F20,WMTC!$C$1:$J$8,5,FALSE) -> 22.800667 | H20: =HLOOKUP(F20,WMTC!$C$1:$J$8,8,FALSE) -> 0.50417362 | I20: =Notice!$C$70*CaracVehicules!H20/CaracVehicules!G20 -> 2.2112232 | J20: 4 | L20: 45 | M20: 425 | O20: 4000 | P20: 2000
A21: L6e-A | B21: Quad routier léger | C21: 5000 | D21: =Notice!$C$56 -> 30 | E21: =$C21*D21 -> 150000 | F21: Class1-45 | G21: =HLOOKUP(F21,WMTC!$C$1:$J$8,5,FALSE) -> 22.800667 | H21: =HLOOKUP(F21,WMTC!$C$1:$J$8,8,FALSE) -> 0.50417362 | I21: =Notice!$C$70*CaracVehicules!H21/CaracVehicules!G21 -> 2.2112232 | J21: 4 | K21: 4 | L21: 45 | M21: 425 | O21: 4000 | P21: 2000
A22: L6e-B | B22: Quadricycle léger | C22: 5000 | D22: =Notice!$C$56 -> 30 | E22: =$C22*D22 -> 150000 | F22: Class1-45 | G22: =HLOOKUP(F22,WMTC!$C$1:$J$8,5,FALSE) -> 22.800667 | H22: =HLOOKUP(F22,WMTC!$C$1:$J$8,8,FALSE) -> 0.50417362 | I22: =Notice!$C$70*CaracVehicules!H22/CaracVehicules!G22 -> 2.2112232 | J22: 4 | K22: 6 | L22: 45 | M22: 425 | O22: 3000 | P22: 1500
A23: L6e-BP | B23: Quadrimobile léger pour le transport de personnes | C23: 5000 | D23: =Notice!$C$56 -> 30 | E23: =$C23*D23 -> 150000 | F23: Class1-45 | G23: =HLOOKUP(F23,WMTC!$C$1:$J$8,5,FALSE) -> 22.800667 | H23: =HLOOKUP(F23,WMTC!$C$1:$J$8,8,FALSE) -> 0.50417362 | I23: =Notice!$C$70*CaracVehicules!H23/CaracVehicules!G23 -> 2.2112232 | J23: 4 | K23: 6 | L23: 45 | M23: 425 | O23: 3000 | P23: 1500
A24: L6e-BU | B24: Quadrimobile léger pour le transport de marchandises | C24: 5000 | D24: =Notice!$C$56 -> 30 | E24: =$C24*D24 -> 150000 | F24: Class1-45 | G24: =HLOOKUP(F24,WMTC!$C$1:$J$8,5,FALSE) -> 22.800667 | H24: =HLOOKUP(F24,WMTC!$C$1:$J$8,8,FALSE) -> 0.50417362 | I24: =Notice!$C$70*CaracVehicules!H24/CaracVehicules!G24 -> 2.2112232 | J24: 4 | K24: 6 | L24: 45 | M24: 425 | O24: 3000 | P24: 1500
A25: L7e | B25: Quadricycle lourd | C25: =MAX(C26:C28) -> 10000 | D25: =Notice!$C$56 -> 30 | E25: =$C25*D25 -> 300000 | F25: Class2-2-90 | G25: =HLOOKUP(F25,WMTC!$C$1:$J$8,5,FALSE) -> 39.39425 | H25: =HLOOKUP(F25,WMTC!$C$1:$J$8,8,FALSE) -> 0.50458716 | I25: =Notice!$C$70*CaracVehicules!H25/CaracVehicules!G25 -> 1.280865 | J25: 4 | K25: 15 | L25: 90 | M25: 450 | O25: 4000 | P25: 2000
A26: L7e-C | B26: Quadrimobile lourd | C26: 10000 | D26: =Notice!$C$56 -> 30 | E26: =$C26*D26 -> 300000 | F26: Class2-2-90 | G26: =HLOOKUP(F26,WMTC!$C$1:$J$8,5,FALSE) -> 39.39425 | H26: =HLOOKUP(F26,WMTC!$C$1:$J$8,8,FALSE) -> 0.50458716 | I26: =Notice!$C$70*CaracVehicules!H26/CaracVehicules!G26 -> 1.280865 | K26: 15 | L26: 90 | O26: 3700 | P26: 1500
A27: L7e-CP | B27: Quadrimobile lourd pour le transport de personnes | C27: 10000 | D27: =Notice!$C$56 -> 30 | E27: =$C27*D27 -> 300000 | F27: Class2-2-90 | G27: =HLOOKUP(F27,WMTC!$C$1:$J$8,5,FALSE) -> 39.39425 | H27: =HLOOKUP(F27,WMTC!$C$1:$J$8,8,FALSE) -> 0.50458716 | I27: =Notice!$C$70*CaracVehicules!H27/CaracVehicules!G27 -> 1.280865 | J27: 4 | K27: 15 | L27: 90 | M27: 425 | O27: 3000 | P27: 1500
A28: L7e-CU | B28: Quadrimobile lourd pour le transport de marchandises | C28: 10000 | D28: =Notice!$C$56 -> 30 | E28: =$C28*D28 -> 300000 | F28: Class2-2-90 | G28: =HLOOKUP(F28,WMTC!$C$1:$J$8,5,FALSE) -> 39.39425 | H28: =HLOOKUP(F28,WMTC!$C$1:$J$8,8,FALSE) -> 0.50458716 | I28: =Notice!$C$70*CaracVehicules!H28/CaracVehicules!G28 -> 1.280865 | J28: 4 | K28: 15 | L28: 90 | M28: 425 | O28: 3000 | P28: 1500
A29: Autre | C29: 5000 | D29: =Notice!$C$56 -> 30 | E29: =$C29*D29 -> 150000 | G29: =HLOOKUP(F29,WMTC!$C$1:$J$8,5,FALSE) -> #N/A | H29: =HLOOKUP(F29,WMTC!$C$1:$J$8,8,FALSE) -> #N/A | I29: =Notice!$C$70*CaracVehicules!H29/CaracVehicules!G29 -> #N/A
B31: Nb de pneus utilisés par roue sur la vie du véhicule | C31: 8

Sheet Tableau de bord
B2: Caractéristiques du véhicule
B3: Nom du constructeur | C3: MOTION ENGINEERING | D3: Poids total véhicule (kg) | E3: 95
B4: Nom du véhicule | C4: Plateforme compacte modulaire | D4: Consommation WMTC (Wh/km)
B5: Catégorie | C5: VAE | D5: Vitesse maximale (km/h)
B6: Pays de fabrication | C6: France | D6: Autonomie (km)
B7: Génération pédalage | D7: Capacité batterie (kWh) | J7: Choix de la durée de vie | M7: Par défaut
B8: Puissance PV (Wc) | D8: Inclinaison PV (0°=à plat) | J8: Durée de vie véhicule (par défaut), en km : | M8: =VLOOKUP($C$5,CaracVehicules!$A$5:$P$29,CaracVehicules!$E$1,FALSE) -> 60000
B9: Type de véhicule | C9: Transport de marchandises | J9: Durée de vie véhicule (personnalisé), en km : | M9: 300000
B10: Nb places adultes | D10: Volume de stockage (L) | J10: ="Capacité de référence, en "&VLOOKUP($C$9,Listes!$A$2:$C$4,2,FALSE)&" :" -> Capacité de référence, en tonnes : | M10: =IF($C$9=Listes!$A$3,$E$11*Notice!$C$60/1000,1+($C$10+$C$11-1)*Notice!C59) -> 0.15
B11: Nb places enfants | D11: Capacité d'emport (kg) | E11: 500 | J11: Unité fonctionnelle (UF) 2 : | L11: =VLOOKUP($C$9,Listes!$A$2:$C$4,3,FALSE) -> Transporter 1 tonne sur 1km
F13: Unité de référence | G13: Transport des composants | J13: Durée de vie (km) | L13: Quantité | M13: Facteur d'émission | N13: Emissions vie du véhicule | Q13: Emissions par km | R13: Emissions selon capacité
B14: Poste | C14: Matériaux | D14: Origine | E14: Quantité | G14: Maritime | H14: Routier Europe | I14: Routier Monde | J14: Par défaut | K14: Personnalisé | S14: %
E15: unité de ref | G15: t.km | H15: t.km | I15: t.km | J15: km | K15: km | L15: unité de ref | M15: kgCO2e/unité | N15: kgCO2e | O15: % | Q15: gCO2e/km | R15: ="gCO2e/"&VLOOKUP($C$9,Listes!$A$2:$D$4,4,FALSE) -> gCO2e/t.km | S15: %
A16: 1 | B16: Chassis, carosserie | C16: Acier | F16: kg | G16: =IF(OR($L16=0,$F16<>"kg"),0,$L16*VLOOKUP($D16&$C$6,DistancesPays!$I:$L,DistancesPays!J$3,FALSE)/1000) -> 0 | H16: =IF(OR($L16=0,$F16<>"kg"),0,$L16*VLOOKUP($D16&$C$6,DistancesPays!$I:$L,DistancesPays!K$3,FALSE)/1000) -> 0 | I16: =IF(OR($L16=0,$F16<>"kg"),0,$L16*VLOOKUP($D16&$C$6,DistancesPays!$I:$L,DistancesPays!L$3,FALSE)/1000) -> 0 | J16: =$M$8 -> 60000 | K16: 200000 | L16: =E16*MAX(IF($M$7=$K$14,$M$9/K16,$M$8/J16),1) -> 0 | M16: =IFERROR(VLOOKUP($D16,FE_Specifiques!$D:$H,FE_Specifiques!$G$4,FALSE)/FE_Specifiques!$G$5,0) -> 0 | N16: =L16*M16 -> 0 | O16: =IF(M16>0,N16/$N$43,0) -> 0 | Q16: =L16*M16*1000/IF($M$7=$K$14,$M$9,$M$8) -> 0 | R16: =Q16/$M$10 -> 0 | S16: =R16/$R$43 -> 0 | T16: Chassis, carosserie | U16: =C16 -> Acier
A17: 1 | B17: Chassis, carosserie | C17: Aluminium | D17: Chine | E17: 89 | F17: kg | G17: =IF(OR($L17=0,$F17<>"kg"),0,$L17*VLOOKUP($D17&$C$6,DistancesPays!$I:$L,DistancesPays!J$3,FALSE)/1000) -> 1372.825 | H17: =IF(OR($L17=0,$F17<>"kg"),0,$L17*VLOOKUP($D17&$C$6,DistancesPays!$I:$L,DistancesPays!K$3,FALSE)/1000) -> 44.5 | I17: =IF(OR($L17=0,$F17<>"kg"),0,$L17*VLOOKUP($D17&$C$6,DistancesPays!$I:$L,DistancesPays!L$3,FALSE)/1000) -> 89 | J17: =$M$8 -> 60000 | K17: =$M$8 -> 60000 | L17: =E17*MAX(IF($M$7=$K$14,$M$9/K17,$M$8/J17),1) -> 89 | M17: =IFERROR(VLOOKUP($D17,FE_Specifiques!$D:$H,FE_Specifiques!$H$4,FALSE)/FE_Specifiques!$H$5,0) -> 25 | N17: =L17*M17 -> 2225 | O17: =IF(M17>0,N17/$N$43,0) -> 0.94399553 | Q17: =L17*M17*1000/IF($M$7=$K$14,$M$9,$M$8) -> 37.083333 | R17: =Q17/$M$10 -> 247.22222 | S17: =R17/$R$43 -> 0.94399553 | T17: Chassis, carosserie | U17: =C17 -> Aluminium
A18: 1 | B18: Chassis, carosserie | F18: kg | G18: =IF(OR($L18=0,$F18<>"kg"),0,$L18*VLOOKUP($D18&$C$6,DistancesPays!$I:$L,DistancesPays!J$3,FALSE)/1000) -> 0 | H18: =IF(OR($L18=0,$F18<>"kg"),0,$L18*VLOOKUP($D18&$C$6,DistancesPays!$I:$L,DistancesPays!K$3,FALSE)/1000) -> 0 | I18: =IF(OR($L18=0,$F18<>"kg"),0,$L18*VLOOKUP($D18&$C$6,DistancesPays!$I:$L,DistancesPays!L$3,FALSE)/1000) -> 0 | J18: =$M$8 -> 60000 | K18: =$M$8 -> 60000 | L18: =E18*MAX(IF($M$7=$K$14,$M$9/K18,$M$8/J18),1) -> 0 | M18: =IFERROR(VLOOKUP($C18,FE_Autres!$G:$O,FE_Autres!$O$1,FALSE),0) -> 0 | N18: =L18*M18 -> 0 | O18: =IF(M18>0,N18/$N$43,0) -> 0 | Q18: =L18*M18*1000/IF($M$7=$K$14,$M$9,$M$8) -> 0 | R18: =Q18/$M$10 -> 0 | S18: =R18/$R$43 -> 0 | T18: Chassis, carosserie | U18: Matériau 3
A19: 1 | B19: Chassis, carosserie | F19: kg | G19: =IF(OR($L19=0,$F19<>"kg"),0,$L19*VLOOKUP($D19&$C$6,DistancesPays!$I:$L,DistancesPays!J$3,FALSE)/1000) -> 0 | H19: =IF(OR($L19=0,$F19<>"kg"),0,$L19*VLOOKUP($D19&$C$6,DistancesPays!$I:$L,DistancesPays!K$3,FALSE)/1000) -> 0 | I19: =IF(OR($L19=0,$F19<>"kg"),0,$L19*VLOOKUP($D19&$C$6,DistancesPays!$I:$L,DistancesPays!L$3,FALSE)/1000) -> 0 | J19: =$M$8 -> 60000 | K19: =$M$8 -> 60000 | L19: =E19*MAX(IF($M$7=$K$14,$M$9/K19,$M$8/J19),1) -> 0 | M19: =IFERROR(VLOOKUP($C19,FE_Autres!$G:$O,FE_Autres!$O$1,FALSE),0) -> 0 | N19: =L19*M19 -> 0 | O19: =IF(M19>0,N19/$N$43,0) -> 0 | Q19: =L19*M19*1000/IF($M$7=$K$14,$M$9,$M$8) -> 0 | R19: =Q19/$M$10 -> 0 | S19: =R19/$R$43 -> 0 | T19: Chassis, carosserie | U19: Matériau 4
A20: 1 | B20: Chassis, carosserie | F20: kg | G20: =IF(OR($L20=0,$F20<>"kg"),0,$L20*VLOOKUP($D20&$C$6,DistancesPays!$I:$L,DistancesPays!J$3,FALSE)/1000) -> 0 | H20: =IF(OR($L20=0,$F20<>"kg"),0,$L20*VLOOKUP($D20&$C$6,DistancesPays!$I:$L,DistancesPays!K$3,FALSE)/1000) -> 0 | I20: =IF(OR($L20=0,$F20<>"kg"),0,$L20*VLOOKUP($D20&$C$6,DistancesPays!$I:$L,DistancesPays!L$3,FALSE)/1000) -> 0 | J20: =$M$8 -> 60000 | K20: =$M$8 -> 60000 | L20: =E20*MAX(IF($M$7=$K$14,$M$9/K20,$M$8/J20),1) -> 0 | M20: =IFERROR(VLOOKUP($C20,FE_Autres!$G:$O,FE_Autres!$O$1,FALSE),0) -> 0 | N20: =L20*M20 -> 0 | O20: =IF(M20>0,N20/$N$43,0) -> 0 | Q20: =L20*M20*1000/IF($M$7=$K$14,$M$9,$M$8) -> 0 | R20: =Q20/$M$10 -> 0 | S20: =R20/$R$43 -> 0 | T20: Chassis, carosserie | U20: Matériau 5
A21: 1 | B21: Chassis, carosserie | F21: kg | G21: =IF(OR($L21=0,$F21<>"kg"),0,$L21*VLOOKUP($D21&$C$6,DistancesPays!$I:$L,DistancesPays!J$3,FALSE)/1000) -> 0 | H21: =IF(OR($L21=0,$F21<>"kg"),0,$L21*VLOOKUP($D21&$C$6,DistancesPays!$I:$L,DistancesPays!K$3,FALSE)/1000) -> 0 | I21: =IF(OR($L21=0,$F21<>"kg"),0,$L21*VLOOKUP($D21&$C$6,DistancesPays!$I:$L,DistancesPays!L$3,FALSE)/1000) -> 0 | J21: =$M$8 -> 60000 | K21: =$M$8 -> 60000 | L21: =E21*MAX(IF($M$7=$K$14,$M$9/K21,$M$8/J21),1) -> 0 | M21: =IFERROR(VLOOKUP($C21,FE_Autres!$G:$O,FE_Autres!$O$1,FALSE),0) -> 0 | N21: =L21*M21 -> 0 | O21: =IF(M21>0,N21/$N$43,0) -> 0 | Q21: =L21*M21*1000/IF($M$7=$K$14,$M$9,$M$8) -> 0 | R21: =Q21/$M$10 -> 0 | S21: =R21/$R$43 -> 0 | T21: Chassis, carosserie | U21: Matériau 6
B22: Système photovoltaïque | C22: Système photovoltaïque | F22: kg | G22: =IF(OR($L22=0,$F22<>"kg"),0,$L22*VLOOKUP($D22&$C$6,DistancesPays!$I:$L,DistancesPays!J$3,FALSE)/1000) -> 0 | H22: =IF(OR($L22=0,$F22<>"kg"),0,$L22*VLOOKUP($D22&$C$6,DistancesPays!$I:$L,DistancesPays!K$3,FALSE)/1000) -> 0 | I22: =IF(OR($L22=0,$F22<>"kg"),0,$L22*VLOOKUP($D22&$C$6,DistancesPays!$I:$L,DistancesPays!L$3,FALSE)/1000) -> 0 | J22: =$M$8 -> 60000 | K22: =$M$8 -> 60000 | L22: =E22*MAX(IF($M$7=$K$14,$M$9/K22,$M$8/J22),1) -> 0 | M22: =IFERROR(VLOOKUP($C22,FE_Autres!$G:$O,FE_Autres!$O$1,FALSE),0) -> 0 | N22: =L22*M22 -> 0 | O22: =IF(M22>0,N22/$N$43,0) -> 0 | Q22: =L22*M22*1000/IF($M$7=$K$14,$M$9,$M$8) -> 0 | R22: =Q22/$M$10 -> 0 | S22: =R22/$R$43 -> 0 | T22: Chassis, carosserie | U22: Système photovoltaïque
A23: 2 | B23: Batterie | F23: kg | G23: =IF(OR($L23=0,$F23<>"kg"),0,$L23*VLOOKUP($D23&$C$6,DistancesPays!$I:$L,DistancesPays!J$3,FALSE)/1000) -> 0 | H23: =IF(OR($L23=0,$F23<>"kg"),0,$L23*VLOOKUP($D23&$C$6,DistancesPays!$I:$L,DistancesPays!K$3,FALSE)/1000) -> 0 | I23: =IF(OR($L23=0,$F23<>"kg"),0,$L23*VLOOKUP($D23&$C$6,DistancesPays!$I:$L,DistancesPays!L$3,FALSE)/1000) -> 0 | J23: =$M$8 -> 60000 | K23: =$M$8 -> 60000 | L23: =E23*MAX(IF($M$7=$K$14,$M$9/K23,$M$8/J23),1) -> 0 | M23: =IFERROR(VLOOKUP(D23,FE_Specifiques!$D$6:$M$34,HLOOKUP('Tableau de bord'!$C$23,FE_Specifiques!$I$3:$M$4,2,FALSE),FALSE),0) -> 0 | N23: =L23*M23 -> 0 | Q23: =L23*M23*1000/IF($M$7=$K$14,$M$9,$M$8) -> 0 | R23: =Q23/$M$10 -> 0 | S23: =R23/$R$43 -> 0 | T23: Batterie | U23: Batterie
A24: 3 | B24: Moyeux | D24: Belgique | E24: =4*0.14 -> 0.56 | F24: kg | G24: =IF(OR($L24=0,$F24<>"kg"),0,$L24*VLOOKUP($D24&$C$6,DistancesPays!$I:$L,DistancesPays!J$3,FALSE)/1000) -> 0 | H24: =IF(OR($L24=0,$F24<>"kg"),0,$L24*VLOOKUP($D24&$C$6,DistancesPays!$I:$L,DistancesPays!K$3,FALSE)/1000) -> 0.33633298 | I24: =IF(OR($L24=0,$F24<>"kg"),0,$L24*VLOOKUP($D24&$C$6,DistancesPays!$I:$L,DistancesPays!L$3,FALSE)/1000) -> 0 | J24: =$M$8 -> 60000 | K24: =$M$8 -> 60000 | L24: =E24*MAX(IF($M$7=$K$14,$M$9/K24,$M$8/J24),1) -> 0.56 | M24: =IFERROR(VLOOKUP($C24,FE_Autres!$G:$O,FE_Autres!$O$1,FALSE),0) -> 0 | N24: =L24*M24 -> 0 | O24: =IF(M24>0,N24/$N$43,0) -> 0 | Q24: =L24*M24*1000/IF($M$7=$K$14,$M$9,$M$8) -> 0 | R24: =Q24/$M$10 -> 0 | S24: =R24/$R$43 -> 0 | T24: Roues | U24: =B24 -> Moyeux
A25: 3 | B25: Jantes | D25: Autres pays d’Europe | E25: =4*0.6 -> 2.4 | F25: kg | G25: =IF(OR($L25=0,$F25<>"kg"),0,$L25*VLOOKUP($D25&$C$6,DistancesPays!$I:$L,DistancesPays!J$3,FALSE)/1000) -> 0 | H25: =IF(OR($L25=0,$F25<>"kg"),0,$L25*VLOOKUP($D25&$C$6,DistancesPays!$I:$L,DistancesPays!K$3,FALSE)/1000) -> 4.1908755 | I25: =IF(OR($L25=0,$F25<>"kg"),0,$L25*VLOOKUP($D25&$C$6,DistancesPays!$I:$L,DistancesPays!L$3,FALSE)/1000) -> 0 | J25: =$M$8 -> 60000 | K25: =$M$8 -> 60000 | L25: =E25*MAX(IF($M$7=$K$14,$M$9/K25,$M$8/J25),1) -> 2.4 | M25: =IFERROR(VLOOKUP($C25,FE_Autres!$G:$O,FE_Autres!$O$1,FALSE),0) -> 0 | N25: =L25*M25 -> 0 | O25: =IF(M25>0,N25/$N$43,0) -> 0 | Q25: =L25*M25*1000/IF($M$7=$K$14,$M$9,$M$8) -> 0 | R25: =Q25/$M$10 -> 0 | S25: =R25/$R$43 -> 0 | T25: Roues | U25: =B25 -> Jantes
A26: 3 | B26: Pneumatique + Chambre | C26: =FE_Autres!G8 -> Pneumatique type véhicules légers | D26: Allemagne | E26: =4*1.1 -> 4.4 | F26: kg | G26: =IF(OR($L26=0,$F26<>"kg"),0,$L26*VLOOKUP($D26&$C$6,DistancesPays!$I:$L,DistancesPays!J$3,FALSE)/1000) -> 0 | H26: =IF(OR($L26=0,$F26<>"kg"),0,$L26*VLOOKUP($D26&$C$6,DistancesPays!$I:$L,DistancesPays!K$3,FALSE)/1000) -> 4.7682422 | I26: =IF(OR($L26=0,$F26<>"kg"),0,$L26*VLOOKUP($D26&$C$6,DistancesPays!$I:$L,DistancesPays!L$3,FALSE)/1000) -> 0 | J26: =$M$8 -> 60000 | K26: =$M$9 -> 300000 | L26: =E26*MAX(IF($M$7=$K$14,$M$9/K26,$M$8/J26),1) -> 4.4 | M26: =IFERROR(VLOOKUP($C26,FE_Autres!$G:$O,FE_Autres!$O$1,FALSE),0) -> 3.15504 | N26: =L26*M26 -> 13.882176 | O26: =IF(M26>0,N26/$N$43,0) -> 0.0058897582 | Q26: =L26*M26*1000/IF($M$7=$K$14,$M$9,$M$8) -> 0.2313696 | R26: =Q26/$M$10 -> 1.542464 | S26: =R26/$R$43 -> 0.0058897582 | T26: Roues | U26: Pneus + chambres
A27: 4 | B27: Moteur (+ génératrice) | C27: =FE_Autres!G4 -> Moteur | F27: kg | G27: =IF(OR($L27=0,$F27<>"kg"),0,$L27*VLOOKUP($D27&$C$6,DistancesPays!$I:$L,DistancesPays!J$3,FALSE)/1000) -> 0 | H27: =IF(OR($L27=0,$F27<>"kg"),0,$L27*VLOOKUP($D27&$C$6,DistancesPays!$I:$L,DistancesPays!K$3,FALSE)/1000) -> 0 | I27: =IF(OR($L27=0,$F27<>"kg"),0,$L27*VLOOKUP($D27&$C$6,DistancesPays!$I:$L,DistancesPays!L$3,FALSE)/1000) -> 0 | J27: =$M$8 -> 60000 | K27: =$M$8 -> 60000 | L27: =E27*MAX(IF($M$7=$K$14,$M$9/K27,$M$8/J27),1) -> 0 | M27: =IFERROR(VLOOKUP($C27,FE_Autres!$G:$O,FE_Autres!$O$1,FALSE),0) -> 2.93 | N27: =L27*M27 -> 0 | O27: =IF(M27>0,N27/$N$43,0) -> 0 | Q27: =L27*M27*1000/IF($M$7=$K$14,$M$9,$M$8) -> 0 | R27: =Q27/$M$10 -> 0 | S27: =R27/$R$43 -> 0 | T27: Moteur | U27: Moteur
A28: 5 | B28: Assise | F28: kg | G28: =IF(OR($L28=0,$F28<>"kg"),0,$L28*VLOOKUP($D28&$C$6,DistancesPays!$I:$L,DistancesPays!J$3,FALSE)/1000) -> 0 | H28: =IF(OR($L28=0,$F28<>"kg"),0,$L28*VLOOKUP($D28&$C$6,DistancesPays!$I:$L,DistancesPays!K$3,FALSE)/1000) -> 0 | I28: =IF(OR($L28=0,$F28<>"kg"),0,$L28*VLOOKUP($D28&$C$6,DistancesPays!$I:$L,DistancesPays!L$3,FALSE)/1000) -> 0 | J28: =$M$8 -> 60000 | K28: =$M$8 -> 60000 | L28: =E28*MAX(IF($M$7=$K$14,$M$9/K28,$M$8/J28),1) -> 0 | M28: =IFERROR(VLOOKUP($C28,FE_Autres!$G:$O,FE_Autres!$O$1,FALSE),0) -> 0 | N28: =L28*M28 -> 0 | O28: =IF(M28>0,N28/$N$43,0) -> 0 | Q28: =L28*M28*1000/IF($M$7=$K$14,$M$9,$M$8) -> 0 | R28: =Q28/$M$10 -> 0 | S28: =R28/$R$43 -> 0 | T28: Autre | U28: =B28 -> Assise
A29: 5 | B29: Assise | F29: kg | G29: =IF(OR($L29=0,$F29<>"kg"),0,$L29*VLOOKUP($D29&$C$6,DistancesPays!$I:$L,DistancesPays!J$3,FALSE)/1000) -> 0 | H29: =IF(OR($L29=0,$F29<>"kg"),0,$L29*VLOOKUP($D29&$C$6,DistancesPays!$I:$L,DistancesPays!K$3,FALSE)/1000) -> 0 | I29: =IF(OR($L29=0,$F29<>"kg"),0,$L29*VLOOKUP($D29&$C$6,DistancesPays!$I:$L,DistancesPays!L$3,FALSE)/1000) -> 0 | J29: =$M$8 -> 60000 | K29: =$M$8 -> 60000 | L29: =E29*MAX(IF($M$7=$K$14,$M$9/K29,$M$8/J29),1) -> 0 | M29: =IFERROR(VLOOKUP($C29,FE_Autres!$G:$O,FE_Autres!$O$1,FALSE),0) -> 0 | N29: =L29*M29 -> 0 | O29: =IF(M29>0,N29/$N$43,0) -> 0 | Q29: =L29*M29*1000/IF($M$7=$K$14,$M$9,$M$8) -> 0 | R29: =Q29/$M$10 -> 0 | S29: =R29/$R$43 -> 0 | T29: Autre | U29: =B29 -> Assise
A30: 5 | B30: Composants non détaillés | C30: =FE_Autres!G10 -> Autres composants | D30: Autre | E30: =E3-SUM($E$16:$E$23,$E$24:$E$29) -> -1.36 | F30: kg | G30: =IF(OR($L30=0,$F30<>"kg"),0,$L30*VLOOKUP($D30&$C$6,DistancesPays!$I:$L,DistancesPays!J$3,FALSE)/1000) -> -32.64 | H30: =IF(OR($L30=0,$F30<>"kg"),0,$L30*VLOOKUP($D30&$C$6,DistancesPays!$I:$L,DistancesPays!K$3,FALSE)/1000) -> -0.68 | I30: =IF(OR($L30=0,$F30<>"kg"),0,$L30*VLOOKUP($D30&$C$6,DistancesPays!$I:$L,DistancesPays!L$3,FALSE)/1000) -> -1.36 | J30: =$M$8 -> 60000 | K30: =$M$8 -> 60000 | L30: =E30*MAX(IF($M$7=$K$14,$M$9/K30,$M$8/J30),1) -> -1.36 | M30: =IFERROR(VLOOKUP($C30,FE_Autres!$G:$O,FE_Autres!$O$1,FALSE),0) -> 10.862296 | N30: =L30*M30 -> -14.772722 | O30: =IF(M30>0,N30/$N$43,0) -> -0.0062675881 | Q30: =L30*M30*1000/IF($M$7=$K$14,$M$9,$M$8) -> -0.24621203 | R30: =Q30/$M$10 -> -1.6414136 | S30: =R30/$R$43 -> -0.0062675881 | T30: Autre | U30: Non détaillé
A31: Y | B31: Transport composants | C31: Transport maritime | E31: =SUM($G$16:$G$30) -> 1340.185 | F31: t.km | J31: =$M$8 -> 60000 | K31: =$M$8 -> 60000 | L31: =E31*MAX(IF($M$7=$K$14,$M$9/K31,$M$8/J31),1) -> 1340.185 | M31: =IFERROR(VLOOKUP($C31,FE_Autres!$G:$O,FE_Autres!$O$1,FALSE),0) -> 0.00847 | N31: =L31*M31 -> 11.351367 | O31: =IF(M31>0,N31/$N$43,0) -> 0.0048160178 | Q31: =L31*M31*1000/IF($M$7=$K$14,$M$9,$M$8) -> 0.18918945 | R31: =Q31/$M$10 -> 1.261263 | S31: =R31/$R$43 -> 0.0048160178 | T31: Transport composants | U31: Maritime
A32: Y | B32: Transport composants | C32: Transport routier Europe | E32: =SUM($I$16:$I$30) -> 87.64 | F32: t.km | J32: =$M$8 -> 60000 | K32: =$M$8 -> 60000 | L32: =E32*MAX(IF($M$7=$K$14,$M$9/K32,$M$8/J32),1) -> 87.64 | M32: =IFERROR(VLOOKUP($C32,FE_Autres!$G:$O,FE_Autres!$O$1,FALSE),0) -> 0.155 | N32: =L32*M32 -> 13.5842 | O32: =IF(M32>0,N32/$N$43,0) -> 0.0057633367 | Q32: =L32*M32*1000/IF($M$7=$K$14,$M$9,$M$8) -> 0.22640333 | R32: =Q32/$M$10 -> 1.5093556 | S32: =R32/$R$43 -> 0.0057633367 | T32: Transport composants | U32: Routier eur
A33: Y | B33: Transport composants | C33: Transport routier Monde | E33: =SUM($H$16:$H$30) -> 53.115451 | F33: t.km | J33: =$M$8 -> 60000 | K33: =$M$8 -> 60000 | L33: =E33*MAX(IF($M$7=$K$14,$M$9/K33,$M$8/J33),1) -> 53.115451 | M33: =IFERROR(VLOOKUP($C33,FE_Autres!$G:$O,FE_Autres!$O$1,FALSE),0) -> 0.203 | N33: =L33*M33 -> 10.782436 | O33: =IF(M33>0,N33/$N$43,0) -> 0.004574639 | Q33: =L33*M33*1000/IF($M$7=$K$14,$M$9,$M$8) -> 0.17970727 | R33: =Q33/$M$10 -> 1.1980485 | S33: =R33/$R$43 -> 0.004574639 | T33: Transport composants | U33: Routier monde
A34: Z | B34: Transport véhicule | C34: Transport maritime | E34: =$E$3*VLOOKUP($C$6&"France",DistancesPays!$I:$L,2,FALSE)/1000 -> 0 | F34: t.km | J34: =$M$8 -> 60000 | K34: =$M$8 -> 60000 | L34: =E34*MAX(IF($M$7=$K$14,$M$9/K34,$M$8/J34),1) -> 0 | M34: =FE_Specifiques!B6 -> 0.101 | N34: =L34*M34 -> 0 | O34: =IF(M34>0,N34/$N$43,0) -> 0 | Q34: =L34*M34*1000/IF($M$7=$K$14,$M$9,$M$8) -> 0 | R34: =Q34/$M$10 -> 0 | S34: =R34/$R$43 -> 0 | T34: Transport véhicule | U34: Maritime
A35: Z | B35: Transport véhicule | C35: Transport routier Europe | E35: =$E$3*VLOOKUP($C$6&"France",DistancesPays!$I:$L,3,FALSE)/1000 -> 0 | F35: t.km | J35: =$M$8 -> 60000 | K35: =$M$8 -> 60000 | L35: =E35*MAX(IF($M$7=$K$14,$M$9/K35,$M$8/J35),1) -> 0 | M35: =FE_Specifiques!B7 -> 0.256 | N35: =L35*M35 -> 0 | O35: =IF(M35>0,N35/$N$43,0) -> 0 | Q35: =L35*M35*1000/IF($M$7=$K$14,$M$9,$M$8) -> 0 | R35: =Q35/$M$10 -> 0 | S35: =R35/$R$43 -> 0 | T35: Transport véhicule | U35: Routier eur
A36: Z | B36: Transport véhicule | C36: Transport routier Monde | E36: =$E$3*VLOOKUP($C$6&"France",DistancesPays!$I:$L,4,FALSE)/1000 -> 0 | F36: t.km | J36: =$M$8 -> 60000 | K36: =$M$8 -> 60000 | L36: =E36*MAX(IF($M$7=$K$14,$M$9/K36,$M$8/J36),1) -> 0 | M36: =FE_Specifiques!B8 -> 0.377 | N36: =L36*M36 -> 0 | O36: =IF(M36>0,N36/$N$43,0) -> 0 | Q36: =L36*M36*1000/IF($M$7=$K$14,$M$9,$M$8) -> 0 | R36: =Q36/$M$10 -> 0 | S36: =R36/$R$43 -> 0 | T36: Transport véhicule | U36: Routier monde
B37: TOTAL Fabrication + pneus, hors durabilité | N37: =SUM(N14:N36) -> 2259.8275 | O37: =N37/$N$43 -> 0.95877169 | Q37: =SUM(Q13:Q36) -> 37.663791 | R37: =SUM(R14:R36) -> 251.09194 | S37: =R37/$R$43 -> 0.95877169
B38: TOTAL Fabrication + pneus, durabilité inclue | D38: coefficient du durabilité : | E38: 0.5 | N38: =N37/$E$38 -> 4519.6549 | O38: =N38/$N$44 -> 0.97895196 | Q38: =Q37/$E$38 -> 75.327582 | R38: =R37/$E$38 -> 502.18388 | S38: =R38/$R$44 -> 0.97895196
B39: Remplacement des pneumatiques | E39: =CaracVehicules!$C$31-1 -> 7 | F39: remplacmts | J39: =$M$8 -> 60000 | K39: =$M$9 -> 300000 | L39: =E39*L26 -> 30.8 | M39: =M26 -> 3.15504 | N39: =L39*M39 -> 97.175232 | O39: =IF(M39>0,N39/$N$43,0) -> 0.041228308 | Q39: =L39*M39*1000/IF($M$7=$K$14,$M$9,$M$8) -> 1.6195872 | R39: =Q39/$M$10 -> 10.797248
B40: Pédalage | C40: Energie musculaire | E40: =IF($C$7="Oui",VLOOKUP($C$5,CaracVehicules!$A$5:$P$29,CaracVehicules!$I$1,FALSE)*IF($M$7=$K$14,$M$9,$M$8)/1000,0) -> 0 | F40: kWh
B41: Toit solaire PV | C41: Energie solaire | E41: =MIN(IF($C$8=0,0,'Modele PV'!$C$13)*IF($M$7=$K$14,$M$9,$M$8)/1000,$E$4*$M$8/1000) -> 0 | F41: kWh
A42: Z | B42: Consommation électricité | C42: =FE_Autres!$G$11 -> Electricité | E42: =MAX(0,$E$4*$M$8/1000-E40-E41) -> 0 | F42: kWh | J42: =$M$8 -> 60000 | K42: =$M$8 -> 60000 | L42: =E42*MAX(IF($M$7=$K$14,$M$9/K42,$M$8/J42),1) -> 0 | M42: =IFERROR(VLOOKUP($C42,FE_Autres!$G:$O,9,FALSE),0) -> 0.052 | N42: =L42*M42 -> 0 | O42: =IF(M42>0,N42/$N$43,0) -> 0 | Q42: =L42*M42*1000/IF($M$7=$K$14,$M$9,$M$8) -> 0 | R42: =Q42/$M$10 -> 0 | S42: =R42/$R$43 -> 0 | T42: Electricité | U42: =B42 -> Consommation électricité
...

Sheet FE_Specifiques
A1: Transport | F1: Electricité | G1: Acier | H1: Alu | I1: Batteries, corrigé par kg | O1: Batteries, kgCO2e/kWh
A2: source ADEME | F2: source ADEME | G2: source ADEME | H2: source ADEME | I2: calculé à partir des émissions par kWh, du poids de la batterie et de sa capacité | O2: source ADEME
A3: Mode de transport véhicules | B3: FE MDT (kgCO2e/t.km) | D3: Pays / zone | E3: Europe | F3: FE Elec | G3: FE Acier (kgCO2e/kg) | H3: FE Alu (kgCO2e/kg) | I3: NMC532 | J3: NMC622 | K3: NMC811 | L3: LFP | M3: Autre chimie | O3: NMC532 | P3: NMC622 | Q3: NMC811 | R3: LFP | S3: Autre chimie
D4: 1 | E4: =D4+1 -> 2 | F4: =E4+1 -> 3 | G4: =F4+1 -> 4 | H4: =G4+1 -> 5 | I4: =H4+1 -> 6 | J4: =I4+1 -> 7 | K4: =J4+1 -> 8 | L4: =K4+1 -> 9 | M4: =L4+1 -> 10 | O4: =M4+1 -> 11 | P4: =O4+1 -> 12 | Q4: =P4+1 -> 13 | R4: =Q4+1 -> 14 | S4: =R4+1 -> 15
D5: Ratio efficacité | G5: 0.8 | H5: 0.8
A6: Maritime | B6: 0.101 | D6: Allemagne | E6: 1 | F6: 0.461 | G6: 1.4 | H6: =$H$33 -> 8.6 | I6: =O6*'Tableau de bord'!$E$7/'Tableau de bord'!$E$23 -> #DIV/0! | J6: =P6*'Tableau de bord'!$E$7/'Tableau de bord'!$E$23 -> #DIV/0! | K6: =Q6*'Tableau de bord'!$E$7/'Tableau de bord'!$E$23 -> #DIV/0! | L6: =R6*'Tableau de bord'!$E$7/'Tableau de bord'!$E$23 -> #DIV/0! | M6: =S6*'Tableau de bord'!$E$7/'Tableau de bord'!$E$23 -> #DIV/0! | O6: 53 | P6: 53 | Q6: 53 | R6: 53 | S6: =MAX(O6:R6) -> 53
A7: Routier, Europe | B7: 0.256 | D7: Autriche | E7: 1 | F7: 0.188 | G7: 1.4 | H7: =$H$33 -> 8.6 | I7: =O7*'Tableau de bord'!$E$7/'Tableau de bord'!$E$23 -> #DIV/0! | J7: =P7*'Tableau de bord'!$E$7/'Tableau de bord'!$E$23 -> #DIV/0! | K7: =Q7*'Tableau de bord'!$E$7/'Tableau de bord'!$E$23 -> #DIV/0! | L7: =R7*'Tableau de bord'!$E$7/'Tableau de bord'!$E$23 -> #DIV/0! | M7: =S7*'Tableau de bord'!$E$7/'Tableau de bord'!$E$23 -> #DIV/0! | O7: =O$33 -> 53 | P7: =P$33 -> 53 | Q7: =Q$33 -> 53 | R7: =R$33 -> 53 | S7: =S$33 -> 53
A8: Routier, Monde | B8: 0.377 | D8: Belgique | E8: 1 | F8: 0.259 | G8: 1.3 | H8: =$H$33 -> 8.6 | I8: =O8*'Tableau de bord'!$E$7/'Tableau de bord'!$E$23 -> #DIV/0! | J8: =P8*'Tableau de bord'!$E$7/'Tableau de bord'!$E$23 -> #DIV/0! | K8: =Q8*'Tableau de bord'!$E$7/'Tableau de bord'!$E$23 -> #DIV/0! | L8: =R8*'Tableau de bord'!$E$7/'Tableau de bord'!$E$23 -> #DIV/0! | M8: =S8*'Tableau de bord'!$E$7/'Tableau de bord'!$E$23 -> #DIV/0! | O8: =O$33 -> 53 | P8: =P$33 -> 53 | Q8: =Q$33 -> 53 | R8: =R$33 -> 53 | S8: =S$33 -> 53
D9: Brésil | E9: 0 | F9: 0.25 | G9: 1.7 | H9: =$H$35 -> 13.9 | I9: =O9*'Tableau de bord'!$E$7/'Tableau de bord'!$E$23 -> #DIV/0! | J9: =P9*'Tableau de bord'!$E$7/'Tableau de bord'!$E$23 -> #DIV/0! | K9: =Q9*'Tableau de bord'!$E$7/'Tableau de bord'!$E$23 -> #DIV/0! | L9: =R9*'Tableau de bord'!$E$7/'Tableau de bord'!$E$23 -> #DIV/0! | M9: =S9*'Tableau de bord'!$E$7/'Tableau de bord'!$E$23 -> #DIV/0! | O9: =O$33 -> 53 | P9: =P$33 -> 53 | Q9: =Q$33 -> 53 | R9: =R$33 -> 53 | S9: =S$33 -> 53
A10: Ferré, Afrique | B10: 0.045 | D10: Chine | E10: 0 | F10: 1.024 | G10: 2 | H10: 20 | I10: =O10*'Tableau de bord'!$E$7/'Tableau de bord'!$E$23 -> #DIV/0! | J10: =P10*'Tableau de bord'!$E$7/'Tableau de bord'!$E$23 -> #DIV/0! | K10: =Q10*'Tableau de bord'!$E$7/'Tableau de bord'!$E$23 -> #DIV/0! | L10: =R10*'Tableau de bord'!$E$7/'Tableau de bord'!$E$23 -> #DIV/0! | M10: =S10*'Tableau de bord'!$E$7/'Tableau de bord'!$E$23 -> #DIV/0! | O10: 68 | P10: 68 | Q10: 68 | R10: 68 | S10: =MAX(O10:R10) -> 68
A11: Ferré, Asie | B11: 0.041 | D11: Corée du Sud | E11: 0 | F11: 0.636 | G11: 1.7 | H11: =$H$34 -> 18.5 | I11: =O11*'Tableau de bord'!$E$7/'Tableau de bord'!$E$23 -> #DIV/0! | J11: =P11*'Tableau de bord'!$E$7/'Tableau de bord'!$E$23 -> #DIV/0! | K11: =Q11*'Tableau de bord'!$E$7/'Tableau de bord'!$E$23 -> #DIV/0! | L11: =R11*'Tableau de bord'!$E$7/'Tableau de bord'!$E$23 -> #DIV/0! | M11: =S11*'Tableau de bord'!$E$7/'Tableau de bord'!$E$23 -> #DIV/0! | O11: 63 | P11: 63 | Q11: 63 | R11: 63 | S11: =MAX(O11:R11) -> 63
A12: Ferré, Europe hors Fr | B12: 0.023 | D12: Espagne | E12: 1 | F12: 0.337 | G12: 1.4 | H12: =$H$33 -> 8.6 | I12: =O12*'Tableau de bord'!$E$7/'Tableau de bord'!$E$23 -> #DIV/0! | J12: =P12*'Tableau de bord'!$E$7/'Tableau de bord'!$E$23 -> #DIV/0! | K12: =Q12*'Tableau de bord'!$E$7/'Tableau de bord'!$E$23 -> #DIV/0! | L12: =R12*'Tableau de bord'!$E$7/'Tableau de bord'!$E$23 -> #DIV/0! | M12: =S12*'Tableau de bord'!$E$7/'Tableau de bord'!$E$23 -> #DIV/0! | O12: 53 | P12: 53 | Q12: 53 | R12: 53 | S12: =MAX(O12:R12) -> 53
A13: Ferré, France | B13: 0.01 | D13: États-Unis | E13: 0 | F13: 0.669 | G13: 1.1 | H13: =$H$35 -> 13.9 | I13: =O13*'Tableau de bord'!$E$7/'Tableau de bord'!$E$23 -> #DIV/0! | J13: =P13*'Tableau de bord'!$E$7/'Tableau de bord'!$E$23 -> #DIV/0! | K13: =Q13*'Tableau de bord'!$E$7/'Tableau de bord'!$E$23 -> #DIV/0! | L13: =R13*'Tableau de bord'!$E$7/'Tableau de bord'!$E$23 -> #DIV/0! | M13: =S13*'Tableau de bord'!$E$7/'Tableau de bord'!$E$23 -> #DIV/0! | O13: 55 | P13: 55 | Q13: 55 | R13: 55 | S13: =MAX(O13:R13) -> 55
A14: Ferré, Autre | B14: 0.038 | D14: Finlande | E14: 1 | F14: 0.238 | G14: 1.4 | H14: =$H$33 -> 8.6 | I14: =O14*'Tableau de bord'!$E$7/'Tableau de bord'!$E$23 -> #DIV/0! | J14: =P14*'Tableau de bord'!$E$7/'Tableau de bord'!$E$23 -> #DIV/0! | K14: =Q14*'Tableau de bord'!$E$7/'Tableau de bord'!$E$23 -> #DIV/0! | L14: =R14*'Tableau de bord'!$E$7/'Tableau de bord'!$E$23 -> #DIV/0! | M14: =S14*'Tableau de bord'!$E$7/'Tableau de bord'!$E$23 -> #DIV/0! | O14: =O$33 -> 53 | P14: =P$33 -> 53 | Q14: =Q$33 -> 53 | R14: =R$33 -> 53 | S14: =S$33 -> 53
A15: Fluvial | B15: 0.066 | D15: France | E15: 1 | F15: 0.052 | G15: 1.4 | H15: =$H$33 -> 8.6 | I15: =O15*'Tableau de bord'!$E$7/'Tableau de bord'!$E$23 -> #DIV/0! | J15: =P15*'Tableau de bord'!$E$7/'Tableau de bord'!$E$23 -> #DIV/0! | K15: =Q15*'Tableau de bord'!$E$7/'Tableau de bord'!$E$23 -> #DIV/0! | L15: =R15*'Tableau de bord'!$E$7/'Tableau de bord'!$E$23 -> #DIV/0! | M15: =S15*'Tableau de bord'!$E$7/'Tableau de bord'!$E$23 -> #DIV/0! | O15: 53 | P15: 53 | Q15: 53 | R15: 53 | S15: =MAX(O15:R15) -> 53
A16: Aérien | B16: 1.21 | D16: Hongrie | E16: 1 | F16: 0.464 | G16: 1.4 | H16: =$H$33 -> 8.6 | I16: =O16*'Tableau de bord'!$E$7/'Tableau de bord'!$E$23 -> #DIV/0! | J16: =P16*'Tableau de bord'!$E$7/'Tableau de bord'!$E$23 -> #DIV/0! | K16: =Q16*'Tableau de bord'!$E$7/'Tableau de bord'!$E$23 -> #DIV/0! | L16: =R16*'Tableau de bord'!$E$7/'Tableau de bord'!$E$23 -> #DIV/0! | M16: =S16*'Tableau de bord'!$E$7/'Tableau de bord'!$E$23 -> #DIV/0! | O16: 53 | P16: 53 | Q16: 53 | R16: 53 | S16: =MAX(O16:R16) -> 53
A17: Routier, Afrique | B17: 0.414 | D17: Inde | E17: 0 | F17: 1.39 | G17: 2.1 | H17: =$H$34 -> 18.5 | I17: =O17*'Tableau de bord'!$E$7/'Tableau de bord'!$E$23 -> #DIV/0! | J17: =P17*'Tableau de bord'!$E$7/'Tableau de bord'!$E$23 -> #DIV/0! | K17: =Q17*'Tableau de bord'!$E$7/'Tableau de bord'!$E$23 -> #DIV/0! | L17: =R17*'Tableau de bord'!$E$7/'Tableau de bord'!$E$23 -> #DIV/0! | M17: =S17*'Tableau de bord'!$E$7/'Tableau de bord'!$E$23 -> #DIV/0! | O17: =O$34 -> 68 | P17: =P$34 -> 68 | Q17: =Q$34 -> 68 | R17: =R$34 -> 68 | S17: =S$34 -> 68
A18: Routier, Amérique | B18: 0.318 | D18: Indonésie | E18: 0 | F18: 0.735 | G18: 2.2 | H18: =$H$34 -> 18.5 | I18: =O18*'Tableau de bord'!$E$7/'Tableau de bord'!$E$23 -> #DIV/0! | J18: =P18*'Tableau de bord'!$E$7/'Tableau de bord'!$E$23 -> #DIV/0! | K18: =Q18*'Tableau de bord'!$E$7/'Tableau de bord'!$E$23 -> #DIV/0! | L18: =R18*'Tableau de bord'!$E$7/'Tableau de bord'!$E$23 -> #DIV/0! | M18: =S18*'Tableau de bord'!$E$7/'Tableau de bord'!$E$23 -> #DIV/0! | O18: =O$34 -> 68 | P18: =P$34 -> 68 | Q18: =Q$34 -> 68 | R18: =R$34 -> 68 | S18: =S$34 -> 68
A19: Routier, Asie | B19: 0.377 | D19: Italie | E19: 1 | F19: 0.426 | G19: 1.2 | H19: =$H$33 -> 8.6 | I19: =O19*'Tableau de bord'!$E$7/'Tableau de bord'!$E$23 -> #DIV/0! | J19: =P19*'Tableau de bord'!$E$7/'Tableau de bord'!$E$23 -> #DIV/0! | K19: =Q19*'Tableau de bord'!$E$7/'Tableau de bord'!$E$23 -> #DIV/0! | L19: =R19*'Tableau de bord'!$E$7/'Tableau de bord'!$E$23 -> #DIV/0! | M19: =S19*'Tableau de bord'!$E$7/'Tableau de bord'!$E$23 -> #DIV/0! | O19: 53 | P19: 53 | Q19: 53 | R19: 53 | S19: =MAX(O19:R19) -> 53
A20: Routier, Europe hors Fr | B20: 0.256 | D20: Japon | E20: 0 | F20: 0.743 | G20: 1.9 | H20: 12.6 | I20: =O20*'Tableau de bord'!$E$7/'Tableau de bord'!$E$23 -> #DIV/0! | J20: =P20*'Tableau de bord'!$E$7/'Tableau de bord'!$E$23 -> #DIV/0! | K20: =Q20*'Tableau de bord'!$E$7/'Tableau de bord'!$E$23 -> #DIV/0! | L20: =R20*'Tableau de bord'!$E$7/'Tableau de bord'!$E$23 -> #DIV/0! | M20: =S20*'Tableau de bord'!$E$7/'Tableau de bord'!$E$23 -> #DIV/0! | O20: 67 | P20: 67 | Q20: 67 | R20: 67 | S20: =MAX(O20:R20) -> 67
A21: Routier, France | B21: 0.208 | D21: Maroc | E21: 0 | F21: 0.808 | G21: 1.9 | H21: =$H$34 -> 18.5 | I21: =O21*'Tableau de bord'!$E$7/'Tableau de bord'!$E$23 -> #DIV/0! | J21: =P21*'Tableau de bord'!$E$7/'Tableau de bord'!$E$23 -> #DIV/0! | K21: =Q21*'Tableau de bord'!$E$7/'Tableau de bord'!$E$23 -> #DIV/0! | L21: =R21*'Tableau de bord'!$E$7/'Tableau de bord'!$E$23 -> #DIV/0! | M21: =S21*'Tableau de bord'!$E$7/'Tableau de bord'!$E$23 -> #DIV/0! | O21: =O$34 -> 68 | P21: =P$34 -> 68 | Q21: =Q$34 -> 68 | R21: =R$34 -> 68 | S21: =S$34 -> 68
A22: Routier, Océanie | B22: 0.386 | D22: Mexique | E22: 0 | F22: 0.578 | G22: 1.3 | H22: =$H$35 -> 13.9 | I22: =O22*'Tableau de bord'!$E$7/'Tableau de bord'!$E$23 -> #DIV/0! | J22: =P22*'Tableau de bord'!$E$7/'Tableau de bord'!$E$23 -> #DIV/0! | K22: =Q22*'Tableau de bord'!$E$7/'Tableau de bord'!$E$23 -> #DIV/0! | L22: =R22*'Tableau de bord'!$E$7/'Tableau de bord'!$E$23 -> #DIV/0! | M22: =S22*'Tableau de bord'!$E$7/'Tableau de bord'!$E$23 -> #DIV/0! | O22: =O$34 -> 68 | P22: =P$34 -> 68 | Q22: =Q$34 -> 68 | R22: =R$34 -> 68 | S22: =S$34 -> 68
A23: Maritime, v. carrier, high cap. (2.1) | B23: 0.025 | D23: Pologne | E23: 1 | F23: 1.008 | G23: 1.4 | H23: =$H$33 -> 8.6 | I23: =O23*'Tableau de bord'!$E$7/'Tableau de bord'!$E$23 -> #DIV/0! | J23: =P23*'Tableau de bord'!$E$7/'Tableau de bord'!$E$23 -> #DIV/0! | K23: =Q23*'Tableau de bord'!$E$7/'Tableau de bord'!$E$23 -> #DIV/0! | L23: =R23*'Tableau de bord'!$E$7/'Tableau de bord'!$E$23 -> #DIV/0! | M23: =S23*'Tableau de bord'!$E$7/'Tableau de bord'!$E$23 -> #DIV/0! | O23: 53 | P23: 53 | Q23: 53 | R23: 53 | S23: =MAX(O23:R23) -> 53
A24: Maritime, v. carrier, med cap. (2.2) | B24: 0.05 | D24: Portugal | E24: 1 | F24: 0.365 | G24: 1.4 | H24: =$H$33 -> 8.6 | I24: =O24*'Tableau de bord'!$E$7/'Tableau de bord'!$E$23 -> #DIV/0! | J24: =P24*'Tableau de bord'!$E$7/'Tableau de bord'!$E$23 -> #DIV/0! | K24: =Q24*'Tableau de bord'!$E$7/'Tableau de bord'!$E$23 -> #DIV/0! | L24: =R24*'Tableau de bord'!$E$7/'Tableau de bord'!$E$23 -> #DIV/0! | M24: =S24*'Tableau de bord'!$E$7/'Tableau de bord'!$E$23 -> #DIV/0! | O24: =O$33 -> 53 | P24: =P$33 -> 53 | Q24: =Q$33 -> 53 | R24: =R$33 -> 53 | S24: =S$33 -> 53
D25: République tchèque | E25: 1 | F25: 0.767 | G25: 1.4 | H25: =$H$33 -> 8.6 | I25: =O25*'Tableau de bord'!$E$7/'Tableau de bord'!$E$23 -> #DIV/0! | J25: =P25*'Tableau de bord'!$E$7/'Tableau de bord'!$E$23 -> #DIV/0! | K25: =Q25*'Tableau de bord'!$E$7/'Tableau de bord'!$E$23 -> #DIV/0! | L25: =R25*'Tableau de bord'!$E$7/'Tableau de bord'!$E$23 -> #DIV/0! | M25: =S25*'Tableau de bord'!$E$7/'Tableau de bord'!$E$23 -> #DIV/0! | O25: =O$33 -> 53 | P25: =P$33 -> 53 | Q25: =Q$33 -> 53 | R25: =R$33 -> 53 | S25: =S$33 -> 53
D26: Royaume-Uni | E26: 1 | F26: 0.531 | G26: 1.5 | H26: =$H$33 -> 8.6 | I26: =O26*'Tableau de bord'!$E$7/'Tableau de bord'!$E$23 -> #DIV/0! | J26: =P26*'Tableau de bord'!$E$7/'Tableau de bord'!$E$23 -> #DIV/0! | K26: =Q26*'Tableau de bord'!$E$7/'Tableau de bord'!$E$23 -> #DIV/0! | L26: =R26*'Tableau de bord'!$E$7/'Tableau de bord'!$E$23 -> #DIV/0! | M26: =S26*'Tableau de bord'!$E$7/'Tableau de bord'!$E$23 -> #DIV/0! | O26: 53 | P26: 53 | Q26: 53 | R26: 53 | S26: =MAX(O26:R26) -> 53
D27: Slovaquie | E27: 1 | F27: 0.446 | G27: 1.4 | H27: =$H$33 -> 8.6 | I27: =O27*'Tableau de bord'!$E$7/'Tableau de bord'!$E$23 -> #DIV/0! | J27: =P27*'Tableau de bord'!$E$7/'Tableau de bord'!$E$23 -> #DIV/0! | K27: =Q27*'Tableau de bord'!$E$7/'Tableau de bord'!$E$23 -> #DIV/0! | L27: =R27*'Tableau de bord'!$E$7/'Tableau de bord'!$E$23 -> #DIV/0! | M27: =S27*'Tableau de bord'!$E$7/'Tableau de bord'!$E$23 -> #DIV/0! | O27: 53 | P27: 53 | Q27: 53 | R27: 53 | S27: =MAX(O27:R27) -> 53
D28: Slovénie | E28: 1 | F28: 0.319 | G28: 1.4 | H28: =$H$33 -> 8.6 | I28: =O28*'Tableau de bord'!$E$7/'Tableau de bord'!$E$23 -> #DIV/0! | J28: =P28*'Tableau de bord'!$E$7/'Tableau de bord'!$E$23 -> #DIV/0! | K28: =Q28*'Tableau de bord'!$E$7/'Tableau de bord'!$E$23 -> #DIV/0! | L28: =R28*'Tableau de bord'!$E$7/'Tableau de bord'!$E$23 -> #DIV/0! | M28: =S28*'Tableau de bord'!$E$7/'Tableau de bord'!$E$23 -> #DIV/0! | O28: =O$33 -> 53 | P28: =P$33 -> 53 | Q28: =Q$33 -> 53 | R28: =R$33 -> 53 | S28: =S$33 -> 53
D29: Suède | E29: 1 | F29: 0.049 | G29: =G$33 -> 1.4 | H29: =H$33 -> 8.6 | I29: =O29*'Tableau de bord'!$E$7/'Tableau de bord'!$E$23 -> #DIV/0! | J29: =P29*'Tableau de bord'!$E$7/'Tableau de bord'!$E$23 -> #DIV/0! | K29: =Q29*'Tableau de bord'!$E$7/'Tableau de bord'!$E$23 -> #DIV/0! | L29: =R29*'Tableau de bord'!$E$7/'Tableau de bord'!$E$23 -> #DIV/0! | M29: =S29*'Tableau de bord'!$E$7/'Tableau de bord'!$E$23 -> #DIV/0! | O29: =O$33 -> 53 | P29: =P$33 -> 53 | Q29: =Q$33 -> 53 | R29: =R$33 -> 53
D30: Turquie | E30: 0 | F30: 0.645 | G30: 1.4 | H30: =$H$34 -> 18.5 | I30: =O30*'Tableau de bord'!$E$7/'Tableau de bord'!$E$23 -> #DIV/0! | J30: =P30*'Tableau de bord'!$E$7/'Tableau de bord'!$E$23 -> #DIV/0! | K30: =Q30*'Tableau de bord'!$E$7/'Tableau de bord'!$E$23 -> #DIV/0! | L30: =R30*'Tableau de bord'!$E$7/'Tableau de bord'!$E$23 -> #DIV/0! | M30: =S30*'Tableau de bord'!$E$7/'Tableau de bord'!$E$23 -> #DIV/0! | O30: =O$34 -> 68 | P30: =P$34 -> 68 | Q30: =Q$34 -> 68 | R30: =R$34 -> 68 | S30: =S$34 -> 68
D31: Vietnam | E31: 0 | F31: 0.421 | G31: 1.9 | H31: =$H$34 -> 18.5 | I31: =O31*'Tableau de bord'!$E$7/'Tableau de bord'!$E$23 -> #DIV/0! | J31: =P31*'Tableau de bord'!$E$7/'Tableau de bord'!$E$23 -> #DIV/0! | K31: =Q31*'Tableau de bord'!$E$7/'Tableau de bord'!$E$23 -> #DIV/0! | L31: =R31*'Tableau de bord'!$E$7/'Tableau de bord'!$E$23 -> #DIV/0! | M31: =S31*'Tableau de bord'!$E$7/'Tableau de bord'!$E$23 -> #DIV/0! | O31: =O$34 -> 68 | P31: =P$34 -> 68 | Q31: =Q$34 -> 68 | R31: =R$34 -> 68 | S31: =S$34 -> 68
D32: Norvège | E32: 1 | F32: 0.029 | G32: =G$33 -> 1.4 | H32: =H$33 -> 8.6 | I32: =O32*'Tableau de bord'!$E$7/'Tableau de bord'!$E$23 -> #DIV/0! | J32: =P32*'Tableau de bord'!$E$7/'Tableau de bord'!$E$23 -> #DIV/0! | K32: =Q32*'Tableau de bord'!$E$7/'Tableau de bord'!$E$23 -> #DIV/0! | L32: =R32*'Tableau de bord'!$E$7/'Tableau de bord'!$E$23 -> #DIV/0! | M32: =S32*'Tableau de bord'!$E$7/'Tableau de bord'!$E$23 -> #DIV/0! | O32: =O$33 -> 53 | P32: =P$33 -> 53 | Q32: =Q$33 -> 53 | R32: =R$33 -> 53
D33: Autres pays d’Europe | E33: 1 | F33: 0.447 | G33: 1.4 | H33: 8.6 | I33: =O33*'Tableau de bord'!$E$7/'Tableau de bord'!$E$23 -> #DIV/0! | J33: =P33*'Tableau de bord'!$E$7/'Tableau de bord'!$E$23 -> #DIV/0! | K33: =Q33*'Tableau de bord'!$E$7/'Tableau de bord'!$E$23 -> #DIV/0! | L33: =R33*'Tableau de bord'!$E$7/'Tableau de bord'!$E$23 -> #DIV/0! | M33: =S33*'Tableau de bord'!$E$7/'Tableau de bord'!$E$23 -> #DIV/0! | O33: 53 | P33: 53 | Q33: 53 | R33: 53 | S33: =MAX(O33:R33) -> 53
D34: Autres | E34: 0 | F34: 0.735 | G34: 2 | H34: 18.5 | I34: =O34*'Tableau de bord'!$E$7/'Tableau de bord'!$E$23 -> #DIV/0! | J34: =P34*'Tableau de bord'!$E$7/'Tableau de bord'!$E$23 -> #DIV/0! | K34: =Q34*'Tableau de bord'!$E$7/'Tableau de bord'!$E$23 -> #DIV/0! | L34: =R34*'Tableau de bord'!$E$7/'Tableau de bord'!$E$23 -> #DIV/0! | M34: =S34*'Tableau de bord'!$E$7/'Tableau de bord'!$E$23 -> #DIV/0! | O34: 68 | P34: 68 | Q34: 68 | R34: 68 | S34: =MAX(O34:R34) -> 68
D35: Autres pays d’Amérique | E35: 0 | F35: 0.735 | G35: 1.3 | H35: 13.9 | I35: =O35*'Tableau de bord'!$E$7/'Tableau de bord'!$E$23 -> #DIV/0! | J35: =P35*'Tableau de bord'!$E$7/'Tableau de bord'!$E$23 -> #DIV/0! | K35: =Q35*'Tableau de bord'!$E$7/'Tableau de bord'!$E$23 -> #DIV/0! | L35: =R35*'Tableau de bord'!$E$7/'Tableau de bord'!$E$23 -> #DIV/0! | M35: =S35*'Tableau de bord'!$E$7/'Tableau de bord'!$E$23 -> #DIV/0! | O35: =O$34 -> 68 | P35: =P$34 -> 68 | Q35: =Q$34 -> 68 | R35: =R$34 -> 68 | S35: =S$34 -> 68

Sheet FE_Autres
G1: 1 | H1: 2 | I1: 3 | J1: 4 | K1: 5 | L1: 6 | M1: 7 | N1: 8 | O1: 9 | P1: 10 | Q1: 11 | R1: 12 | S1: 13 | T1: 14 | U1: 15
J2: Procédé UUID | L2: Conversion des unités | N2: Facteur d'émission GES | P2: Cout environnemental | U2: Informations complémentaires
G3: Libellé | H3: Unité | I3: Source | J3: Procédé UUID | K3: Unités UUID | L3: conversion kg/unité UUID | M3: Perte procédé | N3: UUID | O3: Par unité calculette | P3: UUID | Q3: Par kg | U3: Nom du procédé dans la Base
G4: Moteur | H4: kg | I4: BaseEmpreinte | K4: kg | L4: 1 | M4: 0 | N4: 2.93 | O4: =N4*(1+M4)/L4 -> 2.93 | R4: Spécifique | U4: Moteur
G5: Electronique | H5: kg | I5: BaseEmpreinte | J5: 6a198645-82bb-4fc4-aa4f-70b227fe1681 | K5: u | L5: 0.08 | M5: 0 | N5: 2.8 | O5: =N5*(1+M5)/L5 -> 35 | R5: Spécifique | U5: Télécommande
G6: Système photovoltaïque | H6: Wc | I6: Référence AO CRE France (méthodologie ADEME) | K6: kg | L6: ='Tableau de bord'!$E$22/'Tableau de bord'!$C$8 -> #DIV/0! | M6: 0 | N6: 0.55 | O6: =N6*(1+M6)/L6 -> #DIV/0!
G7: Pneumatique type vélo | H7: kg | I7: BaseEmpreinte | J7: c4b3fe68-9682-4caa-843e-9199cf23be0f | K7: kg | L7: 1 | M7: 0 | N7: 3.15504 | O7: 3.15504 | P7: 0.6972951 | Q7: 0.6972951 | R7: Spécifique | U7: Caoutchouc butyle - caoutchouc isobutylène-isoprène (IIR) par polymérisation en émulsion, RER
G8: Pneumatique type véhicules légers | H8: kg | I8: BaseEmpreinte | J8: c4b3fe68-9682-4caa-843e-9199cf23be0f | K8: kg | L8: 1 | M8: 0 | N8: 3.15504 | O8: 3.15504 | P8: 0.6972951 | Q8: 0.6972951 | R8: Spécifique | U8: Caoutchouc butyle - caoutchouc isobutylène-isoprène (IIR) par polymérisation en émulsion, RER
G9: Pneumatique type véhicules lourds | H9: kg | I9: BaseEmpreinte | J9: c4b3fe68-9682-4caa-843e-9199cf23be0f | K9: kg | L9: 1 | M9: 0 | N9: 3.15504 | O9: 3.15504 | P9: 0.6972951 | Q9: 0.6972951 | R9: Spécifique | U9: Caoutchouc butyle - caoutchouc isobutylène-isoprène (IIR) par polymérisation en émulsion, RER
G10: Autres composants | H10: kg | I10: 40% inox, 30% plastique, 30% composants électronique | K10: kg | O10: =40%*O22+40%*O43+20%*O5 -> 10.862296 | R10: Spécifique
G11: Electricité | H11: kWh | I11: ADEME / Ecoinvent | K11: kWh | L11: 1 | M11: 0 | N11: =FE_Specifiques!$F$15 -> 0.052 | O11: =N11*(1+M11)/L11 -> 0.052 | R11: Spécifique | U11: Electricité/2022 - mix moyen/consommation
G12: Transport maritime | H12: t.km | I12: BaseEmpreinte | K12: t.km | L12: 1 | M12: 0 | N12: 0.00847 | O12: =N12*(1+M12)/L12 -> 0.00847 | R12: Spécifique | U12: Porte-conteneur/Dry/Valeur moyenne
G13: Transport routier Europe | H13: t.km | I13: BaseEmpreinte | J13: c0397088-6a57-eea7-8950-1d6db2e6bfdb | K13: t.km | L13: 1 | M13: 0 | N13: 0.155 | O13: =N13*(1+M13)/L13 -> 0.155 | R13: Spécifique | U13: Transport en camion (dont parc, utilisation et infrastructure) (50%) [tkm], RER
G14: Transport routier Monde | H14: t.km | I14: BaseEmpreinte | J14: cf6e9d81-358c-4f44-5ab7-0e7a89440576 | K14: t.km | L14: 1 | M14: 0 | N14: 0.203 | O14: =N14*(1+M14)/L14 -> 0.203 | R14: Spécifique | U14: Transport en camion (dont parc, utilisation et infrastructure) (50%) [tkm], GLO
A16: Chassis Carosserie | C16: Moyeu Jante | E16: Assise | J16: Procédé UUID | L16: Conversion des unités | N16: Facteur d'émission GES | P16: Cout environnemental | U16: Informations complémentaires
A17: Intérêt | B17: n° liste | C17: Intérêt | D17: n° liste | E17: Intérêt | F17: n° liste | G17: Libellé | H17: Unité | I17: Source | J17: Procédé UUID | K17: Unités UUID | L17: conversion kg/unité UUID | M17: Perte procédé | N17: UUID | O17: Par kg | P17: UUID | Q17: Par kg | U17: Nom du procédé dans la Base
A18: 1 | B18: =IF(A18=1,1,0) -> 1 | C18: 1 | D18: =IF(C18=1,1,0) -> 1 | E18: 1 | F18: =IF(E18=1,1,0) -> 1 | G18: Métaux: Acier galvanisé, 100% recyclage | H18: kg | I18: BaseEmpreinte | J18: 385fe6c8-179a-e8eb-ccb7-d12ae2e3e447 | K18: kg | L18: 1 | M18: 0 | N18: 1.22143 | O18: =N18*(1+M18)/L18 -> 1.22143 | P18: 0.12200784 | Q18: =P18*(1+$M18) -> 0.12200784 | R18: Metal | S18: Acier | T18: produit intermédiaire | U18: Acier, rouleaux, galvanisé à chaud pour meuble (100% de recyclage)
A19: 1 | B19: =IF(A19=1,MAX(B$18:B18)+1,"") -> 2 | C19: 1 | D19: =IF(C19=1,MAX(D$18:D18)+1,"") -> 2 | E19: 1 | F19: =IF(E19=1,MAX(F$18:F18)+1,"") -> 2 | G19: Métaux: Acier galvanisé, 0% recyclage | H19: kg | I19: BaseEmpreinte | J19: 1e92b419-a02a-5721-85af-2354d2b3c791 | K19: kg | L19: 1 | M19: 0 | N19: 2.79309 | O19: =N19*(1+M19)/L19 -> 2.79309 | P19: 0.19657999 | Q19: =P19*(1+$M19) -> 0.19657999 | R19: Metal | S19: Acier | T19: produit intermédiaire | U19: Acier, rouleaux, galvanisé à chaud pour habillement (0% de recyclage)
A20: 1 | B20: =IF(A20=1,MAX(B$18:B19)+1,"") -> 3 | C20: 1 | D20: =IF(C20=1,MAX(D$18:D19)+1,"") -> 3 | E20: 1 | F20: =IF(E20=1,MAX(F$18:F19)+1,"") -> 3 | G20: Métaux: Acier galvanisé, 50% recyclage | H20: kg | I20: BaseEmpreinte | J20: a2594c17-7fcc-7737-bf3d-6666723d96ec | K20: kg | L20: 1 | M20: 0 | N20: 2.00726 | O20: =N20*(1+M20)/L20 -> 2.00726 | P20: 0.15929397 | Q20: =P20*(1+$M20) -> 0.15929397 | R20: Metal | S20: Acier | T20: produit intermédiaire | U20: Acier, rouleaux, galvanisé à chaud pour EEE (50% de recyclage)
A21: 1 | B21: =IF(A21=1,MAX(B$18:B20)+1,"") -> 4 | C21: 1 | D21: =IF(C21=1,MAX(D$18:D20)+1,"") -> 4 | E21: 1 | F21: =IF(E21=1,MAX(F$18:F20)+1,"") -> 4 | G21: Métaux: Acier inoxydable, 100% recyclage | H21: kg | I21: BaseEmpreinte | J21: 7fbb6cb7-8256-73e0-0fc6-636f6c37bfd5 | K21: kg | L21: 1 | M21: 0 | N21: 3.67555 | O21: =N21*(1+M21)/L21 -> 3.67555 | P21: 0.3575918 | Q21: =P21*(1+$M21) -> 0.3575918 | R21: Metal | S21: Acier | T21: produit intermédiaire | U21: Acier inoxydable, rouleaux, laminés à froid (304) pour meuble (100% de recyclage)
A22: 1 | B22: =IF(A22=1,MAX(B$18:B21)+1,"") -> 5 | C22: 1 | D22: =IF(C22=1,MAX(D$18:D21)+1,"") -> 5 | E22: 1 | F22: =IF(E22=1,MAX(F$18:F21)+1,"") -> 5 | G22: Métaux: Acier inoxydable, 0% recyclage | H22: kg | I22: BaseEmpreinte | J22: 54225d7b-e9f0-e4cd-d896-157b52559fd9 | K22: kg | L22: 1 | M22: 0 | N22: 7.58213 | O22: =N22*(1+M22)/L22 -> 7.58213 | P22: 0.72344193 | Q22: =P22*(1+$M22) -> 0.72344193 | R22: Metal | S22: Acier | T22: produit intermédiaire | U22: Acier inoxydable, rouleaux, laminés à froid (304) pour habillement (0% de recyclage)
A23: 1 | B23: =IF(A23=1,MAX(B$18:B22)+1,"") -> 6 | C23: 1 | D23: =IF(C23=1,MAX(D$18:D22)+1,"") -> 6 | E23: 1 | F23: =IF(E23=1,MAX(F$18:F22)+1,"") -> 6 | G23: Métaux: Acier inoxydable, 50% recyclage | H23: kg | I23: BaseEmpreinte | J23: 7eda3271-2647-2a61-f9ab-99c92ff95381 | K23: kg | L23: 1 | M23: 0 | N23: 4.6552 | O23: =N23*(1+M23)/L23 -> 4.6552 | P23: 0.44141397 | Q23: =P23*(1+$M23) -> 0.44141397 | R23: Metal | S23: Acier | T23: produit intermédiaire | U23: Acier inoxydable, rouleaux, laminés à froid (304) pour EEE (50% de recyclage)
A24: 1 | B24: =IF(A24=1,MAX(B$18:B23)+1,"") -> 7 | C24: 1 | D24: =IF(C24=1,MAX(D$18:D23)+1,"") -> 7 | E24: 1 | F24: =IF(E24=1,MAX(F$18:F23)+1,"") -> 7 | G24: Métaux: Aluminium tôle, 78% recyclé (UE) | H24: kg | I24: BaseEmpreinte | J24: 09215eb1-5fc9-11dd-ad8b-0800200c9a66 | K24: kg | L24: 1 | M24: 0.1 | N24: 3.22326 | O24: =N24*(1+M24)/L24 -> 3.545586 | P24: 0.18694733 | Q24: =P24*(1+$M24) -> 0.20564206 | R24: Metal | S24: Aluminium | T24: produit intermédiaire | U24: Aluminium, tôle
A25: 1 | B25: =IF(A25=1,MAX(B$18:B24)+1,"") -> 8 | C25: 1 | D25: =IF(C25=1,MAX(D$18:D24)+1,"") -> 8 | E25: 1 | F25: =IF(E25=1,MAX(F$18:F24)+1,"") -> 8 | G25: Métaux: Aluminium profil extrudé, 78% recyclé (UE) | H25: kg | I25: BaseEmpreinte | J25: 09215eb0-5fc9-11dd-ad8b-0800200c9a66 | K25: kg | L25: 1 | M25: 0.1 | N25: 2.45632 | O25: =N25*(1+M25)/L25 -> 2.701952 | P25: 0.14354385 | Q25: =P25*(1+$M25) -> 0.15789824 | R25: Metal | S25: Aluminium | T25: produit intermédiaire | U25: Aluminium, profilé extrudé
A26: 1 | B26: =IF(A26=1,MAX(B$18:B25)+1,"") -> 9 | C26: 1 | D26: =IF(C26=1,MAX(D$18:D25)+1,"") -> 9 | E26: 1 | F26: =IF(E26=1,MAX(F$18:F25)+1,"") -> 9 | G26: Métaux: Zamak - alliage de zinc (ZnAlMgCu) | H26: kg | I26: BaseEmpreinte | J26: 91efc8a2-ee30-4304-a76b-dc3f97578b98 | K26: kg | L26: 1 | M26: 0.1 | N26: 3.60804 | O26: =N26*(1+M26)/L26 -> 3.968844 | P26: 4.6251742 | Q26: =P26*(1+$M26) -> 5.0876916 | R26: Metal | S26: Autre métal non-ferreux | T26: produit intermédiaire | U26: Zamak - alliage de zinc (ZnAlMgCu)
A27: 1 | B27: =IF(A27=1,MAX(B$18:B26)+1,"") -> 10 | C27: 1 | D27: =IF(C27=1,MAX(D$18:D26)+1,"") -> 10 | E27: 1 | F27: =IF(E27=1,MAX(F$18:F26)+1,"") -> 10 | G27: Métaux: Cuivre | H27: kg | I27: BaseEmpreinte | J27: c7177880-7394-406f-8488-348238061cdf | K27: kg | L27: 1 | M27: 0.1 | N27: 3.93143 | O27: =N27*(1+M27)/L27 -> 4.324573 | P27: 3.6461578 | Q27: =P27*(1+$M27) -> 4.0107736 | R27: Metal | S27: Autre métal non-ferreux | T27: produit intermédiaire | U27: Mix cuivre (99,999% issu de l'électrolyse)
A28: 1 | B28: =IF(A28=1,MAX(B$18:B27)+1,"") -> 11 | C28: 1 | D28: =IF(C28=1,MAX(D$18:D27)+1,"") -> 11 | E28: 1 | F28: =IF(E28=1,MAX(F$18:F27)+1,"") -> 11 | G28: Métaux: Laiton (CuZn20) | H28: kg | I28: BaseEmpreinte | J28: 97d697dd-0f27-49b6-a8f5-d9b35705ab28 | K28: kg | L28: 1 | M28: 0 | N28: 0.602027 | O28: =N28*(1+M28)/L28 -> 0.602027 | P28: 0.73167259 | Q28: =P28*(1+$M28) -> 0.73167259 | R28: Metal | S28: Autre métal non-ferreux | T28: produit intermédiaire | U28: Laiton (CuZn20)
A29: 1 | B29: =IF(A29=1,MAX(B$18:B28)+1,"") -> 12 | C29: 1 | D29: =IF(C29=1,MAX(D$18:D28)+1,"") -> 12 | E29: 1 | F29: =IF(E29=1,MAX(F$18:F28)+1,"") -> 12 | G29: Plastiques: Polypropylene (PP) | H29: kg | I29: BaseEmpreinte | J29: 62d97409-d9ae-4242-9967-ba8cd14c4bb3 | K29: kg | L29: 1 | M29: 0.02 | N29: 2.03295 | O29: =N29*(1+M29)/L29 -> 2.073609 | P29: 0.15395386 | Q29: =P29*(1+$M29) -> 0.15703294 | R29: Plastique | S29: Polymère de propylène | T29: Produit intermédiaire | U29: Polypropylène, granulés (PP), RER
A30: 1 | B30: =IF(A30=1,MAX(B$18:B28)+1,"") -> 12 | C30: 1 | D30: =IF(C30=1,MAX(D$18:D28)+1,"") -> 12 | E30: 1 | F30: =IF(E30=1,MAX(F$18:F28)+1,"") -> 12 | G30: Plastiques: Polyuréthane (PU) mousse souple | H30: kg | I30: BaseEmpreinte | J30: 0dedb5b8-eead-4035-9558-b567318b1eef | K30: kg | L30: 1 | M30: 0.02 | N30: 4.87384 | O30: =N30*(1+M30)/L30 -> 4.9713168 | P30: 0.34686378 | Q30: =P30*(1+$M30) -> 0.35380106 | R30: Plastique | S30: Autre plastique | T30: Produit intermédiaire | U30: Mousse flexible de polyuréthane (PU), RER
A31: 1 | B31: =IF(A31=1,MAX(B$18:B30)+1,"") -> 13 | C31: 1 | D31: =IF(C31=1,MAX(D$18:D30)+1,"") -> 13 | E31: 1 | F31: =IF(E31=1,MAX(F$18:F30)+1,"") -> 13 | G31: Plastiques: Polytéréphtalate de butylène (PBT) | H31: kg | I31: BaseEmpreinte | J31: 615938e0-029f-4cb2-8962-b81fd7f1b4b5 | K31: kg | L31: 1 | M31: 0.02 | N31: 3.07263 | O31: =N31*(1+M31)/L31 -> 3.1340826 | P31: 0.20979233 | Q31: =P31*(1+$M31) -> 0.21398818 | R31: Plastique | S31: Autre plastique | T31: Produit intermédiaire | U31: Résine de polyester insaturé (UP), RER
